BEGIN:VCALENDAR
VERSION:2.0
PRODID:-//KWHI.com - ECPv6.15.17.1//NONSGML v1.0//EN
CALSCALE:GREGORIAN
METHOD:PUBLISH
X-WR-CALNAME:KWHI.com
X-ORIGINAL-URL:https://kwhi.com
X-WR-CALDESC:Events for KWHI.com
REFRESH-INTERVAL;VALUE=DURATION:PT1H
X-Robots-Tag:noindex
X-PUBLISHED-TTL:PT1H
BEGIN:VTIMEZONE
TZID:America/Chicago
BEGIN:DAYLIGHT
TZOFFSETFROM:-0600
TZOFFSETTO:-0500
TZNAME:CDT
DTSTART:20210314T080000
END:DAYLIGHT
BEGIN:STANDARD
TZOFFSETFROM:-0500
TZOFFSETTO:-0600
TZNAME:CST
DTSTART:20211107T070000
END:STANDARD
BEGIN:DAYLIGHT
TZOFFSETFROM:-0600
TZOFFSETTO:-0500
TZNAME:CDT
DTSTART:20220313T080000
END:DAYLIGHT
BEGIN:STANDARD
TZOFFSETFROM:-0500
TZOFFSETTO:-0600
TZNAME:CST
DTSTART:20221106T070000
END:STANDARD
BEGIN:DAYLIGHT
TZOFFSETFROM:-0600
TZOFFSETTO:-0500
TZNAME:CDT
DTSTART:20230312T080000
END:DAYLIGHT
BEGIN:STANDARD
TZOFFSETFROM:-0500
TZOFFSETTO:-0600
TZNAME:CST
DTSTART:20231105T070000
END:STANDARD
END:VTIMEZONE
BEGIN:VEVENT
DTSTART;VALUE=DATE:20220106
DTEND;VALUE=DATE:20220107
DTSTAMP:20260423T064444
CREATED:20211122T210950Z
LAST-MODIFIED:20211122T210950Z
UID:221588-1641427200-1641513599@kwhi.com
SUMMARY:American Legion Quade-Werchan Post #338 and Ladies Auxiliary Meeting
DESCRIPTION:The monthly meeting for American Legion Quade-Werchan Post #338 and Ladies Auxiliary will be held on Thursday\, January 6\, 2022\, beginning at 7:30 PM.  During the January meeting the post will review updated financial information and discuss the assignment to the newly formed American Legion 19th District of Texas. \n 
URL:https://kwhi.com/event/american-legion-quade-werchan-post-338-and-ladies-auxiliary-meeting/
LOCATION:American Legion Hall Round Top\, 1503 N. State Hwy. 237\, Round Top\, TX\, 78954\, United States
CATEGORIES:Bulletin Board
ATTACH;FMTTYPE=image/jpeg:https://kwhi.com/wp-content/uploads/2021/11/american-legion.jpg
END:VEVENT
BEGIN:VEVENT
DTSTART;VALUE=DATE:20220106
DTEND;VALUE=DATE:20220107
DTSTAMP:20260423T064444
CREATED:20211222T151952Z
LAST-MODIFIED:20211222T151952Z
UID:223842-1641427200-1641513599@kwhi.com
SUMMARY:Brenham Next Benefit Concert
DESCRIPTION:
URL:https://kwhi.com/event/brenham-next-benefit-concert/
LOCATION:Silver Wings Ballroom\, 4100 Highway 105 \, Brenham\, TX\, 77833\, United States
CATEGORIES:Bulletin Board
ATTACH;FMTTYPE=image/jpeg:https://kwhi.com/wp-content/uploads/2021/12/jody-booth.jpg
END:VEVENT
END:VCALENDAR