BEGIN:VCALENDAR
VERSION:2.0
PRODID:-//KWHI.com - ECPv6.15.17.1//NONSGML v1.0//EN
CALSCALE:GREGORIAN
METHOD:PUBLISH
X-WR-CALNAME:KWHI.com
X-ORIGINAL-URL:https://kwhi.com
X-WR-CALDESC:Events for KWHI.com
REFRESH-INTERVAL;VALUE=DURATION:PT1H
X-Robots-Tag:noindex
X-PUBLISHED-TTL:PT1H
BEGIN:VTIMEZONE
TZID:America/Chicago
BEGIN:DAYLIGHT
TZOFFSETFROM:-0600
TZOFFSETTO:-0500
TZNAME:CDT
DTSTART:20210314T080000
END:DAYLIGHT
BEGIN:STANDARD
TZOFFSETFROM:-0500
TZOFFSETTO:-0600
TZNAME:CST
DTSTART:20211107T070000
END:STANDARD
BEGIN:DAYLIGHT
TZOFFSETFROM:-0600
TZOFFSETTO:-0500
TZNAME:CDT
DTSTART:20220313T080000
END:DAYLIGHT
BEGIN:STANDARD
TZOFFSETFROM:-0500
TZOFFSETTO:-0600
TZNAME:CST
DTSTART:20221106T070000
END:STANDARD
BEGIN:DAYLIGHT
TZOFFSETFROM:-0600
TZOFFSETTO:-0500
TZNAME:CDT
DTSTART:20230312T080000
END:DAYLIGHT
BEGIN:STANDARD
TZOFFSETFROM:-0500
TZOFFSETTO:-0600
TZNAME:CST
DTSTART:20231105T070000
END:STANDARD
END:VTIMEZONE
BEGIN:VEVENT
DTSTART;VALUE=DATE:20220109
DTEND;VALUE=DATE:20220110
DTSTAMP:20260420T045733
CREATED:20220104T211647Z
LAST-MODIFIED:20220104T211647Z
UID:224736-1641686400-1641772799@kwhi.com
SUMMARY:PFLAG Brenham Meeting
DESCRIPTION:PFLAG Brenham meeting on the second Sunday of each month at 5:30.  PFLAG is a support group form families\, friends and allies of the LGBTQ+ community\, for more information\, visit www.facebook.com/BrenhamPFLAG or send an email to pflagbrenham@gmail.com 
URL:https://kwhi.com/event/pflag-brenham-meeting/
LOCATION:TX\, United States
CATEGORIES:Bulletin Board
ATTACH;FMTTYPE=image/jpeg:https://kwhi.com/wp-content/uploads/2022/01/PFLAG-brenham-chapter.jpg
END:VEVENT
BEGIN:VEVENT
DTSTART;VALUE=DATE:20220313
DTEND;VALUE=DATE:20220314
DTSTAMP:20260420T045733
CREATED:20220223T150310Z
LAST-MODIFIED:20220223T150310Z
UID:228539-1647129600-1647215999@kwhi.com
SUMMARY:Well Church Conference at St. John's UCC-Burton
DESCRIPTION:Session 2 \nRegister by calling the Texas A&M AgriLife Extension Service of Washington County (979.277.6212\, ext. 3)\, St. John’s UCC church office (979.289.2485)\, or scanning the QR code printed below. Registration deadlines are March 9\, and March 23rd.
URL:https://kwhi.com/event/well-church-conference-at-st-johns-ucc-burton-2/
LOCATION:St. John’s United Church of Christ (Burton)\, 516 N. Colorado Street\, Burton\, 77835\, United States
CATEGORIES:Bulletin Board
ATTACH;FMTTYPE=image/png:https://kwhi.com/wp-content/uploads/2022/02/WellChurch-Flyer-with-QR-code.png
END:VEVENT
BEGIN:VEVENT
DTSTART;VALUE=DATE:20220306
DTEND;VALUE=DATE:20220307
DTSTAMP:20260420T045733
CREATED:20220303T212409Z
LAST-MODIFIED:20220303T212409Z
UID:229201-1646524800-1646611199@kwhi.com
SUMMARY:Sunday FunDay in Brenham and Washington County
DESCRIPTION:March through Springtime with Sunday FunDay  \nBrenham and Washington County are recognizing the advent of spring with a Sunday FunDay campaign with area businesses that begins March 6\, and concludes May 29\, 2022. \nMore than 75 shops\, restaurants\, museums\, attractions and entertainment venues have committed to having their doors open each Sunday during the three months of the Spring season to accommodate the large influx of visitors expected to the area. Adding to the search for wildflowers is the opportunity for visitors to experience Sunday FunDay and enjoy many of the interesting things to do in the county. \nBring the whole family\, even the furry members! Come explore a whole new world just waiting to be discovered. For more information\, visit https://visitbrenhamtexas.com/things/sundayfunday/ or contact the Washington County Visitor Center at 979-337-7580.
URL:https://kwhi.com/event/sunday-funday-in-brenham-and-washington-county/
LOCATION:TX\, United States
CATEGORIES:Bulletin Board
ATTACH;FMTTYPE=image/png:https://kwhi.com/wp-content/uploads/2022/03/visit-brenham.png
END:VEVENT
BEGIN:VEVENT
DTSTART;VALUE=DATE:20220313
DTEND;VALUE=DATE:20220316
DTSTAMP:20260420T045733
CREATED:20220311T211441Z
LAST-MODIFIED:20220311T212523Z
UID:230007-1647129600-1647388799@kwhi.com
SUMMARY:Pilot Club of Brenham Fundraiser-CASSEROLES
DESCRIPTION:Pilot Club of Brenham Fundraiser-CASSEROLES (created by Bake Shop at All Things Acres); taking orders for casseroles and fruit/berry cobbler through April 10th   place your orders with members of the Pilot Club of Brenham…orders must be picked up on April 26th @ Christ Lutheran Church\, between 4:30 – 6:30 (enter portico Carlee Dr.) \nPlace order by phone call 979 277-4949 (Judith Finke) payment method:  check\, cash or Venmo.  Inquire about placing orders for local First Responders!!! \nCasserole prices\n9 x 13 * $35 * chicken broccoli rice * chicken spaghetti * Dorito bake * lasagna\n8 x 8   * $25 * chicken broccoli rice * chicken spaghetti * Dorito bake * lasagna \n8 x 8   * $15 (fruit/berry cobbler) \n 
URL:https://kwhi.com/event/pilot-club-of-brenham-fundraiser-casseroles/
LOCATION:TX\, United States
CATEGORIES:Bulletin Board
ATTACH;FMTTYPE=image/png:https://kwhi.com/wp-content/uploads/2022/03/pilot-international.png
END:VEVENT
BEGIN:VEVENT
DTSTART;TZID=America/Chicago:20220313T140000
DTEND;TZID=America/Chicago:20220313T153000
DTSTAMP:20260420T045733
CREATED:20220302T183329Z
LAST-MODIFIED:20220302T183329Z
UID:229087-1647180000-1647185400@kwhi.com
SUMMARY:Goodwill MB Church (Hwy. 105) hosting Pastor & Wife Appreciation Celebration
DESCRIPTION:Goodwill Missionary Baptist Church (Hwy. 105) hosting an Appreciation Celebration for Pastor Kevin Mitchell & First Lady Minister\, Kenya Mitchell & family; Sunday\, March 13th\, at 2:00 p.m. – the guest speaker will be Rev. Max Toliver of the Mt. Zion Missionary Baptist Church in Huntsville\, the public is invited to attend \nTheme:  Honoring a Pastor who Demonstrates Faithful Stewardship to God through Preaching and Teaching.  \nI Timothy 5:  17
URL:https://kwhi.com/event/goodwill-mb-church-hwy-105-hosting-pastor-wife-appreciation-celebration/
LOCATION:Goodwill Missionary Baptist Church (Brenham)\, 9180 Highway 105\, Brenham\, TX\, 77833\, United States
CATEGORIES:Bulletin Board
ATTACH;FMTTYPE=image/jpeg:https://kwhi.com/wp-content/uploads/2022/03/goodwill-mbc.jpg
END:VEVENT
END:VCALENDAR