BEGIN:VCALENDAR
VERSION:2.0
PRODID:-//KWHI.com - ECPv6.15.17.1//NONSGML v1.0//EN
CALSCALE:GREGORIAN
METHOD:PUBLISH
X-ORIGINAL-URL:https://kwhi.com
X-WR-CALDESC:Events for KWHI.com
REFRESH-INTERVAL;VALUE=DURATION:PT1H
X-Robots-Tag:noindex
X-PUBLISHED-TTL:PT1H
BEGIN:VTIMEZONE
TZID:America/Chicago
BEGIN:DAYLIGHT
TZOFFSETFROM:-0600
TZOFFSETTO:-0500
TZNAME:CDT
DTSTART:20210314T080000
END:DAYLIGHT
BEGIN:STANDARD
TZOFFSETFROM:-0500
TZOFFSETTO:-0600
TZNAME:CST
DTSTART:20211107T070000
END:STANDARD
BEGIN:DAYLIGHT
TZOFFSETFROM:-0600
TZOFFSETTO:-0500
TZNAME:CDT
DTSTART:20220313T080000
END:DAYLIGHT
BEGIN:STANDARD
TZOFFSETFROM:-0500
TZOFFSETTO:-0600
TZNAME:CST
DTSTART:20221106T070000
END:STANDARD
BEGIN:DAYLIGHT
TZOFFSETFROM:-0600
TZOFFSETTO:-0500
TZNAME:CDT
DTSTART:20230312T080000
END:DAYLIGHT
BEGIN:STANDARD
TZOFFSETFROM:-0500
TZOFFSETTO:-0600
TZNAME:CST
DTSTART:20231105T070000
END:STANDARD
END:VTIMEZONE
BEGIN:VEVENT
DTSTART;VALUE=DATE:20220422
DTEND;VALUE=DATE:20220425
DTSTAMP:20260423T172306
CREATED:20220316T191914Z
LAST-MODIFIED:20220316T191914Z
UID:230390-1650585600-1650844799@kwhi.com
SUMMARY:Vintage Market Days presents "Road Trip"
DESCRIPTION:Vintage Market Days is an upscale vintage-inspired market featuring original art\, antiques\, clothing\, jewelry\, handmade treasures\, home décor\, outdoor furnishings consumable yummies\, seasonal plantings and a little more. The Market is a three day event held several times a year in various communities. Each Vintage Market Days event is a unique opportunity for vendors to display their talents and passions in different venues.
URL:https://kwhi.com/event/vintage-market-days-presents-road-trip/
LOCATION:Waller County Fairgrounds\, 21988 FM-359\, Hempstead\, TX\, 77445\, United States
CATEGORIES:Bulletin Board
ATTACH;FMTTYPE=image/jpeg:https://kwhi.com/wp-content/uploads/2022/03/vintage-market-days-APRIL.jpg
END:VEVENT
BEGIN:VEVENT
DTSTART;VALUE=DATE:20220422
DTEND;VALUE=DATE:20220507
DTSTAMP:20260423T172306
CREATED:20220422T195128Z
LAST-MODIFIED:20220422T195128Z
UID:233035-1650585600-1651881599@kwhi.com
SUMMARY:Maifest Coronation Tickets on Sale to the Public
DESCRIPTION:Maifest: The Oldest Festival in Texas! \nJoin us for this year's celebration on May 6th & 7th \nMaifest Coronation tickets will go on sale to the public at 7am\, Friday\, April 22\, 2022.  \n*Please note: tickets for each coronation are sold separately. To purchase tickets for both coronations\, please click the Senior tickets button first and make your purchase\, then click the Junior tickets button and make your purchase. \nAll sales are final. No refunds will be given for any reason. \nSenior Maifest Tickets \n2022 Senior Maifest Coronation of Queen Moli Ragonis & King Blake Jones \nJunior Maifest Tickets \n2022 Junior Maifest Coronation of Queen Talyn Sulik & King Evan Dippel \nCoronation tickets will only be sold online at www.brenhammaifest.com\, and will not be sold at the gate.  This year’s Junior Coronation will be held Friday\, May 6th\, with the Senior Coronation following on Saturday\, May 7th.
URL:https://kwhi.com/event/maifest-coronation-tickets-on-sale-to-the-public/
LOCATION:TX\, United States
CATEGORIES:Bulletin Board
ATTACH;FMTTYPE=image/jpeg:https://kwhi.com/wp-content/uploads/2022/04/maifest-clip-art.jpg
END:VEVENT
BEGIN:VEVENT
DTSTART;VALUE=DATE:20220306
DTEND;VALUE=DATE:20220307
DTSTAMP:20260423T172306
CREATED:20220303T212409Z
LAST-MODIFIED:20220303T212409Z
UID:229201-1646524800-1646611199@kwhi.com
SUMMARY:Sunday FunDay in Brenham and Washington County
DESCRIPTION:March through Springtime with Sunday FunDay  \nBrenham and Washington County are recognizing the advent of spring with a Sunday FunDay campaign with area businesses that begins March 6\, and concludes May 29\, 2022. \nMore than 75 shops\, restaurants\, museums\, attractions and entertainment venues have committed to having their doors open each Sunday during the three months of the Spring season to accommodate the large influx of visitors expected to the area. Adding to the search for wildflowers is the opportunity for visitors to experience Sunday FunDay and enjoy many of the interesting things to do in the county. \nBring the whole family\, even the furry members! Come explore a whole new world just waiting to be discovered. For more information\, visit https://visitbrenhamtexas.com/things/sundayfunday/ or contact the Washington County Visitor Center at 979-337-7580.
URL:https://kwhi.com/event/sunday-funday-in-brenham-and-washington-county/
LOCATION:TX\, United States
CATEGORIES:Bulletin Board
ATTACH;FMTTYPE=image/png:https://kwhi.com/wp-content/uploads/2022/03/visit-brenham.png
END:VEVENT
BEGIN:VEVENT
DTSTART;VALUE=DATE:20220424
DTEND;VALUE=DATE:20220425
DTSTAMP:20260423T172306
CREATED:20220317T210415Z
LAST-MODIFIED:20220317T210415Z
UID:230467-1650758400-1650844799@kwhi.com
SUMMARY:19th Annual Fruehling Saengerfest (German Spring Singing Fest)
DESCRIPTION:
URL:https://kwhi.com/event/19th-annual-fruehling-saengerfest-german-spring-singing-fest/
LOCATION:Concordia Hall\, 925 South Tesch Street\, Bellville\, TX\, 77418\, United States
CATEGORIES:Bulletin Board
ATTACH;FMTTYPE=image/jpeg:https://kwhi.com/wp-content/uploads/2022/03/german-signing-fest-22.jpg
END:VEVENT
BEGIN:VEVENT
DTSTART;VALUE=DATE:20220424
DTEND;VALUE=DATE:20220425
DTSTAMP:20260423T172306
CREATED:20220406T205527Z
LAST-MODIFIED:20220406T205527Z
UID:231976-1650758400-1650844799@kwhi.com
SUMMARY:7th Annual Soul Cafe Church 5K Fun Run & Crawfish Boil
DESCRIPTION:
URL:https://kwhi.com/event/7th-annual-soul-cafe-church-5k-fun-run-crawfish-boil/
LOCATION:Ledbetter Community Center\, 301 West Labadie Street\, Ledbetter\, TX\, 78946\, United States
CATEGORIES:Bulletin Board
ATTACH;FMTTYPE=image/png:https://kwhi.com/wp-content/uploads/2022/04/soul-cafe-fundraiser.png
END:VEVENT
BEGIN:VEVENT
DTSTART;VALUE=DATE:20220424
DTEND;VALUE=DATE:20220425
DTSTAMP:20260423T172306
CREATED:20220412T142458Z
LAST-MODIFIED:20220412T142458Z
UID:232290-1650758400-1650844799@kwhi.com
SUMMARY:Gay Hill-Mound Hill-Cedar Hill VFD Fundraiser
DESCRIPTION:Meal tickets $15 Advance - $17.00 at the Door\nMeal Tickets & Prize Drawing Tickets Available from Fire Department Members\, Brenham Repair Center and LeRoy Schroeder Contractor\nThank you for your support!!!
URL:https://kwhi.com/event/gay-hill-mound-hill-cedar-hill-vfd-fundraiser/
LOCATION:Gay Hill Fire Station\, 7500 Old Gay Hill Road\, Brenham\, TX\, 77833\, United States
CATEGORIES:Bulletin Board
ATTACH;FMTTYPE=image/jpeg:https://kwhi.com/wp-content/uploads/2022/04/GH-MH-CH-VFD-fundraiser.jpg
END:VEVENT
BEGIN:VEVENT
DTSTART;VALUE=DATE:20220424
DTEND;VALUE=DATE:20220425
DTSTAMP:20260423T172306
CREATED:20220420T173513Z
LAST-MODIFIED:20220420T173513Z
UID:232894-1650758400-1650844799@kwhi.com
SUMMARY:Blue Sunday-Night of Prayer for the Abused and Neglected Children
DESCRIPTION:April is Child Abuse Prevention Month\, and to remember the millions of children who are victims of abuse/neglect\, Blue Sunday Child Abuse Prevention is asking the faith community to pray on Sunday\, April 24\, 2024. \n​Who: The faith community\nWhat: A day to pray for the millions of victims of child abuse and for those who rescue them\nWhere: Churches across our nation\nWhen: Sunday\, April 24\, 2022 \nWhy:  April is Child Abuse Prevention Month. It began when a report about abused and neglected children caught the attention of President Ronald Reagan in 1983. Sadly\, since that first Child Abuse Prevention Month\, the number of abused victims has grown from half a million children to over six million new reports of abuse along with 1600 child abuse related deaths annually. \nOne is too many
URL:https://kwhi.com/event/blue-sunday-night-of-prayer-for-the-abused-and-neglected-children/
LOCATION:Washington County Courthouse\, 100 East Main Street\, Brenham\, TX\, 77833\, United States
CATEGORIES:Bulletin Board
ATTACH;FMTTYPE=image/jpeg:https://kwhi.com/wp-content/uploads/2022/04/blue-sunday.jpg
END:VEVENT
BEGIN:VEVENT
DTSTART;VALUE=DATE:20220424
DTEND;VALUE=DATE:20220425
DTSTAMP:20260423T172306
CREATED:20220428T134030Z
LAST-MODIFIED:20220428T135316Z
UID:233450-1650758400-1650844799@kwhi.com
SUMMARY:Brenham ISD Parents-Order Your School Supplies Online
DESCRIPTION:
URL:https://kwhi.com/event/brenham-isd-parents-order-your-school-supplies-online/
LOCATION:TX\, United States
CATEGORIES:Bulletin Board
ATTACH;FMTTYPE=image/png:https://kwhi.com/wp-content/uploads/2022/04/bisd-supplies-on-line-1.png
END:VEVENT
END:VCALENDAR