BEGIN:VCALENDAR
VERSION:2.0
PRODID:-//KWHI.com - ECPv6.15.17.1//NONSGML v1.0//EN
CALSCALE:GREGORIAN
METHOD:PUBLISH
X-WR-CALNAME:KWHI.com
X-ORIGINAL-URL:https://kwhi.com
X-WR-CALDESC:Events for KWHI.com
REFRESH-INTERVAL;VALUE=DURATION:PT1H
X-Robots-Tag:noindex
X-PUBLISHED-TTL:PT1H
BEGIN:VTIMEZONE
TZID:America/Chicago
BEGIN:DAYLIGHT
TZOFFSETFROM:-0600
TZOFFSETTO:-0500
TZNAME:CDT
DTSTART:20210314T080000
END:DAYLIGHT
BEGIN:STANDARD
TZOFFSETFROM:-0500
TZOFFSETTO:-0600
TZNAME:CST
DTSTART:20211107T070000
END:STANDARD
BEGIN:DAYLIGHT
TZOFFSETFROM:-0600
TZOFFSETTO:-0500
TZNAME:CDT
DTSTART:20220313T080000
END:DAYLIGHT
BEGIN:STANDARD
TZOFFSETFROM:-0500
TZOFFSETTO:-0600
TZNAME:CST
DTSTART:20221106T070000
END:STANDARD
BEGIN:DAYLIGHT
TZOFFSETFROM:-0600
TZOFFSETTO:-0500
TZNAME:CDT
DTSTART:20230312T080000
END:DAYLIGHT
BEGIN:STANDARD
TZOFFSETFROM:-0500
TZOFFSETTO:-0600
TZNAME:CST
DTSTART:20231105T070000
END:STANDARD
END:VTIMEZONE
BEGIN:VEVENT
DTSTART;VALUE=DATE:20220422
DTEND;VALUE=DATE:20220507
DTSTAMP:20260422T094526
CREATED:20220422T195128Z
LAST-MODIFIED:20220422T195128Z
UID:233035-1650585600-1651881599@kwhi.com
SUMMARY:Maifest Coronation Tickets on Sale to the Public
DESCRIPTION:Maifest: The Oldest Festival in Texas! \nJoin us for this year's celebration on May 6th & 7th \nMaifest Coronation tickets will go on sale to the public at 7am\, Friday\, April 22\, 2022.  \n*Please note: tickets for each coronation are sold separately. To purchase tickets for both coronations\, please click the Senior tickets button first and make your purchase\, then click the Junior tickets button and make your purchase. \nAll sales are final. No refunds will be given for any reason. \nSenior Maifest Tickets \n2022 Senior Maifest Coronation of Queen Moli Ragonis & King Blake Jones \nJunior Maifest Tickets \n2022 Junior Maifest Coronation of Queen Talyn Sulik & King Evan Dippel \nCoronation tickets will only be sold online at www.brenhammaifest.com\, and will not be sold at the gate.  This year’s Junior Coronation will be held Friday\, May 6th\, with the Senior Coronation following on Saturday\, May 7th.
URL:https://kwhi.com/event/maifest-coronation-tickets-on-sale-to-the-public/
LOCATION:TX\, United States
CATEGORIES:Bulletin Board
ATTACH;FMTTYPE=image/jpeg:https://kwhi.com/wp-content/uploads/2022/04/maifest-clip-art.jpg
END:VEVENT
BEGIN:VEVENT
DTSTART;VALUE=DATE:20220429
DTEND;VALUE=DATE:20220515
DTSTAMP:20260422T094526
CREATED:20220429T143859Z
LAST-MODIFIED:20220429T143859Z
UID:233619-1651190400-1652572799@kwhi.com
SUMMARY:Accepting Registrations for Bridge Summer Day Camp
DESCRIPTION:Burton Bridge Ministry is accepting registrations for our Bridge Summer Day Camp\, scheduled for June 20-24. Pick up a registration form at Burton Elementary\, or download one at https://burtonbridgeministry.org/gallery/BridgeSummerDayCamp2022.pdf
URL:https://kwhi.com/event/accepting-registrations-for-bridge-summer-day-camp/
LOCATION:TX\, United States
CATEGORIES:Bulletin Board
ATTACH;FMTTYPE=image/jpeg:https://kwhi.com/wp-content/uploads/2022/04/burton-bridge-ministry-summer-camp.jpg
END:VEVENT
BEGIN:VEVENT
DTSTART;VALUE=DATE:20220105
DTEND;VALUE=DATE:20220106
DTSTAMP:20260422T094526
CREATED:20220105T152012Z
LAST-MODIFIED:20220105T152012Z
UID:224827-1641340800-1641427199@kwhi.com
SUMMARY:Day-Tripping in Chappell Hill Texas
DESCRIPTION:
URL:https://kwhi.com/event/day-tripping-in-chappell-hill-texas/
LOCATION:Downtown Chappell Hill\, Main Street\, Chappell Hill\, TX\, 77426\, United States
CATEGORIES:Bulletin Board
ATTACH;FMTTYPE=image/png:https://kwhi.com/wp-content/uploads/2022/01/chappell-hill.png
END:VEVENT
BEGIN:VEVENT
DTSTART;VALUE=DATE:20220505
DTEND;VALUE=DATE:20220506
DTSTAMP:20260422T094526
CREATED:20220502T152638Z
LAST-MODIFIED:20220502T152638Z
UID:233812-1651708800-1651795199@kwhi.com
SUMMARY:American Legion Quade-Werchan Post 338 and Ladies Auxiliary Meeting
DESCRIPTION:American Legion Quade-Werchan Post 338 and Ladies Auxiliary meeting\, is Thursday\, May 5\, beginning at 6:30 at the American Legion Hall
URL:https://kwhi.com/event/american-legion-quade-werchan-post-338-and-ladies-auxiliary-meeting-2/
LOCATION:American Legion Hall Round Top\, 1503 N. State Hwy. 237\, Round Top\, TX\, 78954\, United States
CATEGORIES:Bulletin Board
ATTACH;FMTTYPE=image/png:https://kwhi.com/wp-content/uploads/2022/05/american-legion-family.png
END:VEVENT
BEGIN:VEVENT
DTSTART;VALUE=DATE:20220505
DTEND;VALUE=DATE:20220508
DTSTAMP:20260422T094526
CREATED:20220503T142903Z
LAST-MODIFIED:20220504T132358Z
UID:233897-1651708800-1651967999@kwhi.com
SUMMARY:Brenham Maifest 2022
DESCRIPTION:
URL:https://kwhi.com/event/maifest-2022/
LOCATION:City of Brenham Fireman’s Park\, 901 N. Park Street\, Brenham\, TX\, 77833\, United States
CATEGORIES:Bulletin Board
ATTACH;FMTTYPE=image/jpeg:https://kwhi.com/wp-content/uploads/2022/05/Maifest-Event-Schedule-674x1024-1.jpg
END:VEVENT
BEGIN:VEVENT
DTSTART;TZID=America/Chicago:20220505T120000
DTEND;TZID=America/Chicago:20220505T130000
DTSTAMP:20260422T094526
CREATED:20220429T173939Z
LAST-MODIFIED:20220429T174302Z
UID:233648-1651752000-1651755600@kwhi.com
SUMMARY:National Day of Prayer Observed in Washington County
DESCRIPTION:
URL:https://kwhi.com/event/national-day-of-prayer-observed/
LOCATION:Washington County Courthouse Gazebo\, 100 E. Main Street\, Brenham\, TX\, 77833\, United States
CATEGORIES:Bulletin Board
ATTACH;FMTTYPE=image/jpeg:https://kwhi.com/wp-content/uploads/2022/04/ntl-day-of-prayer-MAY.jpg
END:VEVENT
BEGIN:VEVENT
DTSTART;TZID=America/Chicago:20220505T180000
DTEND;TZID=America/Chicago:20220505T190000
DTSTAMP:20260422T094526
CREATED:20220425T143501Z
LAST-MODIFIED:20220425T143937Z
UID:233135-1651773600-1651777200@kwhi.com
SUMMARY:Bread Partners of Washington County Night Pantry
DESCRIPTION:
URL:https://kwhi.com/event/bread-partners-of-washington-county-night-pantry/
LOCATION:St. Mary Immaculate Conception Catholic Church (Brenham)\, 701 Church Street\, Brenham\, TX\, 77833\, United States
CATEGORIES:Bulletin Board
ATTACH;FMTTYPE=image/png:https://kwhi.com/wp-content/uploads/2022/04/bread-partners-thurs-night.png
END:VEVENT
END:VCALENDAR