BEGIN:VCALENDAR
VERSION:2.0
PRODID:-//KWHI.com - ECPv6.15.17.1//NONSGML v1.0//EN
CALSCALE:GREGORIAN
METHOD:PUBLISH
X-ORIGINAL-URL:https://kwhi.com
X-WR-CALDESC:Events for KWHI.com
REFRESH-INTERVAL;VALUE=DURATION:PT1H
X-Robots-Tag:noindex
X-PUBLISHED-TTL:PT1H
BEGIN:VTIMEZONE
TZID:America/Chicago
BEGIN:DAYLIGHT
TZOFFSETFROM:-0600
TZOFFSETTO:-0500
TZNAME:CDT
DTSTART:20210314T080000
END:DAYLIGHT
BEGIN:STANDARD
TZOFFSETFROM:-0500
TZOFFSETTO:-0600
TZNAME:CST
DTSTART:20211107T070000
END:STANDARD
BEGIN:DAYLIGHT
TZOFFSETFROM:-0600
TZOFFSETTO:-0500
TZNAME:CDT
DTSTART:20220313T080000
END:DAYLIGHT
BEGIN:STANDARD
TZOFFSETFROM:-0500
TZOFFSETTO:-0600
TZNAME:CST
DTSTART:20221106T070000
END:STANDARD
BEGIN:DAYLIGHT
TZOFFSETFROM:-0600
TZOFFSETTO:-0500
TZNAME:CDT
DTSTART:20230312T080000
END:DAYLIGHT
BEGIN:STANDARD
TZOFFSETFROM:-0500
TZOFFSETTO:-0600
TZNAME:CST
DTSTART:20231105T070000
END:STANDARD
END:VTIMEZONE
BEGIN:VEVENT
DTSTART;VALUE=DATE:20220531
DTEND;VALUE=DATE:20220603
DTSTAMP:20260424T193129
CREATED:20220506T151010Z
LAST-MODIFIED:20220506T151010Z
UID:234198-1653955200-1654214399@kwhi.com
SUMMARY:2022 BMGA Kids Kamp
DESCRIPTION:BMGA is pleased to announce their 5th year of holding Kids’ Kamps in Washington\, Colorado\, Fayette\, and Austin Counties\, this program provides a “hands on” introduction to the fun and importance of gardening\, soils\, water conservation\, and insects\, students will complete take home projects including a bee house to attract pollinators to their own yards\, taught by Bluebonnet Master Gardeners\, Kids’ Kamp promotes a love of gardening and an appreciation of our environment. Kamps run for 3 days (Tuesday-Thursday) from 8:00 am to 12:00 pm (noon). Registration forms can be obtained at the AgriLife Extension offices in each county or online at https://txmg.org/bluebonnet/kidskamp/. The deadline for registration is Friday\, May 20\, 2022. 
URL:https://kwhi.com/event/2022-bmga-kids-kamp/
LOCATION:TX\, United States
CATEGORIES:Bulletin Board
ATTACH;FMTTYPE=image/jpeg:https://kwhi.com/wp-content/uploads/2022/05/BMGA-kids-kamp.jpg
END:VEVENT
BEGIN:VEVENT
DTSTART;VALUE=DATE:20220602
DTEND;VALUE=DATE:20220603
DTSTAMP:20260424T193129
CREATED:20220505T200924Z
LAST-MODIFIED:20220505T200924Z
UID:234110-1654128000-1654214399@kwhi.com
SUMMARY:Republican Club of Washington County presents Candidate Forum/Picnic
DESCRIPTION:
URL:https://kwhi.com/event/republican-club-of-washington-county-presents-candidate-forum-picnic/
LOCATION:City of Brenham Fireman’s Park\, 901 N. Park Street\, Brenham\, TX\, 77833\, United States
CATEGORIES:Bulletin Board
ATTACH;FMTTYPE=image/png:https://kwhi.com/wp-content/uploads/2022/05/republican-club-picnic.png
END:VEVENT
BEGIN:VEVENT
DTSTART;VALUE=DATE:20220602
DTEND;VALUE=DATE:20220603
DTSTAMP:20260424T193129
CREATED:20220523T202144Z
LAST-MODIFIED:20220523T202144Z
UID:235710-1654128000-1654214399@kwhi.com
SUMMARY:Washington County Chamber Ribbon Cutting Event for The Original Texana
DESCRIPTION:Ribbon Cutting – New Member\nThe Original Texana\n5000 Krueger Rd.\, Washington - Thursday\, June 2 at 4:00 p.m. \nRibbon Cutting – New Member\nJ’Allure Medispa\n105 E. Main Street\, Brenham - Thursday\, June 9 at 3:00 p.m. \nRibbon Cutting - Open House\nBrenham Nursing & Rehabilitation Center\n400 E. Sayles St.\, Brenham - Wednesday\, June 15 at 3:00 p.m. \nRibbon Cutting – New Member\nCross Country Mortgage-The Chris Planto Team\nChamber Conference Room 314 S. Austin St. - Friday\, June 17 at 10:00 a.m.
URL:https://kwhi.com/event/washington-county-chamber-ribbon-cutting-event-for-the-original-texana/
LOCATION:The Original Texana\, 5000 Krueger Rd.\, Washington\, TX\, 77880\, United States
CATEGORIES:Bulletin Board
ATTACH;FMTTYPE=image/jpeg:https://kwhi.com/wp-content/uploads/2022/05/coc-washington-county-ribbon-cutting.jpg
END:VEVENT
BEGIN:VEVENT
DTSTART;TZID=America/Chicago:20220505T180000
DTEND;TZID=America/Chicago:20220505T190000
DTSTAMP:20260424T193129
CREATED:20220425T143501Z
LAST-MODIFIED:20220425T143937Z
UID:233135-1651773600-1651777200@kwhi.com
SUMMARY:Bread Partners of Washington County Night Pantry
DESCRIPTION:
URL:https://kwhi.com/event/bread-partners-of-washington-county-night-pantry/
LOCATION:St. Mary Immaculate Conception Catholic Church (Brenham)\, 701 Church Street\, Brenham\, TX\, 77833\, United States
CATEGORIES:Bulletin Board
ATTACH;FMTTYPE=image/png:https://kwhi.com/wp-content/uploads/2022/04/bread-partners-thurs-night.png
END:VEVENT
END:VCALENDAR