BEGIN:VCALENDAR
VERSION:2.0
PRODID:-//KWHI.com - ECPv6.15.17.1//NONSGML v1.0//EN
CALSCALE:GREGORIAN
METHOD:PUBLISH
X-WR-CALNAME:KWHI.com
X-ORIGINAL-URL:https://kwhi.com
X-WR-CALDESC:Events for KWHI.com
REFRESH-INTERVAL;VALUE=DURATION:PT1H
X-Robots-Tag:noindex
X-PUBLISHED-TTL:PT1H
BEGIN:VTIMEZONE
TZID:America/Chicago
BEGIN:DAYLIGHT
TZOFFSETFROM:-0600
TZOFFSETTO:-0500
TZNAME:CDT
DTSTART:20210314T080000
END:DAYLIGHT
BEGIN:STANDARD
TZOFFSETFROM:-0500
TZOFFSETTO:-0600
TZNAME:CST
DTSTART:20211107T070000
END:STANDARD
BEGIN:DAYLIGHT
TZOFFSETFROM:-0600
TZOFFSETTO:-0500
TZNAME:CDT
DTSTART:20220313T080000
END:DAYLIGHT
BEGIN:STANDARD
TZOFFSETFROM:-0500
TZOFFSETTO:-0600
TZNAME:CST
DTSTART:20221106T070000
END:STANDARD
BEGIN:DAYLIGHT
TZOFFSETFROM:-0600
TZOFFSETTO:-0500
TZNAME:CDT
DTSTART:20230312T080000
END:DAYLIGHT
BEGIN:STANDARD
TZOFFSETFROM:-0500
TZOFFSETTO:-0600
TZNAME:CST
DTSTART:20231105T070000
END:STANDARD
END:VTIMEZONE
BEGIN:VEVENT
DTSTART;VALUE=DATE:20220715
DTEND;VALUE=DATE:20220816
DTSTAMP:20260423T042339
CREATED:20220715T140309Z
LAST-MODIFIED:20220715T140309Z
UID:239434-1657843200-1660607999@kwhi.com
SUMMARY:Summer Senior Fan Drive
DESCRIPTION:
URL:https://kwhi.com/event/summer-senior-fan-drive/
LOCATION:Brenham Nursing and Rehabilitation Center\, 400 E. Sayles St.\, Brenham\, TX\, 77833\, United States
CATEGORIES:Bulletin Board
ATTACH;FMTTYPE=image/jpeg:https://kwhi.com/wp-content/uploads/2022/07/BNRC-Summer-Fan-Drive-2022-Flyer-1.jpg
END:VEVENT
BEGIN:VEVENT
DTSTART;VALUE=DATE:20220801
DTEND;VALUE=DATE:20220806
DTSTAMP:20260423T042339
CREATED:20220728T200923Z
LAST-MODIFIED:20220728T200923Z
UID:240529-1659312000-1659743999@kwhi.com
SUMMARY:Summer Feeding Program
DESCRIPTION:
URL:https://kwhi.com/event/summer-feeding-program/
LOCATION:City of Brenham Henderson Park\, 804 Old N. Market Street\, Brenham\, TX\, 77833\, United States
CATEGORIES:Bulletin Board
ATTACH;FMTTYPE=image/jpeg:https://kwhi.com/wp-content/uploads/2022/07/Summer-Feeding-flyer-2022.jpg
END:VEVENT
BEGIN:VEVENT
DTSTART;VALUE=DATE:20220801
DTEND;VALUE=DATE:20220901
DTSTAMP:20260423T042339
CREATED:20220621T210539Z
LAST-MODIFIED:20220621T210539Z
UID:237762-1659312000-1661990399@kwhi.com
SUMMARY:Austin County Hay Show & Fall Forage Seminar
DESCRIPTION:
URL:https://kwhi.com/event/austin-county-hay-show-fall-forage-seminar-3/
LOCATION:TX
CATEGORIES:Bulletin Board
ATTACH;FMTTYPE=image/jpeg:https://kwhi.com/wp-content/uploads/2022/06/Hay-show-Fall-Forage-Seminar.jpg
END:VEVENT
BEGIN:VEVENT
DTSTART;VALUE=DATE:20220105
DTEND;VALUE=DATE:20220106
DTSTAMP:20260423T042339
CREATED:20220105T152012Z
LAST-MODIFIED:20220105T152012Z
UID:224827-1641340800-1641427199@kwhi.com
SUMMARY:Day-Tripping in Chappell Hill Texas
DESCRIPTION:
URL:https://kwhi.com/event/day-tripping-in-chappell-hill-texas/
LOCATION:Downtown Chappell Hill\, Main Street\, Chappell Hill\, TX\, 77426\, United States
CATEGORIES:Bulletin Board
ATTACH;FMTTYPE=image/png:https://kwhi.com/wp-content/uploads/2022/01/chappell-hill.png
END:VEVENT
BEGIN:VEVENT
DTSTART;VALUE=DATE:20220805
DTEND;VALUE=DATE:20220806
DTSTAMP:20260423T042339
CREATED:20220504T135053Z
LAST-MODIFIED:20220504T135053Z
UID:233976-1659657600-1659743999@kwhi.com
SUMMARY:Floats-n-Flicks Movie at Blue Bell Aquatic Center
DESCRIPTION:
URL:https://kwhi.com/event/floats-n-flicks-movie-at-blue-bell-aquatic-center/
LOCATION:Blue Bell Aquatic Center\, 1800 East Tom Green\, Brenham\, TX\, 77833\, United States
CATEGORIES:Bulletin Board
ATTACH;FMTTYPE=image/jpeg:https://kwhi.com/wp-content/uploads/2022/05/movie-in-the-park-22.jpg
END:VEVENT
BEGIN:VEVENT
DTSTART;VALUE=DATE:20220805
DTEND;VALUE=DATE:20220806
DTSTAMP:20260423T042339
CREATED:20220721T204419Z
LAST-MODIFIED:20220721T204419Z
UID:240011-1659657600-1659743999@kwhi.com
SUMMARY:Washington County Chamber Ribbon Cutting for Uptown Rootz Salon
DESCRIPTION:New Member\nUptown Rootz Salon\n123 W. Alamo\, Brenham - Friday\, August 5 at 2:00 p.m. \n  \nGrand Opening \nPrairie Lea Hall-The Blinn College-Brenham Campus \n911 W. 5th Street\, Brenham \nTuesday\, August 9 at 11:00 a.m.
URL:https://kwhi.com/event/washington-county-chamber-ribbon-cutting-for-uptown-rootz-salon/
LOCATION:TX
CATEGORIES:Bulletin Board
ATTACH;FMTTYPE=image/jpeg:https://kwhi.com/wp-content/uploads/2022/07/coc-washington-county-ribbon-cutting.jpg
END:VEVENT
BEGIN:VEVENT
DTSTART;VALUE=DATE:20220805
DTEND;VALUE=DATE:20220806
DTSTAMP:20260423T042339
CREATED:20220725T183744Z
LAST-MODIFIED:20220725T183744Z
UID:240209-1659657600-1659743999@kwhi.com
SUMMARY:VFW Post 7104 Steak Supper
DESCRIPTION:James F. Dillon VFW Post 7104 will be having a sirloin steak and pork sausage supper on Friday\, August 5th\, serving starting at 7:00\, call 979 203-5586\, 979 277-5061 to make reservation by 3:00pm on the date of the meal – or call the post home at 979 830-8776 (leave a message)\, the public is invited to attend
URL:https://kwhi.com/event/vfw-post-7104-steak-supper-15/
LOCATION:James F. Dillion VFW Post 7104\, 1200 East Tom Green\, Brenham\, TX\, 77833\, United States
CATEGORIES:Bulletin Board
ATTACH;FMTTYPE=image/jpeg:https://kwhi.com/wp-content/uploads/2022/07/vfw.jpg
END:VEVENT
BEGIN:VEVENT
DTSTART;VALUE=DATE:20220805
DTEND;VALUE=DATE:20220808
DTSTAMP:20260423T042339
CREATED:20220722T172808Z
LAST-MODIFIED:20220722T172808Z
UID:240065-1659657600-1659916799@kwhi.com
SUMMARY:Sales Tax Holiday
DESCRIPTION:The Comptroller encourages all taxpayers to support Texas businesses while saving money on tax-free purchases of most clothing\, footwear\, school supplies and backpacks (sold for less than $100) during the annual Tax-Free weekend. Qualifying items can be purchased tax free from a Texas store or from an online or catalog seller doing business in Texas. In most cases\, you do not need to give the seller an exemption certificate to buy qualifying items tax free. \nThis year’s sales tax holiday begins Friday\, Aug. 5\, and goes through midnight Sunday\, Aug. 7. \nThe sales tax exemption applies only to qualifying items you buy during the sales tax holiday. Items you buy before or after the sales tax holiday do not qualify for exemption\, and there is no tax refund.
URL:https://kwhi.com/event/sales-tax-holiday-4/
LOCATION:TX
CATEGORIES:Bulletin Board
ATTACH;FMTTYPE=image/jpeg:https://kwhi.com/wp-content/uploads/2022/07/sales-tax-holiday-1.jpg
END:VEVENT
BEGIN:VEVENT
DTSTART;TZID=America/Chicago:20220805T130000
DTEND;TZID=America/Chicago:20220805T170000
DTSTAMP:20260423T042339
CREATED:20211222T143821Z
LAST-MODIFIED:20211222T143821Z
UID:223834-1659704400-1659718800@kwhi.com
SUMMARY:Private Application Training
DESCRIPTION:If you plan on using a state limited use or state restricted use pesticide\, such as Grazon P+D\, 2 4-D\, Weedmaster\, etc.\, and need a license\, the Texas AgriLife Extension Service will be hosting several Private Applicator Training at the Austin County Extension Office. Books and study materials for the course may to be purchased ahead of time at the Extension Office for $40.00. A registration fee of $10.00 will be charged for the training. The registration fee will include the training and additional study materials. The training will begin at 1pm and conclude about 5pm\, on the following days: \n\nFriday\, August 5\, 2022\nThursday\, November 3\, 2022\n\nThe Texas Department of Agriculture who over sees the testing and administration of Applicator Licensing has contracted with PSI Services to administer the exam for agriculture pesticide applicator licensing. Applicants will coordinate testing with PSI at one of their 22 locations around Texas. Details on the process\, locations\, cost\, and other pertinent information will be provided at the training to help applicants complete the licensing process. Once an applicant has completed the training and pass the exam with a score of 70 or above\, they will you will be eligible to apply for your Private Applicator License\, which will allow you to purchase all state limited use and restricted use pesticides used in agriculture. \nImportant: If an applicant has any questions about licensing or exam categories\, please contact TDA at 1-800-835-5832 or 512-463-7622.  Texas Department of Agriculture – Agriculture Pesticide Program P.O. Box 12847 Austin\, TX 78711. \nIf you have any questions\, please contact the Texas A&M AgriLife Extension Agent Stacie Villarreal at 979-865-2072.
URL:https://kwhi.com/event/private-application-training-3/
LOCATION:Texas A&M AgriLife Extension Service (Austin County)\, 800 East Wendt\, Bellville\, TX\, 77418\, United States
CATEGORIES:Bulletin Board
ATTACH;FMTTYPE=image/png:https://kwhi.com/wp-content/uploads/2021/12/tx-am-agrilife-extension.png
END:VEVENT
BEGIN:VEVENT
DTSTART;TZID=America/Chicago:20220304T160000
DTEND;TZID=America/Chicago:20220304T190000
DTSTAMP:20260423T042339
CREATED:20220104T203738Z
LAST-MODIFIED:20220304T152739Z
UID:224726-1646409600-1646420400@kwhi.com
SUMMARY:Brenham Farmer & Artisan Market
DESCRIPTION:Join us on the First Friday of each month (excluding January) from 4:00 – 7:00 pm for the Brenham Farmer & Artisan Market featuring homegrown fresh foods and homemade products all right in the heart of Downtown Brenham \nRAIN OR SHINE on Baylor & Park Streets in Downtown Brenham! 
URL:https://kwhi.com/event/brenham-farmer-artisan-market-4-2022-03-04/
LOCATION:Downtown Brenham\, Brenham\, TX\, 77833\, United States
CATEGORIES:Bulletin Board
ATTACH;FMTTYPE=image/jpeg:https://kwhi.com/wp-content/uploads/2022/01/farmer-and-artisan-market-BRENHAM.jpg
END:VEVENT
END:VCALENDAR