BEGIN:VCALENDAR
VERSION:2.0
PRODID:-//KWHI.com - ECPv6.15.17.1//NONSGML v1.0//EN
CALSCALE:GREGORIAN
METHOD:PUBLISH
X-WR-CALNAME:KWHI.com
X-ORIGINAL-URL:https://kwhi.com
X-WR-CALDESC:Events for KWHI.com
REFRESH-INTERVAL;VALUE=DURATION:PT1H
X-Robots-Tag:noindex
X-PUBLISHED-TTL:PT1H
BEGIN:VTIMEZONE
TZID:America/Chicago
BEGIN:DAYLIGHT
TZOFFSETFROM:-0600
TZOFFSETTO:-0500
TZNAME:CDT
DTSTART:20210314T080000
END:DAYLIGHT
BEGIN:STANDARD
TZOFFSETFROM:-0500
TZOFFSETTO:-0600
TZNAME:CST
DTSTART:20211107T070000
END:STANDARD
BEGIN:DAYLIGHT
TZOFFSETFROM:-0600
TZOFFSETTO:-0500
TZNAME:CDT
DTSTART:20220313T080000
END:DAYLIGHT
BEGIN:STANDARD
TZOFFSETFROM:-0500
TZOFFSETTO:-0600
TZNAME:CST
DTSTART:20221106T070000
END:STANDARD
BEGIN:DAYLIGHT
TZOFFSETFROM:-0600
TZOFFSETTO:-0500
TZNAME:CDT
DTSTART:20230312T080000
END:DAYLIGHT
BEGIN:STANDARD
TZOFFSETFROM:-0500
TZOFFSETTO:-0600
TZNAME:CST
DTSTART:20231105T070000
END:STANDARD
END:VTIMEZONE
BEGIN:VEVENT
DTSTART;VALUE=DATE:20221001
DTEND;VALUE=DATE:20221101
DTSTAMP:20260423T003320
CREATED:20220926T185744Z
LAST-MODIFIED:20220926T185744Z
UID:245011-1664582400-1667260799@kwhi.com
SUMMARY:October Bible Drive
DESCRIPTION:October Bible Drive  \n If it’s Bible and not “gooey\,” it’s ok to give\, even parts of old Bibles \n Annual October Bible Drives since 1992; over 80 countries served \n English and native language Bibles are in great demand around the world \n Mail LIBRARY RATE to BF or take to a year round collection center \n Master collection centers ship Bibles around the world or to ministries that do and it is simple to collect Bibles and be a collection center. \n A WANTED POSTER with a mug shot of the Bible and info sheet are available: www.bf.org/wantedposter.htm \nYEAR ROUND BIBLE NETWORKING\nwww.bf.org connects \n\nCollection centers ●Shippers ●Gatherers ●Publicity ●Transporters\n\nEveryone can help make connections and save Bibles from destruction and get them moving to hungry hearts around the world. Bibles freely go to many places including hospitals\, nursing homes\, rescue missions\, homeless shelters\, street ministries\, remote villages around the world\, homes\, churches\, schools\, bus stations\, railway stations\, prisons & jails\, and refugee camps. \nBible Foundation PO Box 908 Newberg\, OR 97132 (503) 538-4897 bf@bf.org \nFor more information visit www.bf.org
URL:https://kwhi.com/event/october-bible-drive-5/
LOCATION:TX\, United States
CATEGORIES:Bulletin Board
ATTACH;FMTTYPE=image/png:https://kwhi.com/wp-content/uploads/2022/09/october-bible-drive-1.png
END:VEVENT
BEGIN:VEVENT
DTSTART;VALUE=DATE:20221006
DTEND;VALUE=DATE:20221019
DTSTAMP:20260423T003320
CREATED:20221006T202011Z
LAST-MODIFIED:20221006T202011Z
UID:245883-1665014400-1666137599@kwhi.com
SUMMARY:BRAZOS VALLEY GIVES
DESCRIPTION:"Give Where You Live" from now through October 18th\, the Day-of Giving. Washington County Chamber will again serve as a donation hub on this date from 8 a.m. - 6 p.m. for those who do not wish to donate online. Stay tuned for more information on this fun day!\nThere are 19 Chamber Member organizations who would love your support. They are: \nBlinn College Foundation \nBoys & Girls Club of Washington County \nBrenham Children's Chorus \nBrenham ISD Education Foundation \nBrenham Animal Services and Adoption Center \nBrenham Blessings \nBurton Educational Foundation \nCamp Blessing Texas \nCamp For All \nCASA for Kids of South Central Texas \nCitadel Christian School \nFaith Mission & Help Center\, Inc. \nFirst Baptist Church School \nLegacy Christian School \nMiracle Farm \nNational Alliance on Mental Illness (NAMI) Brazos Valley \nSt Paul's Christian Day School \nWashington County Healthy Living Association\, Senior Center \nWashington on the Brazos Historical Foundation \nand other Washington County organizations that are participating are:\nBrenham Next\nHere I Am Orphan Ministries\nHope Gathering
URL:https://kwhi.com/event/brazos-valley-gives-2/
LOCATION:TX\, United States
CATEGORIES:Bulletin Board
ATTACH;FMTTYPE=image/png:https://kwhi.com/wp-content/uploads/2022/10/bv-gives.png
END:VEVENT
BEGIN:VEVENT
DTSTART;VALUE=DATE:20221007
DTEND;VALUE=DATE:20221017
DTSTAMP:20260423T003320
CREATED:20220920T211226Z
LAST-MODIFIED:20220920T211226Z
UID:244515-1665100800-1665964799@kwhi.com
SUMMARY:Austin County Fair
DESCRIPTION:
URL:https://kwhi.com/event/austin-county-fair-6/
LOCATION:Austin County Fairgrounds\, 1076 East Hill\, Bellville\, TX\, 77418\, United States
CATEGORIES:Bulletin Board
ATTACH;FMTTYPE=image/jpeg:https://kwhi.com/wp-content/uploads/2022/09/ACF-2022.jpg
END:VEVENT
BEGIN:VEVENT
DTSTART;VALUE=DATE:20221007
DTEND;VALUE=DATE:20221029
DTSTAMP:20260423T003320
CREATED:20221007T200229Z
LAST-MODIFIED:20221007T200229Z
UID:245988-1665100800-1667001599@kwhi.com
SUMMARY:Washington County LL taking bids for Jerseys/Caps
DESCRIPTION:Washington County Little League is taking bids for jerseys and caps for the 2023 baseball/softball season. Visit the WCLL website at wcll.com for more information. Bids must be submitted by October 28th
URL:https://kwhi.com/event/washington-county-ll-taking-bids-for-jerseys-caps/
LOCATION:TX\, United States
CATEGORIES:Bulletin Board
ATTACH;FMTTYPE=image/png:https://kwhi.com/wp-content/uploads/2022/10/washington-coutny-little-league-Picture1-1.png
END:VEVENT
BEGIN:VEVENT
DTSTART;VALUE=DATE:20221008
DTEND;VALUE=DATE:20221023
DTSTAMP:20260423T003320
CREATED:20220913T140537Z
LAST-MODIFIED:20220913T140537Z
UID:243824-1665187200-1666483199@kwhi.com
SUMMARY:Scrap Tire Collection Event
DESCRIPTION:
URL:https://kwhi.com/event/scrap-tire-collection-event-3/
LOCATION:BVR Collection & Transfer Station\, 2009 Old Chappell Hill Rd\, Brenham\, TX\, 77833\, United States
CATEGORIES:Bulletin Board
ATTACH;FMTTYPE=image/jpeg:https://kwhi.com/wp-content/uploads/2022/09/scrap-tire-collection-1.jpg
END:VEVENT
BEGIN:VEVENT
DTSTART;VALUE=DATE:20220311
DTEND;VALUE=DATE:20220312
DTSTAMP:20260423T003320
CREATED:20220228T223702Z
LAST-MODIFIED:20220228T223702Z
UID:228888-1646956800-1647043199@kwhi.com
SUMMARY:Buddy Check Day
DESCRIPTION:Veterans connect on Buddy Check Day \nAUSTIN\, TX – The 11th day of each month is Buddy Check Day to remind Texas veterans to check in with other veterans. By getting in touch with others\, veterans may enjoy comradery\, check on each other’s well-being and connect another veteran with a service they can use. \nBuddy Check can be as simple as picking up the phone\, just talk\, text\, or visit. Share this video as a reminder https://www.youtube.com/watch?v=Ft0pWRO3I98 . \n“Of course\, it’s a good idea to check on each other more often; but sometimes we forget. So set your alarm and program a reminder for the 11th day of every month as Buddy Check Day\,” said Laura Koerner\, Texas Veterans Commission Chairwoman and U.S. Navy Veteran. \nVeterans wanting to expand their circle or curious about services may be interested in the following: \n\nVeterans looking for a peer to talk with can find them through the Military Veteran Peer Network (MVPN). Talking with a Peers is beneficial\, plus they know the resources & services in their area. Find the MVPN near your area at https://www.milvetpeer.net/page/custompage_map . Interested in volunteering as a Peer\, visit www.milvetpeer.net\nThe Texas Veterans Network is a statewide collaborative of hundreds of community-based organizations and government agencies that holistically serve the veteran and military community. Connect with the Texas Veterans Network through Combined Arms https://www.combinedarms.us/tvn or with Unite Texas https://texas.uniteus.com/veterans-network/\nVeterans can connect with other veterans and receive assistance with VA disability Claims and health care from the Texas Veterans Commission (TVC) at www.tvc.texas.gov . Additionally\, TVC offers programs and services for employment\, education\, and entrepreneurs around the state\, as well as a Women Veterans Network.\n\nHelping veterans starts here. The Texas Veterans Commission advocates for and provides superior service to veterans that will significantly improve the quality of life for all Texas veterans\, their families\, and survivors. The TVC assists veterans with receiving their benefits\, provides funding to agencies which provide direct services to veterans and administers the Hazlewood Act education benefits. Learn more at www.tvc.texas.gov .
URL:https://kwhi.com/event/buddy-check-day/
LOCATION:TX\, United States
CATEGORIES:Bulletin Board
ATTACH;FMTTYPE=image/png:https://kwhi.com/wp-content/uploads/2022/02/buddy-check-day.png
END:VEVENT
BEGIN:VEVENT
DTSTART;VALUE=DATE:20221011
DTEND;VALUE=DATE:20221012
DTSTAMP:20260423T003320
CREATED:20220921T195210Z
LAST-MODIFIED:20220921T195210Z
UID:244598-1665446400-1665532799@kwhi.com
SUMMARY:BISD Choirs present Why We Sing
DESCRIPTION:
URL:https://kwhi.com/event/bisd-choirs-present-why-we-sing/
LOCATION:TX
CATEGORIES:Bulletin Board
ATTACH;FMTTYPE=image/jpeg:https://kwhi.com/wp-content/uploads/2022/09/why-we-sing_n.jpg
END:VEVENT
BEGIN:VEVENT
DTSTART;VALUE=DATE:20221011
DTEND;VALUE=DATE:20221012
DTSTAMP:20260423T003320
CREATED:20220922T204425Z
LAST-MODIFIED:20220922T204425Z
UID:244721-1665446400-1665532799@kwhi.com
SUMMARY:Folk Songs Galore! A Faculty Recital
DESCRIPTION:
URL:https://kwhi.com/event/folk-songs-galore-a-faculty-recital/
LOCATION:Finke Recital Hall-C.F. Schmidt Building\, 800 College Ave\, Brenham\, TX\, 77833\, United States
CATEGORIES:Bulletin Board
ATTACH;FMTTYPE=image/jpeg:https://kwhi.com/wp-content/uploads/2022/09/10-11-22-Music-Faculty-Recital-Daniel-Johnson_SQ-002-1.jpg
END:VEVENT
BEGIN:VEVENT
DTSTART;VALUE=DATE:20221011
DTEND;VALUE=DATE:20221012
DTSTAMP:20260423T003320
CREATED:20221005T195924Z
LAST-MODIFIED:20221005T195924Z
UID:245749-1665446400-1665532799@kwhi.com
SUMMARY:Brenham FFA Alumni Meeting
DESCRIPTION:
URL:https://kwhi.com/event/brenham-ffa-alumni-meeting-11/
LOCATION:Guadalajara Mexican Restaurant (Brenham)\, 1308 Prairie Lea Street\, Brenham\, TX\, 77833\, United States
CATEGORIES:Bulletin Board
ATTACH;FMTTYPE=image/jpeg:https://kwhi.com/wp-content/uploads/2022/10/br-ffa-alumni-mtg.jpg
END:VEVENT
BEGIN:VEVENT
DTSTART;VALUE=DATE:20221011
DTEND;VALUE=DATE:20221012
DTSTAMP:20260423T003320
CREATED:20221007T210902Z
LAST-MODIFIED:20221007T210923Z
UID:246000-1665446400-1665532799@kwhi.com
SUMMARY:Republican Club of Washington County Meeting
DESCRIPTION:The Republican Club of Washington County general meeting is Tuesday\, October 11th at the Cannery Kitchen\, registration begins at 5:30 p.m. followed by dinner at 6:00 and the meeting at 6:45\, the speaker will be Eric Fritz\, speaking on the manner in which food is grown…to reserve a meal ($15/member - $20 non-members) call 979 217-2794
URL:https://kwhi.com/event/republican-club-of-washington-county-meeting-19/
LOCATION:Cannery Kitchen\, 314 East Alamo\, Brenham\, TX\, 77833\, United States
CATEGORIES:Bulletin Board
ATTACH;FMTTYPE=image/jpeg:https://kwhi.com/wp-content/uploads/2022/10/republican-party-of-wc-2.jpg
END:VEVENT
BEGIN:VEVENT
DTSTART;TZID=America/Chicago:20220315T074500
DTEND;TZID=America/Chicago:20220315T083000
DTSTAMP:20260423T003320
CREATED:20220314T183939Z
LAST-MODIFIED:20220314T183939Z
UID:230179-1647330300-1647333000@kwhi.com
SUMMARY:Food Distribution
DESCRIPTION:Bread Partners of Washington County's weekly food distribution takes place every Tuesday from 7:45-8:30 a.m. at the Washington County Expo.  The food drive is open to the public.
URL:https://kwhi.com/event/food-distribution/
LOCATION:TX
CATEGORIES:Bulletin Board
ATTACH;FMTTYPE=image/jpeg:https://kwhi.com/wp-content/uploads/2022/03/bread-partners-of-wc.jpg
END:VEVENT
BEGIN:VEVENT
DTSTART;TZID=America/Chicago:20221011T180000
DTEND;TZID=America/Chicago:20221011T190000
DTSTAMP:20260423T003320
CREATED:20221007T203226Z
LAST-MODIFIED:20221007T203226Z
UID:245992-1665511200-1665514800@kwhi.com
SUMMARY:Be a Girl Scout Event
DESCRIPTION:
URL:https://kwhi.com/event/be-a-girl-scout-event/
LOCATION:City of Brenham Fireman’s Park\, 901 N. Park Street\, Brenham\, TX\, 77833\, United States
CATEGORIES:Bulletin Board
ATTACH;FMTTYPE=image/png:https://kwhi.com/wp-content/uploads/2022/10/girl-scouts-oct-11.png
END:VEVENT
BEGIN:VEVENT
DTSTART;TZID=America/Chicago:20221011T180000
DTEND;TZID=America/Chicago:20221011T190000
DTSTAMP:20260423T003320
CREATED:20221007T203847Z
LAST-MODIFIED:20221007T204004Z
UID:245995-1665511200-1665514800@kwhi.com
SUMMARY:Sé una Girl Scout
DESCRIPTION:
URL:https://kwhi.com/event/se-un-girl-scout/
LOCATION:City of Brenham Fireman’s Park\, 901 N. Park Street\, Brenham\, TX\, 77833\, United States
CATEGORIES:Bulletin Board
ATTACH;FMTTYPE=image/png:https://kwhi.com/wp-content/uploads/2022/10/girl-scouts-spanish-oct-11-1.png
END:VEVENT
BEGIN:VEVENT
DTSTART;TZID=America/Chicago:20221011T183000
DTEND;TZID=America/Chicago:20221011T200000
DTSTAMP:20260423T003320
CREATED:20221004T213931Z
LAST-MODIFIED:20221004T213931Z
UID:245688-1665513000-1665518400@kwhi.com
SUMMARY:Small Business Education Series-Holiday Marketing
DESCRIPTION:
URL:https://kwhi.com/event/small-business-education-series-holiday-marketing/
LOCATION:Nancy Carol Roberts Memorial Library\, 100 W. Martin Luther King Jr. Pky\, Brenham\, TX\, 77833\, United States
CATEGORIES:Bulletin Board
ATTACH;FMTTYPE=image/png:https://kwhi.com/wp-content/uploads/2022/10/sm-business-oct-11th-Picture1.png
END:VEVENT
END:VCALENDAR