BEGIN:VCALENDAR
VERSION:2.0
PRODID:-//KWHI.com - ECPv6.15.17.1//NONSGML v1.0//EN
CALSCALE:GREGORIAN
METHOD:PUBLISH
X-ORIGINAL-URL:https://kwhi.com
X-WR-CALDESC:Events for KWHI.com
REFRESH-INTERVAL;VALUE=DURATION:PT1H
X-Robots-Tag:noindex
X-PUBLISHED-TTL:PT1H
BEGIN:VTIMEZONE
TZID:America/Chicago
BEGIN:DAYLIGHT
TZOFFSETFROM:-0600
TZOFFSETTO:-0500
TZNAME:CDT
DTSTART:20220313T080000
END:DAYLIGHT
BEGIN:STANDARD
TZOFFSETFROM:-0500
TZOFFSETTO:-0600
TZNAME:CST
DTSTART:20221106T070000
END:STANDARD
BEGIN:DAYLIGHT
TZOFFSETFROM:-0600
TZOFFSETTO:-0500
TZNAME:CDT
DTSTART:20230312T080000
END:DAYLIGHT
BEGIN:STANDARD
TZOFFSETFROM:-0500
TZOFFSETTO:-0600
TZNAME:CST
DTSTART:20231105T070000
END:STANDARD
BEGIN:DAYLIGHT
TZOFFSETFROM:-0600
TZOFFSETTO:-0500
TZNAME:CDT
DTSTART:20240310T080000
END:DAYLIGHT
BEGIN:STANDARD
TZOFFSETFROM:-0500
TZOFFSETTO:-0600
TZNAME:CST
DTSTART:20241103T070000
END:STANDARD
END:VTIMEZONE
BEGIN:VEVENT
DTSTART;VALUE=DATE:20230105
DTEND;VALUE=DATE:20230302
DTSTAMP:20260422T223749
CREATED:20230105T204228Z
LAST-MODIFIED:20230105T204228Z
UID:283645-1672876800-1677715199@kwhi.com
SUMMARY:Tomato and Pepper Plant Sale
DESCRIPTION:
URL:https://kwhi.com/event/tomato-and-pepper-plant-sale/
LOCATION:Texas A&M AgriLife Extension (Washington County)\, 1305 East Blue Bell Road\, Brenham\, TX\, 77833\, United States
CATEGORIES:Bulletin Board
ATTACH;FMTTYPE=image/jpeg:https://kwhi.com/wp-content/uploads/2023/01/plant-sale-Picture1-5.jpg
END:VEVENT
BEGIN:VEVENT
DTSTART;VALUE=DATE:20230210
DTEND;VALUE=DATE:20230301
DTSTAMP:20260422T223749
CREATED:20230210T161912Z
LAST-MODIFIED:20230210T161912Z
UID:286903-1675987200-1677628799@kwhi.com
SUMMARY:Spring\, Lawn\, Landscape\, and Garden Soil Testing Campaign
DESCRIPTION:
URL:https://kwhi.com/event/spring-lawn-landscape-and-garden-soil-testing-campaign/
LOCATION:TX\, United States
CATEGORIES:Bulletin Board
ATTACH;FMTTYPE=image/png:https://kwhi.com/wp-content/uploads/2023/02/soil-testing-campaign.png
END:VEVENT
BEGIN:VEVENT
DTSTART;VALUE=DATE:20230215
DTEND;VALUE=DATE:20230225
DTSTAMP:20260422T223749
CREATED:20230215T201055Z
LAST-MODIFIED:20230215T201055Z
UID:287359-1676419200-1677283199@kwhi.com
SUMMARY:Spring Eggs Art Walk Registration
DESCRIPTION:With help from artists in the community\, Main Street Brenham will again bring art to the streets of Downtown Brenham and invite professional\, amateur\, and student artists to participate in our Annual Spring Eggs Art Walk! \nSpring Egg Art Walk Registration now open \n\nThe entry deadline is Friday\, February 24th. Online entries will be accepted at https://cityofbrenham.online/spring-eggs\, or completed entry forms can be delivered to Brenham City Hall (200 W. Vulcan Street) or Washington County Visitor Center at The Barnhill Center in Downtown Brenham.\nWooden egg cut-outs for entrants will be available on Monday\, February 27 through Friday\, March 10 at City Hall (200 W. Vulcan Street) from 8a.m. - 4 p.m. Contact Teresa Rosales at trosales@cityofbrenham.org if other arrangements are needed to pick up your egg.\n\nRegister for Spring Eggs Art Walk
URL:https://kwhi.com/event/spring-eggs-art-walk-registration/
LOCATION:TX\, United States
CATEGORIES:Bulletin Board
ATTACH;FMTTYPE=image/jpeg:https://kwhi.com/wp-content/uploads/2023/02/hop-egg.jpg
END:VEVENT
BEGIN:VEVENT
DTSTART;VALUE=DATE:20230215
DTEND;VALUE=DATE:20230302
DTSTAMP:20260422T223749
CREATED:20230215T191738Z
LAST-MODIFIED:20230215T191738Z
UID:287338-1676419200-1677715199@kwhi.com
SUMMARY:Jr. Maifest Registration Open Now
DESCRIPTION:Registration now through March 1
URL:https://kwhi.com/event/jr-maifest-registration-open-now/
LOCATION:TX\, United States
CATEGORIES:Bulletin Board
ATTACH;FMTTYPE=image/jpeg:https://kwhi.com/wp-content/uploads/2023/02/enchanted-tree-house.jpg
END:VEVENT
BEGIN:VEVENT
DTSTART;VALUE=DATE:20230217
DTEND;VALUE=DATE:20230220
DTSTAMP:20260422T223749
CREATED:20230215T195029Z
LAST-MODIFIED:20230215T195029Z
UID:287347-1676592000-1676851199@kwhi.com
SUMMARY:Chili When Its Chili Cook Off
DESCRIPTION:
URL:https://kwhi.com/event/chili-when-its-chili-cook-off/
LOCATION:Yogi Bear Park Camp-Resort\, 34843 Betka Rd.\, Waller\, 77484
CATEGORIES:Bulletin Board
ATTACH;FMTTYPE=image/jpeg:https://kwhi.com/wp-content/uploads/2023/02/chili-when-its-chili-23.jpg
END:VEVENT
BEGIN:VEVENT
DTSTART;VALUE=DATE:20230218
DTEND;VALUE=DATE:20230219
DTSTAMP:20260422T223749
CREATED:20230201T205500Z
LAST-MODIFIED:20230201T205500Z
UID:286253-1676678400-1676764799@kwhi.com
SUMMARY:Grimes County Republican Party Annual Reagan Dinner
DESCRIPTION:Texas Agriculture Commissioner Sid Miller is the guest speaker at the Grimes County Republican Party’s 18th Annual Reagan Dinner\, Saturday\, Feb. 18\, 2023\, Doors open at 5 p.m. with Leona General Store steak dinner at 6:00 p.m. - Tickets and table sponsorships available at https://ourfundraiser.events/ReaganDinner2023 \nor call GCRP chair Susan Patrick 281-221-0373 - Silent and live auctions \nRegistration ends at midnight\, Feb. 10\, 2023
URL:https://kwhi.com/event/grimes-county-republican-party-annual-reagan-dinner/
LOCATION:Grimes County Expo Center\, 5220 FM 3455\, Navasota\, TX\, 77868\, United States
CATEGORIES:Bulletin Board
ATTACH;FMTTYPE=image/jpeg:https://kwhi.com/wp-content/uploads/2023/02/grimes-co-republican-party.jpg
END:VEVENT
BEGIN:VEVENT
DTSTART;TZID=America/Chicago:20230114T070000
DTEND;TZID=America/Chicago:20230114T120000
DTSTAMP:20260422T223749
CREATED:20230106T161309Z
LAST-MODIFIED:20230106T161309Z
UID:283734-1673679600-1673697600@kwhi.com
SUMMARY:Burleson County Farmers' Market
DESCRIPTION:
URL:https://kwhi.com/event/burleson-county-farmers-market/
LOCATION:Downtown Caldwell\, Caldwell\, 77836\, United States
CATEGORIES:Bulletin Board
ATTACH;FMTTYPE=image/jpeg:https://kwhi.com/wp-content/uploads/2023/01/burleson-co-farmers-market.jpg
END:VEVENT
BEGIN:VEVENT
DTSTART;TZID=America/Chicago:20230218T160000
DTEND;TZID=America/Chicago:20230218T180000
DTSTAMP:20260422T223749
CREATED:20230213T220455Z
LAST-MODIFIED:20230213T220455Z
UID:287147-1676736000-1676743200@kwhi.com
SUMMARY:BLINN BUCCANEER MEN'S BASKETBALL
DESCRIPTION:The Blinn Buccaneer Men's Basketball will host a conference game against Lee College on Saturday\, February 18. \nThe opening tipoff is scheduled for 4pm at the Kruse Center in Brenham.
URL:https://kwhi.com/event/blinn-buccaneer-mens-basketball-3/
LOCATION:Kruse Center at Blinn College\, 208 Blinn Blvd.\, Brenham\, TX\, 77833\, United States
CATEGORIES:Sports Events
ATTACH;FMTTYPE=image/jpeg:https://kwhi.com/wp-content/uploads/2022/12/Elijah-Elliott-4-Feature.jpg
END:VEVENT
BEGIN:VEVENT
DTSTART;TZID=America/Chicago:20230218T113000
DTEND;TZID=America/Chicago:20230218T160000
DTSTAMP:20260422T223749
CREATED:20230214T145346Z
LAST-MODIFIED:20230214T145346Z
UID:287192-1676719800-1676736000@kwhi.com
SUMMARY:BLINN BUCCANEER SOFTBALL
DESCRIPTION:The Blinn Buccaneer Softball Team is taking part in the McLennan Highlassie Invitational in Waco on Saturday\, February 18. \nThe Bucs will face Southern Idaho at 11:30am\, and then face McLennan at 2pm. \n 
URL:https://kwhi.com/event/blinn-buccaneer-softball-3/
LOCATION:McLennan Community College\, 1400 College Dr.\, Waco\, TX\, 76708\, United States
CATEGORIES:Sports Events
ATTACH;FMTTYPE=image/jpeg:https://kwhi.com/wp-content/uploads/2022/03/Chloee-Mason-Feature.jpg
END:VEVENT
BEGIN:VEVENT
DTSTART;TZID=America/Chicago:20230218T113000
DTEND;TZID=America/Chicago:20230218T183000
DTSTAMP:20260422T223749
CREATED:20230213T234304Z
LAST-MODIFIED:20230213T234304Z
UID:287166-1676719800-1676745000@kwhi.com
SUMMARY:BRENHAM CUBETTE SOFTBALL
DESCRIPTION:The Brenham Cubette Softball Team will host Day Three of the Leadoff Classic on Saturday\, February 18\, at Alumni Field. \nThey are going to face Brennan at noon (11:35am pregame) and Danbury at 4pm (3:35pm pregame). \nBoth of those games can be heard live right here on KWHI.
URL:https://kwhi.com/event/brenham-cubette-softball-5/
LOCATION:Brenham High School Alumni Field\, 525 A H Ehrig Drive \, Brenham\, TX\, 77833\, United States
CATEGORIES:Sports Events
ATTACH;FMTTYPE=image/jpeg:https://kwhi.com/wp-content/uploads/2022/05/Cubette-Softball-feature-57222.jpg
END:VEVENT
BEGIN:VEVENT
DTSTART;TZID=America/Chicago:20230218T140000
DTEND;TZID=America/Chicago:20230218T160000
DTSTAMP:20260422T223749
CREATED:20230213T221215Z
LAST-MODIFIED:20230213T221215Z
UID:287152-1676728800-1676736000@kwhi.com
SUMMARY:BLINN BUCCANEER WOMEN'S BASKETBALL
DESCRIPTION:The Blinn Buccaneer Women's Basketball Team travels to Kilgore for a conference game on Saturday\, February 18. \nThe opening tipoff is scheduled for 2pm.
URL:https://kwhi.com/event/blinn-buccaneer-womens-basketball-4/
LOCATION:TX\, United States
CATEGORIES:Sports Events
ATTACH;FMTTYPE=image/jpeg:https://kwhi.com/wp-content/uploads/2023/02/Blinn-Womens-Basketball-Hannah-Humphrey-Feature.jpg
END:VEVENT
BEGIN:VEVENT
DTSTART;TZID=America/Chicago:20230218T140000
DTEND;TZID=America/Chicago:20230218T170000
DTSTAMP:20260422T223749
CREATED:20230214T140144Z
LAST-MODIFIED:20230214T140144Z
UID:287179-1676728800-1676739600@kwhi.com
SUMMARY:BLINN BUCCANEER BASEBALL
DESCRIPTION:The Blinn Buccaneer Baseball Team travels to McLennan for a nine inning game on Saturday\, February 18\, at 2pm.
URL:https://kwhi.com/event/blinn-buccaneer-baseball-3/
LOCATION:McLennan Community College\, 1400 College Dr.\, Waco\, TX\, 76708\, United States
CATEGORIES:Sports Events
ATTACH;FMTTYPE=image/jpeg:https://kwhi.com/wp-content/uploads/2015/09/baseball-little-league-feature.jpg
END:VEVENT
BEGIN:VEVENT
DTSTART;TZID=America/Chicago:20230218T160000
DTEND;TZID=America/Chicago:20230218T180000
DTSTAMP:20260422T223749
CREATED:20230213T220455Z
LAST-MODIFIED:20230213T220455Z
UID:287147-1676736000-1676743200@kwhi.com
SUMMARY:BLINN BUCCANEER MEN'S BASKETBALL
DESCRIPTION:The Blinn Buccaneer Men's Basketball will host a conference game against Lee College on Saturday\, February 18. \nThe opening tipoff is scheduled for 4pm at the Kruse Center in Brenham.
URL:https://kwhi.com/event/blinn-buccaneer-mens-basketball-3/
LOCATION:Kruse Center at Blinn College\, 208 Blinn Blvd.\, Brenham\, TX\, 77833\, United States
CATEGORIES:Sports Events
ATTACH;FMTTYPE=image/jpeg:https://kwhi.com/wp-content/uploads/2022/12/Elijah-Elliott-4-Feature.jpg
END:VEVENT
BEGIN:VEVENT
DTSTART;TZID=America/Chicago:20230218T180000
DTEND;TZID=America/Chicago:20230218T230000
DTSTAMP:20260422T223749
CREATED:20230201T212314Z
LAST-MODIFIED:20230201T212314Z
UID:286257-1676743200-1676761200@kwhi.com
SUMMARY:Hospice Happening 2023
DESCRIPTION:Let the good times roll as Hospice Brazos Valley's "Hospice Happening 2023" celebrates Mardi Gras!  Get your friends together for an exciting evening Saturday\, February 18th at Brazos County Expo Complex.  You'll feel like you're in New Orleans as you enjoy dinner\, casino games\, dancing and unique dueling pianos of Howl at the Moon\, with all proceeds benefiting Hospice Brazos Valley.  To purchase tickets or become a sponsor for Hospice Happening 2023\, visit hospicebrazosvalley.org  
URL:https://kwhi.com/event/hospice-happening-2023/
LOCATION:Brazos County Expo Complex\, 5827 Leonard Rd.\, Bryan\, TX\, 77807\, United States
CATEGORIES:Bulletin Board
ATTACH;FMTTYPE=image/jpeg:https://kwhi.com/wp-content/uploads/2023/02/hospice-happening-2023.jpg
END:VEVENT
END:VCALENDAR