BEGIN:VCALENDAR
VERSION:2.0
PRODID:-//KWHI.com - ECPv6.15.17.1//NONSGML v1.0//EN
CALSCALE:GREGORIAN
METHOD:PUBLISH
X-ORIGINAL-URL:https://kwhi.com
X-WR-CALDESC:Events for KWHI.com
REFRESH-INTERVAL;VALUE=DURATION:PT1H
X-Robots-Tag:noindex
X-PUBLISHED-TTL:PT1H
BEGIN:VTIMEZONE
TZID:America/Chicago
BEGIN:DAYLIGHT
TZOFFSETFROM:-0600
TZOFFSETTO:-0500
TZNAME:CDT
DTSTART:20220313T080000
END:DAYLIGHT
BEGIN:STANDARD
TZOFFSETFROM:-0500
TZOFFSETTO:-0600
TZNAME:CST
DTSTART:20221106T070000
END:STANDARD
BEGIN:DAYLIGHT
TZOFFSETFROM:-0600
TZOFFSETTO:-0500
TZNAME:CDT
DTSTART:20230312T080000
END:DAYLIGHT
BEGIN:STANDARD
TZOFFSETFROM:-0500
TZOFFSETTO:-0600
TZNAME:CST
DTSTART:20231105T070000
END:STANDARD
BEGIN:DAYLIGHT
TZOFFSETFROM:-0600
TZOFFSETTO:-0500
TZNAME:CDT
DTSTART:20240310T080000
END:DAYLIGHT
BEGIN:STANDARD
TZOFFSETFROM:-0500
TZOFFSETTO:-0600
TZNAME:CST
DTSTART:20241103T070000
END:STANDARD
END:VTIMEZONE
BEGIN:VEVENT
DTSTART;VALUE=DATE:20230222
DTEND;VALUE=DATE:20230402
DTSTAMP:20260420T215043
CREATED:20230221T151454Z
LAST-MODIFIED:20230221T151454Z
UID:287907-1677024000-1680393599@kwhi.com
SUMMARY:Brenham Heritage Museum Honoring Black History with New Exhibit
DESCRIPTION:The Brenham Heritage Museum is celebrating Black History Month with a new exhibit. The museum presents John & Mary Marks: A Love Story That Transcends Time and Boundaries.  The exhibit will showcase the life and times of John and Mary Marks\, two of Washington County’s earliest known African American settlers.  The exhibit will be available in the Blue Bell Gallery during regular museum hours\, Wednesday through Saturday from 10 a.m. to 4 p.m.  Groups of 10 or more can call the museum at 979-830-8445 to schedule specific times for tours.
URL:https://kwhi.com/event/brenham-heritage-museum-honoring-black-history-with-new-exhibit/
LOCATION:Brenham Heritage Museum @ Bus Depot\, 313 East Alamo Street\, Brenham\, TX\, 77833\, United States
CATEGORIES:Bulletin Board
ATTACH;FMTTYPE=image/jpeg:https://kwhi.com/wp-content/uploads/2023/02/BrenhamHeritageMuseumBlackHistoryMonthExhibit2023Flyer.jpg
END:VEVENT
BEGIN:VEVENT
DTSTART;VALUE=DATE:20230309
DTEND;VALUE=DATE:20230312
DTSTAMP:20260420T215043
CREATED:20230208T161252Z
LAST-MODIFIED:20230210T155626Z
UID:286743-1678320000-1678579199@kwhi.com
SUMMARY:Spring Open Collection Days-COUNTY RESIDENTS ONLY
DESCRIPTION:
URL:https://kwhi.com/event/spring-open-collection-days-county-residents-only/
LOCATION:Citizens Collection Station\, 2009 Old Chappell Hill Road\, Brenham\, TX\, 77833\, United States
CATEGORIES:Bulletin Board
ATTACH;FMTTYPE=image/png:https://kwhi.com/wp-content/uploads/2023/02/spring-open-collection-1.png
END:VEVENT
BEGIN:VEVENT
DTSTART;VALUE=DATE:20230224
DTEND;VALUE=DATE:20230225
DTSTAMP:20260420T215043
CREATED:20230217T183514Z
LAST-MODIFIED:20230221T152119Z
UID:287609-1677196800-1677283199@kwhi.com
SUMMARY:Friends of Sealy American Legion Lenten Fish Fry
DESCRIPTION:
URL:https://kwhi.com/event/friends-of-sealy-american-legion-friday-fish-fry/
LOCATION:American Legion Hall Sealy\, 1630 Meyer Street\, Sealy\, TX\, 77474\, United States
CATEGORIES:Bulletin Board
ATTACH;FMTTYPE=image/jpeg:https://kwhi.com/wp-content/uploads/2023/02/friends-of-sealy-fish-fry-flyer.jpg
END:VEVENT
BEGIN:VEVENT
DTSTART;VALUE=DATE:20230310
DTEND;VALUE=DATE:20230311
DTSTAMP:20260420T215043
CREATED:20230217T213905Z
LAST-MODIFIED:20230217T213905Z
UID:287628-1678406400-1678492799@kwhi.com
SUMMARY:Ribbon Cutting - Wonderhill Farm
DESCRIPTION:Ribbon Cutting – New Member\nWonderhill Farm\n2800 Caney Creek Rd.\, Chappell Hill - Friday\, March 10 at 11:00 a.m. \n 
URL:https://kwhi.com/event/ribbon-cutting-wonderhill-farm/
LOCATION:Wonderhill Farm\, 2800 Caney Creek Rd.\, Chappell Hill\, TX\, 77426\, United States
CATEGORIES:Bulletin Board
ATTACH;FMTTYPE=image/jpeg:https://kwhi.com/wp-content/uploads/2023/02/coc-washington-county-ribbon-cutting.jpg
END:VEVENT
BEGIN:VEVENT
DTSTART;VALUE=DATE:20230224
DTEND;VALUE=DATE:20230225
DTSTAMP:20260420T215043
CREATED:20230220T204106Z
LAST-MODIFIED:20230220T204247Z
UID:287821-1677196800-1677283199@kwhi.com
SUMMARY:Burton VFD Fish Fry
DESCRIPTION:
URL:https://kwhi.com/event/burton-vfd-fish-fry/
LOCATION:TX\, United States
CATEGORIES:Bulletin Board
ATTACH;FMTTYPE=image/jpeg:https://kwhi.com/wp-content/uploads/2023/02/burton-vfd-fish-fry-feb.jpg
END:VEVENT
BEGIN:VEVENT
DTSTART;VALUE=DATE:20230310
DTEND;VALUE=DATE:20230311
DTSTAMP:20260420T215043
CREATED:20230306T153647Z
LAST-MODIFIED:20230306T153647Z
UID:289137-1678406400-1678492799@kwhi.com
SUMMARY:"Little Red Riding Hood" staged at Blinn College-Brenham Campus
DESCRIPTION:The fairy tale “Little Red Riding Hood” will come to life on Friday\, March 10\, as the Blinn College District Music Department stages American composer Seymour Barab’s children’s opera of the classic story.  Blinn faculty and students will star as characters from the fairy tale.  “Little Red Riding Hood” will be staged twice at Finke Recital Hall in the Schmidt Building on the Brenham Campus. A special daytime showing will be held at 10:30 a.m. for students of all ages. There also will be a public performance at 7 p.m.  Tickets are free and may be reserved at www.blinn.edu/boxoffice. The 7 p.m. staging also will be streamed live on the Blinn College Music Department YouTube Channel. \n 
URL:https://kwhi.com/event/little-red-riding-hood-staged-at-blinn-college-brenham-campus/
LOCATION:Finke Recital Hall-C.F. Schmidt Building\, 800 College Ave\, Brenham\, TX\, 77833\, United States
CATEGORIES:Bulletin Board
ATTACH;FMTTYPE=image/jpeg:https://kwhi.com/wp-content/uploads/2023/03/Little-Red-Riding-Hood.jpg
END:VEVENT
BEGIN:VEVENT
DTSTART;VALUE=DATE:20230310
DTEND;VALUE=DATE:20230312
DTSTAMP:20260420T215043
CREATED:20230227T204728Z
LAST-MODIFIED:20230227T204728Z
UID:288450-1678406400-1678579199@kwhi.com
SUMMARY:Boy Scouts Troop 36 Annual Rummage Sale
DESCRIPTION:
URL:https://kwhi.com/event/boy-scouts-troop-36-annual-rummage-sale-2/
LOCATION:St. John Lutheran Church Retreat Center (Bellville)\, 4740 Hwy 36 N\, Bellville\, TX\, 77418\, United States
CATEGORIES:Bulletin Board
ATTACH;FMTTYPE=image/jpeg:https://kwhi.com/wp-content/uploads/2023/02/ac-rummage-sale.jpg
END:VEVENT
BEGIN:VEVENT
DTSTART;TZID=America/Chicago:20230310T170000
DTEND;TZID=America/Chicago:20230310T193000
DTSTAMP:20260420T215043
CREATED:20230303T165847Z
LAST-MODIFIED:20230303T165847Z
UID:288945-1678467600-1678476600@kwhi.com
SUMMARY:BURTON LADY PANTHER SOFTBALL
DESCRIPTION:The Burton Lady Panther Softball Team will host North Zulch in a District 26-2A game on Friday\, March 10\, at 5pm.
URL:https://kwhi.com/event/burton-lady-panther-softball-7/
LOCATION:Burton High School\, 917 N Main St\, Burton\, TX\, 77835\, United States
CATEGORIES:Sports Events
ATTACH;FMTTYPE=image/jpeg:https://kwhi.com/wp-content/uploads/2023/02/2023-Burton-Lady-Panther-Softball-Feature.jpg
END:VEVENT
BEGIN:VEVENT
DTSTART;TZID=America/Chicago:20230224T173000
DTEND;TZID=America/Chicago:20230224T200000
DTSTAMP:20260420T215043
CREATED:20230210T211509Z
LAST-MODIFIED:20230210T212228Z
UID:286936-1677259800-1677268800@kwhi.com
SUMMARY:Frelsburg KC Fish Fry
DESCRIPTION:
URL:https://kwhi.com/event/frelsburg-kc-fish-fry/
LOCATION:Sts. Peter & Paul Diamond Center (Frelsburg)\, 1031 Church Lane\, New Ulm\, TX\, 78950\, United States
CATEGORIES:Bulletin Board
ATTACH;FMTTYPE=image/jpeg:https://kwhi.com/wp-content/uploads/2023/02/kc-fish-fry-23.jpg
END:VEVENT
BEGIN:VEVENT
DTSTART;TZID=America/Chicago:20230310T180000
DTEND;TZID=America/Chicago:20230310T210000
DTSTAMP:20260420T215043
CREATED:20230303T163543Z
LAST-MODIFIED:20230303T163543Z
UID:288929-1678471200-1678482000@kwhi.com
SUMMARY:BRENHAM CUBETTE SOFTBALL
DESCRIPTION:The Brenham Cubette Softball Team is hosting Bryan Rudder in a District 21-5A game on Friday\, March 10\, at Alumni Field. \nKWHI will have live coverage beginning with the pregame at 6:05pm\, followed by the first pitch at 6:30pm.
URL:https://kwhi.com/event/brenham-cubette-softball-15/
LOCATION:Brenham High School Alumni Field\, 525 A H Ehrig Drive \, Brenham\, TX\, 77833\, United States
CATEGORIES:Sports Events
ATTACH;FMTTYPE=image/jpeg:https://kwhi.com/wp-content/uploads/2023/02/Cubette-Softball-feature-228231.jpg
END:VEVENT
BEGIN:VEVENT
DTSTART;TZID=America/Chicago:20230310T190000
DTEND;TZID=America/Chicago:20230310T210000
DTSTAMP:20260420T215043
CREATED:20230303T170849Z
LAST-MODIFIED:20230303T170849Z
UID:288951-1678474800-1678482000@kwhi.com
SUMMARY:BRENHAM CUB SOCCER
DESCRIPTION:The Brenham Cub Soccer Team will close out their regular season with a home district game against College Station High School on Friday\, March 10\, at 7pm at Cub Stadium.
URL:https://kwhi.com/event/brenham-cub-soccer-10/
LOCATION:Cub Stadium\, 1600 East Tom Green\, Brenham\, TX\, 77833\, United States
CATEGORIES:Sports Events
ATTACH;FMTTYPE=image/jpeg:https://kwhi.com/wp-content/uploads/2023/02/Cub-soccer-feature-217231.jpg
END:VEVENT
BEGIN:VEVENT
DTSTART;TZID=America/Chicago:20230310T190000
DTEND;TZID=America/Chicago:20230310T210000
DTSTAMP:20260420T215043
CREATED:20230303T171857Z
LAST-MODIFIED:20230303T171857Z
UID:288957-1678474800-1678482000@kwhi.com
SUMMARY:BRENHAM CUBETTE SOCCER
DESCRIPTION:The Brenham Cubette Soccer Team wraps up their regular season on the road at College Station High School.  The match begins at 7pm.
URL:https://kwhi.com/event/brenham-cubette-soccer-10/
LOCATION:College Station High School\, 4002 Victoria Ave\, College Station\, TX\, 77845\, United States
CATEGORIES:Sports Events
ATTACH;FMTTYPE=image/jpeg:https://kwhi.com/wp-content/uploads/2022/12/Cubette-Soccer-feature-1230225.jpg
END:VEVENT
END:VCALENDAR