BEGIN:VCALENDAR
VERSION:2.0
PRODID:-//KWHI.com - ECPv6.15.17.1//NONSGML v1.0//EN
CALSCALE:GREGORIAN
METHOD:PUBLISH
X-WR-CALNAME:KWHI.com
X-ORIGINAL-URL:https://kwhi.com
X-WR-CALDESC:Events for KWHI.com
REFRESH-INTERVAL;VALUE=DURATION:PT1H
X-Robots-Tag:noindex
X-PUBLISHED-TTL:PT1H
BEGIN:VTIMEZONE
TZID:America/Chicago
BEGIN:DAYLIGHT
TZOFFSETFROM:-0600
TZOFFSETTO:-0500
TZNAME:CDT
DTSTART:20220313T080000
END:DAYLIGHT
BEGIN:STANDARD
TZOFFSETFROM:-0500
TZOFFSETTO:-0600
TZNAME:CST
DTSTART:20221106T070000
END:STANDARD
BEGIN:DAYLIGHT
TZOFFSETFROM:-0600
TZOFFSETTO:-0500
TZNAME:CDT
DTSTART:20230312T080000
END:DAYLIGHT
BEGIN:STANDARD
TZOFFSETFROM:-0500
TZOFFSETTO:-0600
TZNAME:CST
DTSTART:20231105T070000
END:STANDARD
BEGIN:DAYLIGHT
TZOFFSETFROM:-0600
TZOFFSETTO:-0500
TZNAME:CDT
DTSTART:20240310T080000
END:DAYLIGHT
BEGIN:STANDARD
TZOFFSETFROM:-0500
TZOFFSETTO:-0600
TZNAME:CST
DTSTART:20241103T070000
END:STANDARD
END:VTIMEZONE
BEGIN:VEVENT
DTSTART;VALUE=DATE:20230222
DTEND;VALUE=DATE:20230402
DTSTAMP:20260424T083052
CREATED:20230221T151454Z
LAST-MODIFIED:20230221T151454Z
UID:287907-1677024000-1680393599@kwhi.com
SUMMARY:Brenham Heritage Museum Honoring Black History with New Exhibit
DESCRIPTION:The Brenham Heritage Museum is celebrating Black History Month with a new exhibit. The museum presents John & Mary Marks: A Love Story That Transcends Time and Boundaries.  The exhibit will showcase the life and times of John and Mary Marks\, two of Washington County’s earliest known African American settlers.  The exhibit will be available in the Blue Bell Gallery during regular museum hours\, Wednesday through Saturday from 10 a.m. to 4 p.m.  Groups of 10 or more can call the museum at 979-830-8445 to schedule specific times for tours.
URL:https://kwhi.com/event/brenham-heritage-museum-honoring-black-history-with-new-exhibit/
LOCATION:Brenham Heritage Museum @ Bus Depot\, 313 East Alamo Street\, Brenham\, TX\, 77833\, United States
CATEGORIES:Bulletin Board
ATTACH;FMTTYPE=image/jpeg:https://kwhi.com/wp-content/uploads/2023/02/BrenhamHeritageMuseumBlackHistoryMonthExhibit2023Flyer.jpg
END:VEVENT
BEGIN:VEVENT
DTSTART;VALUE=DATE:20230309
DTEND;VALUE=DATE:20230312
DTSTAMP:20260424T083052
CREATED:20230208T161252Z
LAST-MODIFIED:20230210T155626Z
UID:286743-1678320000-1678579199@kwhi.com
SUMMARY:Spring Open Collection Days-COUNTY RESIDENTS ONLY
DESCRIPTION:
URL:https://kwhi.com/event/spring-open-collection-days-county-residents-only/
LOCATION:Citizens Collection Station\, 2009 Old Chappell Hill Road\, Brenham\, TX\, 77833\, United States
CATEGORIES:Bulletin Board
ATTACH;FMTTYPE=image/png:https://kwhi.com/wp-content/uploads/2023/02/spring-open-collection-1.png
END:VEVENT
BEGIN:VEVENT
DTSTART;VALUE=DATE:20230310
DTEND;VALUE=DATE:20230312
DTSTAMP:20260424T083052
CREATED:20230227T204728Z
LAST-MODIFIED:20230227T204728Z
UID:288450-1678406400-1678579199@kwhi.com
SUMMARY:Boy Scouts Troop 36 Annual Rummage Sale
DESCRIPTION:
URL:https://kwhi.com/event/boy-scouts-troop-36-annual-rummage-sale-2/
LOCATION:St. John Lutheran Church Retreat Center (Bellville)\, 4740 Hwy 36 N\, Bellville\, TX\, 77418\, United States
CATEGORIES:Bulletin Board
ATTACH;FMTTYPE=image/jpeg:https://kwhi.com/wp-content/uploads/2023/02/ac-rummage-sale.jpg
END:VEVENT
BEGIN:VEVENT
DTSTART;VALUE=DATE:20230311
DTEND;VALUE=DATE:20230312
DTSTAMP:20260424T083052
CREATED:20230215T203722Z
LAST-MODIFIED:20230215T212814Z
UID:287366-1678492800-1678579199@kwhi.com
SUMMARY:Bellville VFD Station #4 Chili & Beans Cook-Off
DESCRIPTION:
URL:https://kwhi.com/event/bellville-vfd-station-4-chili-beans-cook-off/
LOCATION:Kenney Store\, 811 South Loop 497\, Kenney\, TX\, 77452\, United States
CATEGORIES:Bulletin Board
ATTACH;FMTTYPE=image/jpeg:https://kwhi.com/wp-content/uploads/2023/02/bellville-vfd-cook-off-march.jpg
END:VEVENT
BEGIN:VEVENT
DTSTART;VALUE=DATE:20230114
DTEND;VALUE=DATE:20230115
DTSTAMP:20260424T083052
CREATED:20230104T213910Z
LAST-MODIFIED:20230104T213910Z
UID:283573-1673654400-1673740799@kwhi.com
SUMMARY:Downtown Caldwell 2nd Saturday
DESCRIPTION:Join several businesses Downtown Caldwell\, on and around the Square\, on the 2nd Saturday of each month.  Businesses stay open later and offers so much more on those days to their customers.  Come check out Downtown Caldwell each 2nd Saturday of the Month!
URL:https://kwhi.com/event/downtown-caldwell-2nd-saturday/
LOCATION:Downtown Caldwell\, Caldwell\, 77836\, United States
CATEGORIES:Bulletin Board
ATTACH;FMTTYPE=image/png:https://kwhi.com/wp-content/uploads/2023/01/come-in-were-open.png
END:VEVENT
BEGIN:VEVENT
DTSTART;VALUE=DATE:20230311
DTEND;VALUE=DATE:20230312
DTSTAMP:20260424T083052
CREATED:20230213T203359Z
LAST-MODIFIED:20230213T203359Z
UID:287123-1678492800-1678579199@kwhi.com
SUMMARY:The Original Hand Made Shelby Turkey Stew
DESCRIPTION:
URL:https://kwhi.com/event/the-original-hand-made-shelby-turkey-stew/
LOCATION:American Legion Hall Shelby\, 4019 FM 1457\, Shelby\, TX\, 78940-5033\, United States
CATEGORIES:Bulletin Board
ATTACH;FMTTYPE=image/jpeg:https://kwhi.com/wp-content/uploads/2023/02/2023-Turkey-Stew-Poster_.jpg
END:VEVENT
BEGIN:VEVENT
DTSTART;VALUE=DATE:20230311
DTEND;VALUE=DATE:20230312
DTSTAMP:20260424T083052
CREATED:20230213T210603Z
LAST-MODIFIED:20230213T210603Z
UID:287131-1678492800-1678579199@kwhi.com
SUMMARY:Austin County Cruisers-Classic Car Stampede
DESCRIPTION:
URL:https://kwhi.com/event/austin-county-cruisers-classic-car-stampede/
LOCATION:Downtown Bellville\, Bellville\, TX\, 77418\, United States
CATEGORIES:Bulletin Board
ATTACH;FMTTYPE=image/jpeg:https://kwhi.com/wp-content/uploads/2023/02/classic-car-stampede-march.jpg
END:VEVENT
BEGIN:VEVENT
DTSTART;TZID=America/Chicago:20230114T070000
DTEND;TZID=America/Chicago:20230114T120000
DTSTAMP:20260424T083052
CREATED:20230106T161309Z
LAST-MODIFIED:20230106T161309Z
UID:283734-1673679600-1673697600@kwhi.com
SUMMARY:Burleson County Farmers' Market
DESCRIPTION:
URL:https://kwhi.com/event/burleson-county-farmers-market/
LOCATION:Downtown Caldwell\, Caldwell\, 77836\, United States
CATEGORIES:Bulletin Board
ATTACH;FMTTYPE=image/jpeg:https://kwhi.com/wp-content/uploads/2023/01/burleson-co-farmers-market.jpg
END:VEVENT
BEGIN:VEVENT
DTSTART;TZID=America/Chicago:20230311T090000
DTEND;TZID=America/Chicago:20230311T130000
DTSTAMP:20260424T083052
CREATED:20230127T150656Z
LAST-MODIFIED:20230127T150656Z
UID:285754-1678525200-1678539600@kwhi.com
SUMMARY:Navasota Farmers Market
DESCRIPTION:
URL:https://kwhi.com/event/navasota-farmers-market/
LOCATION:Navasota Public Library\, 1411 E. Washington Ave.\, Navasota\, TX\, 77868\, United States
CATEGORIES:Bulletin Board
ATTACH;FMTTYPE=image/jpeg:https://kwhi.com/wp-content/uploads/2023/01/navasota-farmers-market-mar.jpg
END:VEVENT
BEGIN:VEVENT
DTSTART;TZID=America/Chicago:20230311T100000
DTEND;TZID=America/Chicago:20230311T120000
DTSTAMP:20260424T083052
CREATED:20230303T205230Z
LAST-MODIFIED:20230303T205850Z
UID:288979-1678528800-1678536000@kwhi.com
SUMMARY:Pop-Up Play Day
DESCRIPTION:
URL:https://kwhi.com/event/pop-up-play-day/
LOCATION:Jerry Wilson Park\, 900 E. Alamo Street\, Brenham\, TX\, 77833\, United States
CATEGORIES:Bulletin Board
ATTACH;FMTTYPE=image/jpeg:https://kwhi.com/wp-content/uploads/2023/03/pop-up-march-11-002-2.jpg
END:VEVENT
BEGIN:VEVENT
DTSTART;TZID=America/Chicago:20230311T103000
DTEND;TZID=America/Chicago:20230311T160000
DTSTAMP:20260424T083052
CREATED:20230303T162431Z
LAST-MODIFIED:20230303T162431Z
UID:288918-1678530600-1678550400@kwhi.com
SUMMARY:BRENHAM CUB BASEBALL
DESCRIPTION:The Brenham Cub Baseball Team are hosting the Brenham Alumni Tournament on Saturday\, March 11\, at Fireman's Park. They are going to play Cedar Ridge at 11am\, and Morton Ranch at 1:30pm.  KWHI will broadcast both games live beginning with the pregame at 10:35am.
URL:https://kwhi.com/event/brenham-cub-baseball-11/
LOCATION:City of Brenham Fireman’s Park\, 901 N. Park Street\, Brenham\, TX\, 77833\, United States
CATEGORIES:Sports Events
ATTACH;FMTTYPE=image/jpeg:https://kwhi.com/wp-content/uploads/2023/02/Cub-Baseball-feature-220234.jpg
END:VEVENT
BEGIN:VEVENT
DTSTART;TZID=America/Chicago:20230311T120000
DTEND;TZID=America/Chicago:20230311T170000
DTSTAMP:20260424T083052
CREATED:20230215T195510Z
LAST-MODIFIED:20230301T202128Z
UID:287355-1678536000-1678554000@kwhi.com
SUMMARY:Texas Ranger Day
DESCRIPTION:The Burton Heritage Society hosts the twelfth annual Texas Ranger Day in historic Burton\, Texas at the Burton Railroad Depot\, on Saturday\, March 11\, 2023 from noon to 5pm.  Celebrate Burton’s history with an afternoon of activities including tasty food at the Annie Maud Avis Memorial Fajita and Bean cook-off\, demonstrations by the Old West Rangers and the Legends of the Texas Rangers\, folklife demonstrations including blacksmithing and chuckwagon cooking\, kids activities\, mule driven buggy rides\, and tours of the historic Railroad Depot\, as well as the Burton Farmers Cotton Gin (10am & 2pm). Also enjoy dj music thanks to the Kountry Chick.  Proceeds will restore our second historic site\, the Mt. Zion Historic Chapel. \nFor more information OR to participate in the cook-off\, please visit http://www.burtonheritagesociety.org/celebrate or our Facebook event page: https://fb.me/e/2AJEyczV0. 
URL:https://kwhi.com/event/texas-ranger-day/
LOCATION:Burton Railroad Depot\, 507 N. Railroad Street\, Burton\, TX\, 77835\, United States
CATEGORIES:Bulletin Board
ATTACH;FMTTYPE=image/jpeg:https://kwhi.com/wp-content/uploads/2023/02/TexasRangerDay3-11-23Flyer-1-1.jpg
END:VEVENT
BEGIN:VEVENT
DTSTART;TZID=America/Chicago:20230311T130000
DTEND;TZID=America/Chicago:20230311T173000
DTSTAMP:20260424T083052
CREATED:20230307T135753Z
LAST-MODIFIED:20230307T135753Z
UID:289269-1678539600-1678555800@kwhi.com
SUMMARY:BLINN BUCCANEER SOFTBALL
DESCRIPTION:The Blinn Buccaneer Softball Team is traveling to Tyler Junior College for a doubleheader on Saturday\, March 11.  The first pitch is at 1pm.
URL:https://kwhi.com/event/blinn-buccaneer-softball-8/
LOCATION:Tyler Junior College\, 1400 East 5th Street\, Tyler\, TX\, 75701\, United States
CATEGORIES:Sports Events
ATTACH;FMTTYPE=image/jpeg:https://kwhi.com/wp-content/uploads/2023/01/Skylar-Shanahan.jpg
END:VEVENT
BEGIN:VEVENT
DTSTART;TZID=America/Chicago:20230311T130000
DTEND;TZID=America/Chicago:20230311T180000
DTSTAMP:20260424T083052
CREATED:20230307T141940Z
LAST-MODIFIED:20230307T141940Z
UID:289277-1678539600-1678557600@kwhi.com
SUMMARY:BLINN BUCCANEER BASEBALL
DESCRIPTION:The Blinn Buccaneer Baseball Team travels to Wharton for a conference doubleheader on Saturday beginning at 2pm.
URL:https://kwhi.com/event/blinn-buccaneer-baseball-9/
LOCATION:Wharton County Junior College\, 911 E Boling Hwy.\, Wharton\, TX\, 77488\, United States
CATEGORIES:Sports Events
ATTACH;FMTTYPE=image/jpeg:https://kwhi.com/wp-content/uploads/2023/02/Blinn-Baseball-Jake-Kolkhorst.jpg
END:VEVENT
END:VCALENDAR