BEGIN:VCALENDAR
VERSION:2.0
PRODID:-//KWHI.com - ECPv6.15.17.1//NONSGML v1.0//EN
CALSCALE:GREGORIAN
METHOD:PUBLISH
X-ORIGINAL-URL:https://kwhi.com
X-WR-CALDESC:Events for KWHI.com
REFRESH-INTERVAL;VALUE=DURATION:PT1H
X-Robots-Tag:noindex
X-PUBLISHED-TTL:PT1H
BEGIN:VTIMEZONE
TZID:America/Chicago
BEGIN:DAYLIGHT
TZOFFSETFROM:-0600
TZOFFSETTO:-0500
TZNAME:CDT
DTSTART:20220313T080000
END:DAYLIGHT
BEGIN:STANDARD
TZOFFSETFROM:-0500
TZOFFSETTO:-0600
TZNAME:CST
DTSTART:20221106T070000
END:STANDARD
BEGIN:DAYLIGHT
TZOFFSETFROM:-0600
TZOFFSETTO:-0500
TZNAME:CDT
DTSTART:20230312T080000
END:DAYLIGHT
BEGIN:STANDARD
TZOFFSETFROM:-0500
TZOFFSETTO:-0600
TZNAME:CST
DTSTART:20231105T070000
END:STANDARD
BEGIN:DAYLIGHT
TZOFFSETFROM:-0600
TZOFFSETTO:-0500
TZNAME:CDT
DTSTART:20240310T080000
END:DAYLIGHT
BEGIN:STANDARD
TZOFFSETFROM:-0500
TZOFFSETTO:-0600
TZNAME:CST
DTSTART:20241103T070000
END:STANDARD
END:VTIMEZONE
BEGIN:VEVENT
DTSTART;VALUE=DATE:20230501
DTEND;VALUE=DATE:20230601
DTSTAMP:20260425T092046
CREATED:20230425T144519Z
LAST-MODIFIED:20230425T144819Z
UID:293099-1682899200-1685577599@kwhi.com
SUMMARY:Washington County Fair Queen Contest
DESCRIPTION:The 2023 Washington County Fair Queen Contest Application is now available! Any young woman that will be a junior or senior in the Fall of 2023 and resides in Washington County is eligible to apply and participate.  Each contestant must be an active member of at least one school organization\, such as band or athletics and more\, 4-H\, FFA\, etc.  Please contact your club/organization or the fair office for an application.  Applications are due by June 1st!
URL:https://kwhi.com/event/washington-county-fair-queen-contest/
LOCATION:TX\, United States
CATEGORIES:Bulletin Board
ATTACH;FMTTYPE=image/jpeg:https://kwhi.com/wp-content/uploads/2023/04/wcf-queen-application-23-2.jpg
END:VEVENT
BEGIN:VEVENT
DTSTART;VALUE=DATE:20230508
DTEND;VALUE=DATE:20230606
DTSTAMP:20260425T092046
CREATED:20230508T192932Z
LAST-MODIFIED:20230508T192932Z
UID:294370-1683504000-1686009599@kwhi.com
SUMMARY:Senior Fan Drive
DESCRIPTION:
URL:https://kwhi.com/event/senior-fan-drive/
LOCATION:Brenham Nursing and Rehabilitation Center\, 400 E. Sayles St.\, Brenham\, TX\, 77833\, United States
CATEGORIES:Bulletin Board
ATTACH;FMTTYPE=image/jpeg:https://kwhi.com/wp-content/uploads/2023/05/Fan-Drive.jpg
END:VEVENT
BEGIN:VEVENT
DTSTART;VALUE=DATE:20230222
DTEND;VALUE=DATE:20230223
DTSTAMP:20260425T092046
CREATED:20230221T210405Z
LAST-MODIFIED:20230221T210521Z
UID:287987-1677024000-1677110399@kwhi.com
SUMMARY:GCF Brenham College Group Night
DESCRIPTION:
URL:https://kwhi.com/event/gcf-brenham-college-group-night/
LOCATION:TX\, United States
CATEGORIES:Bulletin Board
ATTACH;FMTTYPE=image/png:https://kwhi.com/wp-content/uploads/2023/02/gcf-brenham-college-group.png
END:VEVENT
BEGIN:VEVENT
DTSTART;TZID=America/Chicago:20230503T130000
DTEND;TZID=America/Chicago:20230503T140000
DTSTAMP:20260425T092046
CREATED:20230427T132900Z
LAST-MODIFIED:20230427T133045Z
UID:293332-1683118800-1683122400@kwhi.com
SUMMARY:RT Family Library Chess Club
DESCRIPTION:
URL:https://kwhi.com/event/rt-family-library-chess-club/
LOCATION:Round Top Family Library\, 206 W. Mill Street\, Round Top\, TX\, 78954\, United States
CATEGORIES:Bulletin Board
ATTACH;FMTTYPE=image/jpeg:https://kwhi.com/wp-content/uploads/2023/04/rt-family-library-chess-club.jpg
END:VEVENT
END:VCALENDAR