BEGIN:VCALENDAR
VERSION:2.0
PRODID:-//KWHI.com - ECPv6.15.17.1//NONSGML v1.0//EN
CALSCALE:GREGORIAN
METHOD:PUBLISH
X-WR-CALNAME:KWHI.com
X-ORIGINAL-URL:https://kwhi.com
X-WR-CALDESC:Events for KWHI.com
REFRESH-INTERVAL;VALUE=DURATION:PT1H
X-Robots-Tag:noindex
X-PUBLISHED-TTL:PT1H
BEGIN:VTIMEZONE
TZID:America/Chicago
BEGIN:DAYLIGHT
TZOFFSETFROM:-0600
TZOFFSETTO:-0500
TZNAME:CDT
DTSTART:20220313T080000
END:DAYLIGHT
BEGIN:STANDARD
TZOFFSETFROM:-0500
TZOFFSETTO:-0600
TZNAME:CST
DTSTART:20221106T070000
END:STANDARD
BEGIN:DAYLIGHT
TZOFFSETFROM:-0600
TZOFFSETTO:-0500
TZNAME:CDT
DTSTART:20230312T080000
END:DAYLIGHT
BEGIN:STANDARD
TZOFFSETFROM:-0500
TZOFFSETTO:-0600
TZNAME:CST
DTSTART:20231105T070000
END:STANDARD
BEGIN:DAYLIGHT
TZOFFSETFROM:-0600
TZOFFSETTO:-0500
TZNAME:CDT
DTSTART:20240310T080000
END:DAYLIGHT
BEGIN:STANDARD
TZOFFSETFROM:-0500
TZOFFSETTO:-0600
TZNAME:CST
DTSTART:20241103T070000
END:STANDARD
END:VTIMEZONE
BEGIN:VEVENT
DTSTART;VALUE=DATE:20230501
DTEND;VALUE=DATE:20230601
DTSTAMP:20260420T074310
CREATED:20230425T144519Z
LAST-MODIFIED:20230425T144819Z
UID:293099-1682899200-1685577599@kwhi.com
SUMMARY:Washington County Fair Queen Contest
DESCRIPTION:The 2023 Washington County Fair Queen Contest Application is now available! Any young woman that will be a junior or senior in the Fall of 2023 and resides in Washington County is eligible to apply and participate.  Each contestant must be an active member of at least one school organization\, such as band or athletics and more\, 4-H\, FFA\, etc.  Please contact your club/organization or the fair office for an application.  Applications are due by June 1st!
URL:https://kwhi.com/event/washington-county-fair-queen-contest/
LOCATION:TX\, United States
CATEGORIES:Bulletin Board
ATTACH;FMTTYPE=image/jpeg:https://kwhi.com/wp-content/uploads/2023/04/wcf-queen-application-23-2.jpg
END:VEVENT
BEGIN:VEVENT
DTSTART;VALUE=DATE:20230508
DTEND;VALUE=DATE:20230606
DTSTAMP:20260420T074310
CREATED:20230508T192932Z
LAST-MODIFIED:20230508T192932Z
UID:294370-1683504000-1686009599@kwhi.com
SUMMARY:Senior Fan Drive
DESCRIPTION:
URL:https://kwhi.com/event/senior-fan-drive/
LOCATION:Brenham Nursing and Rehabilitation Center\, 400 E. Sayles St.\, Brenham\, TX\, 77833\, United States
CATEGORIES:Bulletin Board
ATTACH;FMTTYPE=image/jpeg:https://kwhi.com/wp-content/uploads/2023/05/Fan-Drive.jpg
END:VEVENT
BEGIN:VEVENT
DTSTART;VALUE=DATE:20230518
DTEND;VALUE=DATE:20230521
DTSTAMP:20260420T074310
CREATED:20230404T140925Z
LAST-MODIFIED:20230404T140925Z
UID:291444-1684368000-1684627199@kwhi.com
SUMMARY:Lee County Fair
DESCRIPTION:
URL:https://kwhi.com/event/lee-county-fair/
LOCATION:Lee County Fairgrounds\, 2493 West Hwy. 290\, Giddings\, TX\, 78942\, United States
CATEGORIES:Bulletin Board
ATTACH;FMTTYPE=image/jpeg:https://kwhi.com/wp-content/uploads/2023/04/Lee-County-Fair-Flier-002.jpg
END:VEVENT
BEGIN:VEVENT
DTSTART;VALUE=DATE:20230519
DTEND;VALUE=DATE:20230521
DTSTAMP:20260420T074310
CREATED:20230516T141345Z
LAST-MODIFIED:20230516T141345Z
UID:294997-1684454400-1684627199@kwhi.com
SUMMARY:Burton Baseball Regional Quarter Finals
DESCRIPTION:All the games can be heard live on KWHI 1280AM\, 101.7FM\, and KWHI.com
URL:https://kwhi.com/event/burton-baseball-regional-quarter-finals/
LOCATION:Liberty Hill High School\, 16500 W State Hwy 29\, Liberty Hill\, TX\, 78642\, United States
CATEGORIES:Bulletin Board
ATTACH;FMTTYPE=image/jpeg:https://kwhi.com/wp-content/uploads/2023/05/burton-baseball-regional.jpg
END:VEVENT
BEGIN:VEVENT
DTSTART;VALUE=DATE:20230519
DTEND;VALUE=DATE:20230521
DTSTAMP:20260420T074310
CREATED:20230516T152801Z
LAST-MODIFIED:20230516T152831Z
UID:295010-1684454400-1684627199@kwhi.com
SUMMARY:Edwin L. Hlavaty Benefit Estate Sale
DESCRIPTION:The Texas Czech Genealogical Society\, a 501(C)(3) non-profit society\, is hosting an estate sale to benefit their museum and library building fund on Friday and Saturday\, May 19-20 near Caldwell\, from 8 am until 3 pm.  The sale includes kitchen and household items\, quilts\, linens\, woodworking and carpentry tools\, vintage farm implements\, gardening tools\, antique furniture\, washer and dryer\, solid wood bedroom suit\, dining room\, sofa\, roll top desk and more!  Look for the banner at CR 210.
URL:https://kwhi.com/event/edwin-l-hlavaty-benefit-estate-sale/
LOCATION:TX\, United States
CATEGORIES:Bulletin Board
ATTACH;FMTTYPE=image/png:https://kwhi.com/wp-content/uploads/2023/05/e-h-estate-sale.png
END:VEVENT
BEGIN:VEVENT
DTSTART;VALUE=DATE:20230520
DTEND;VALUE=DATE:20230521
DTSTAMP:20260420T074310
CREATED:20230504T205709Z
LAST-MODIFIED:20230504T205709Z
UID:293946-1684540800-1684627199@kwhi.com
SUMMARY:Brenham Children's Chorus 20th Anniversary Concert
DESCRIPTION:
URL:https://kwhi.com/event/brenham-childrens-chorus-20th-anniversary-concert/
LOCATION:Dr. W.W. O’Donnell Performing Arts Center\, 600 Blinn Blvd.\, Brenham\, TX\, 77833\, United States
CATEGORIES:Bulletin Board
ATTACH;FMTTYPE=image/png:https://kwhi.com/wp-content/uploads/2023/05/make-a-little-music.png
END:VEVENT
BEGIN:VEVENT
DTSTART;VALUE=DATE:20230520
DTEND;VALUE=DATE:20230521
DTSTAMP:20260420T074310
CREATED:20230512T210058Z
LAST-MODIFIED:20230512T210058Z
UID:294815-1684540800-1684627199@kwhi.com
SUMMARY:Pop-Up Play Day
DESCRIPTION:
URL:https://kwhi.com/event/pop-up-play-day-2/
LOCATION:TX\, United States
CATEGORIES:Bulletin Board
ATTACH;FMTTYPE=image/jpeg:https://kwhi.com/wp-content/uploads/2023/05/pop-up-may.jpg
END:VEVENT
BEGIN:VEVENT
DTSTART;TZID=America/Chicago:20230114T070000
DTEND;TZID=America/Chicago:20230114T120000
DTSTAMP:20260420T074310
CREATED:20230106T161309Z
LAST-MODIFIED:20230106T161309Z
UID:283734-1673679600-1673697600@kwhi.com
SUMMARY:Burleson County Farmers' Market
DESCRIPTION:
URL:https://kwhi.com/event/burleson-county-farmers-market/
LOCATION:Downtown Caldwell\, Caldwell\, 77836\, United States
CATEGORIES:Bulletin Board
ATTACH;FMTTYPE=image/jpeg:https://kwhi.com/wp-content/uploads/2023/01/burleson-co-farmers-market.jpg
END:VEVENT
BEGIN:VEVENT
DTSTART;TZID=America/Chicago:20230520T100000
DTEND;TZID=America/Chicago:20230520T170000
DTSTAMP:20260420T074310
CREATED:20230428T200834Z
LAST-MODIFIED:20230428T200834Z
UID:293463-1684576800-1684602000@kwhi.com
SUMMARY:Kopper Kettle Farmer's Market Grand Opening
DESCRIPTION:
URL:https://kwhi.com/event/kopper-kettle-farmers-market-grand-opening/
LOCATION:Kopper Kettle Farmer’s Market & American Crafted Fair\, 2403 Washington St.\, Waller\, TX\, 77484\, United States
CATEGORIES:Bulletin Board
ATTACH;FMTTYPE=image/jpeg:https://kwhi.com/wp-content/uploads/2023/04/kopper-kettle-grand-opening.jpg
END:VEVENT
END:VCALENDAR