BEGIN:VCALENDAR
VERSION:2.0
PRODID:-//KWHI.com - ECPv6.15.17.1//NONSGML v1.0//EN
CALSCALE:GREGORIAN
METHOD:PUBLISH
X-ORIGINAL-URL:https://kwhi.com
X-WR-CALDESC:Events for KWHI.com
REFRESH-INTERVAL;VALUE=DURATION:PT1H
X-Robots-Tag:noindex
X-PUBLISHED-TTL:PT1H
BEGIN:VTIMEZONE
TZID:America/Chicago
BEGIN:DAYLIGHT
TZOFFSETFROM:-0600
TZOFFSETTO:-0500
TZNAME:CDT
DTSTART:20220313T080000
END:DAYLIGHT
BEGIN:STANDARD
TZOFFSETFROM:-0500
TZOFFSETTO:-0600
TZNAME:CST
DTSTART:20221106T070000
END:STANDARD
BEGIN:DAYLIGHT
TZOFFSETFROM:-0600
TZOFFSETTO:-0500
TZNAME:CDT
DTSTART:20230312T080000
END:DAYLIGHT
BEGIN:STANDARD
TZOFFSETFROM:-0500
TZOFFSETTO:-0600
TZNAME:CST
DTSTART:20231105T070000
END:STANDARD
BEGIN:DAYLIGHT
TZOFFSETFROM:-0600
TZOFFSETTO:-0500
TZNAME:CDT
DTSTART:20240310T080000
END:DAYLIGHT
BEGIN:STANDARD
TZOFFSETFROM:-0500
TZOFFSETTO:-0600
TZNAME:CST
DTSTART:20241103T070000
END:STANDARD
END:VTIMEZONE
BEGIN:VEVENT
DTSTART;VALUE=DATE:20230608
DTEND;VALUE=DATE:20230620
DTSTAMP:20260420T155112
CREATED:20230523T140027Z
LAST-MODIFIED:20230523T140027Z
UID:295648-1686182400-1687219199@kwhi.com
SUMMARY:Book Fair-Navasota
DESCRIPTION:
URL:https://kwhi.com/event/book-fair-navasota/
LOCATION:Navasota Public Library\, 1411 E. Washington Ave.\, Navasota\, TX\, 77868\, United States
CATEGORIES:Bulletin Board
ATTACH;FMTTYPE=image/png:https://kwhi.com/wp-content/uploads/2023/05/navasota-book-fair-june.png
END:VEVENT
BEGIN:VEVENT
DTSTART;VALUE=DATE:20230608
DTEND;VALUE=DATE:20230626
DTSTAMP:20260420T155112
CREATED:20230512T205819Z
LAST-MODIFIED:20230512T205907Z
UID:294807-1686182400-1687737599@kwhi.com
SUMMARY:Unity Theatre presents a Musical GODSPELL
DESCRIPTION:
URL:https://kwhi.com/event/unity-theatre-presents-a-musical-godspell/
LOCATION:Unity Theatre\, 300 Church Street\, Brenham\, TX\, 77833\, United States
CATEGORIES:Bulletin Board
ATTACH;FMTTYPE=image/jpeg:https://kwhi.com/wp-content/uploads/2023/05/Godspell.jpg
END:VEVENT
BEGIN:VEVENT
DTSTART;VALUE=DATE:20230608
DTEND;VALUE=DATE:20230719
DTSTAMP:20260420T155112
CREATED:20230608T200617Z
LAST-MODIFIED:20230608T200716Z
UID:297063-1686182400-1689724799@kwhi.com
SUMMARY:Summer Reading at NCRML
DESCRIPTION:
URL:https://kwhi.com/event/summer-reading-at-ncrml/
LOCATION:Nancy Carol Roberts Memorial Library\, 100 W. Martin Luther King Jr. Pky\, Brenham\, TX\, 77833\, United States
CATEGORIES:Bulletin Board
ATTACH;FMTTYPE=image/jpeg:https://kwhi.com/wp-content/uploads/2023/06/summer-reading-NCRML.jpg
END:VEVENT
BEGIN:VEVENT
DTSTART;VALUE=DATE:20230608
DTEND;VALUE=DATE:20230801
DTSTAMP:20260420T155112
CREATED:20230608T200335Z
LAST-MODIFIED:20230608T200400Z
UID:297060-1686182400-1690847999@kwhi.com
SUMMARY:Brenham ISD School Supply List
DESCRIPTION:School Supply Lists\nSchool supply lists for the 2023-24 school year are available online on our Brenham ISD website here. You can view the lists to purchase on your own or order directly through EPI.  \nSponsor a Student\, Classroom\, or Grade Level\nIf you are interested or need more information on how to sponsor a student\, classroom\, or grade-level school supplies please visit the Brenhamchanges website.  \nRequestion for Sponsorship\nIf you are in need of help with your child's school supplies for the 2023-2024 school year\, please fill out the form below entirely for each child who needs sponsorship. This is on a first come first serve basis.  \nEnglish: School Supplies Request for Sponsorship \nSpanish: Útiles escolares Solicitud de patrocinio  \nFor questions on school supplies\, ordering\, or sponsorships please contact Courtney Mason at cmason@brenhamk-12.net or by phone at 979-277-3719.
URL:https://kwhi.com/event/brenham-isd-school-supply-list/
LOCATION:TX\, United States
CATEGORIES:Bulletin Board
ATTACH;FMTTYPE=image/jpeg:https://kwhi.com/wp-content/uploads/2023/06/brenham-ISD-school-supplies.jpg
END:VEVENT
BEGIN:VEVENT
DTSTART;VALUE=DATE:20230612
DTEND;VALUE=DATE:20230616
DTSTAMP:20260420T155112
CREATED:20230518T150036Z
LAST-MODIFIED:20230606T204228Z
UID:295289-1686528000-1686873599@kwhi.com
SUMMARY:Brenham ISD Summer Meals for Children
DESCRIPTION:Monday June 12\nBreakfast:  chocolate pop tart\, apple juice\, fresh orange\nLunch:  tangerine chicken w/fried rice & egg roll\, fresh cucumber slices\, green beans\, fresh apple\, strawberry cup\nTuesday June 13\nBreakfast: sausage\, egg\, & cheese croissant\, mixed fruit cup\, fresh apple\, grape jelly \nLunch:  chicken bites w/roll\, charro beans\, fresh side salad\, mixed fruit cup\, fresh orange\nWednesday June 14\nBreakfast:  cinnamon French toast sticks\, applesauce cup\, fresh strawberries\, syrup\nLunch:  crispy chicken burger w/cheese\, fresh sandwich trimmings\, seasoned curly fries\, pear cup\, fresh watermelon\nThursday June 15\nBreakfast:  bacon & egg breakfast taco\, mixed fruit cup\, fresh orange\, picante sauce\nLunch:  hamburger\, fresh sandwich trimmings\, sweet potato fries\, raspberry applesauce\, fresh strawberries
URL:https://kwhi.com/event/brenham-isd-summer-meals-for-children-2/
LOCATION:Krause Elementary School\, 2201 East Stone Street\, Brenham\, TX\, 77833\, United States
CATEGORIES:Bulletin Board
ATTACH;FMTTYPE=image/jpeg:https://kwhi.com/wp-content/uploads/2023/05/free-summer-meals.jpg
END:VEVENT
BEGIN:VEVENT
DTSTART;VALUE=DATE:20230613
DTEND;VALUE=DATE:20230614
DTSTAMP:20260420T155112
CREATED:20221111T213847Z
LAST-MODIFIED:20221111T213847Z
UID:249414-1686614400-1686700799@kwhi.com
SUMMARY:Bunco Night
DESCRIPTION:Whether it be girls’ night out\, mom’s night out or just date night come out and join us for a night of fun\, laughter and good friendships. \n@ Brenham Elks Lodge  \nSecond Tuesday of each month @ 6:30pm. Bring a gift and a finger food of your choice if you would like. $5.00 a person to play. If the men would like to join\, that’s fine too.
URL:https://kwhi.com/event/bunco-night-7/
LOCATION:Brenham Elks Lodge\, 400 E. Germania\, Brenham\, TX\, 77833\, United States
CATEGORIES:Bulletin Board
ATTACH;FMTTYPE=image/png:https://kwhi.com/wp-content/uploads/2022/11/bunco-night-Picture1.png
END:VEVENT
BEGIN:VEVENT
DTSTART;VALUE=DATE:20230613
DTEND;VALUE=DATE:20230614
DTSTAMP:20260420T155112
CREATED:20230410T200520Z
LAST-MODIFIED:20230410T200520Z
UID:291825-1686614400-1686700799@kwhi.com
SUMMARY:WCJA Family Day at the Park
DESCRIPTION:
URL:https://kwhi.com/event/wcja-family-day-at-the-park/
LOCATION:Jackson Street Park\, 1300 South Jackson\, Brenham\, TX\, 77833\, United States
CATEGORIES:Bulletin Board
ATTACH;FMTTYPE=image/jpeg:https://kwhi.com/wp-content/uploads/2023/04/Juneteenth-2023-Calendar-of-Events_-002.jpeg
END:VEVENT
BEGIN:VEVENT
DTSTART;VALUE=DATE:20230613
DTEND;VALUE=DATE:20230614
DTSTAMP:20260420T155112
CREATED:20230428T151013Z
LAST-MODIFIED:20230428T151013Z
UID:293436-1686614400-1686700799@kwhi.com
SUMMARY:RT Family Library Kids S.E.E. Programs
DESCRIPTION:
URL:https://kwhi.com/event/rt-family-library-kids-s-e-e-programs/
LOCATION:Round Top Family Library\, 206 W. Mill Street\, Round Top\, TX\, 78954\, United States
CATEGORIES:Bulletin Board
ATTACH;FMTTYPE=image/jpeg:https://kwhi.com/wp-content/uploads/2023/04/rt-family-library-summer-sessions.jpg
END:VEVENT
BEGIN:VEVENT
DTSTART;VALUE=DATE:20230613
DTEND;VALUE=DATE:20230616
DTSTAMP:20260420T155112
CREATED:20230517T204851Z
LAST-MODIFIED:20230517T204851Z
UID:295157-1686614400-1686873599@kwhi.com
SUMMARY:Cubette Soccer Kids Camp
DESCRIPTION:
URL:https://kwhi.com/event/cubette-soccer-kids-camp/
LOCATION:Brenham High School (soccer fields)\, 525 A H Ehrig Drive\, Brenham\, TX\, 77833\, United States
CATEGORIES:Bulletin Board
ATTACH;FMTTYPE=image/png:https://kwhi.com/wp-content/uploads/2023/05/cubette-soccer-kids-camp.png
END:VEVENT
BEGIN:VEVENT
DTSTART;VALUE=DATE:20230613
DTEND;VALUE=DATE:20230616
DTSTAMP:20260420T155112
CREATED:20230608T201759Z
LAST-MODIFIED:20230608T202051Z
UID:297070-1686614400-1686873599@kwhi.com
SUMMARY:Brenham Summer Sports Camp Schedule
DESCRIPTION:
URL:https://kwhi.com/event/brenham-summer-sports-camp-schedule/
LOCATION:TX\, United States
CATEGORIES:Bulletin Board
ATTACH;FMTTYPE=image/jpeg:https://kwhi.com/wp-content/uploads/2023/06/BISD-summer-sports-camp-3.jpg
END:VEVENT
BEGIN:VEVENT
DTSTART;TZID=America/Chicago:20230613T160000
DTEND;TZID=America/Chicago:20230613T180000
DTSTAMP:20260420T155112
CREATED:20230525T175001Z
LAST-MODIFIED:20230525T175001Z
UID:295864-1686672000-1686679200@kwhi.com
SUMMARY:Connect After 4 Networking Event
DESCRIPTION:
URL:https://kwhi.com/event/connect-after-4-networking-event-4/
LOCATION:Brenham Nursing and Rehabilitation Center\, 400 E. Sayles St.\, Brenham\, TX\, 77833\, United States
CATEGORIES:Bulletin Board
ATTACH;FMTTYPE=image/jpeg:https://kwhi.com/wp-content/uploads/2023/05/connect-after-4-june.jpg
END:VEVENT
END:VCALENDAR