BEGIN:VCALENDAR
VERSION:2.0
PRODID:-//KWHI.com - ECPv6.15.17.1//NONSGML v1.0//EN
CALSCALE:GREGORIAN
METHOD:PUBLISH
X-WR-CALNAME:KWHI.com
X-ORIGINAL-URL:https://kwhi.com
X-WR-CALDESC:Events for KWHI.com
REFRESH-INTERVAL;VALUE=DURATION:PT1H
X-Robots-Tag:noindex
X-PUBLISHED-TTL:PT1H
BEGIN:VTIMEZONE
TZID:America/Chicago
BEGIN:DAYLIGHT
TZOFFSETFROM:-0600
TZOFFSETTO:-0500
TZNAME:CDT
DTSTART:20220313T080000
END:DAYLIGHT
BEGIN:STANDARD
TZOFFSETFROM:-0500
TZOFFSETTO:-0600
TZNAME:CST
DTSTART:20221106T070000
END:STANDARD
BEGIN:DAYLIGHT
TZOFFSETFROM:-0600
TZOFFSETTO:-0500
TZNAME:CDT
DTSTART:20230312T080000
END:DAYLIGHT
BEGIN:STANDARD
TZOFFSETFROM:-0500
TZOFFSETTO:-0600
TZNAME:CST
DTSTART:20231105T070000
END:STANDARD
BEGIN:DAYLIGHT
TZOFFSETFROM:-0600
TZOFFSETTO:-0500
TZNAME:CDT
DTSTART:20240310T080000
END:DAYLIGHT
BEGIN:STANDARD
TZOFFSETFROM:-0500
TZOFFSETTO:-0600
TZNAME:CST
DTSTART:20241103T070000
END:STANDARD
END:VTIMEZONE
BEGIN:VEVENT
DTSTART;VALUE=DATE:20230608
DTEND;VALUE=DATE:20230719
DTSTAMP:20260420T130859
CREATED:20230608T200617Z
LAST-MODIFIED:20230608T200716Z
UID:297063-1686182400-1689724799@kwhi.com
SUMMARY:Summer Reading at NCRML
DESCRIPTION:
URL:https://kwhi.com/event/summer-reading-at-ncrml/
LOCATION:Nancy Carol Roberts Memorial Library\, 100 W. Martin Luther King Jr. Pky\, Brenham\, TX\, 77833\, United States
CATEGORIES:Bulletin Board
ATTACH;FMTTYPE=image/jpeg:https://kwhi.com/wp-content/uploads/2023/06/summer-reading-NCRML.jpg
END:VEVENT
BEGIN:VEVENT
DTSTART;VALUE=DATE:20230608
DTEND;VALUE=DATE:20230801
DTSTAMP:20260420T130859
CREATED:20230608T200335Z
LAST-MODIFIED:20230608T200400Z
UID:297060-1686182400-1690847999@kwhi.com
SUMMARY:Brenham ISD School Supply List
DESCRIPTION:School Supply Lists\nSchool supply lists for the 2023-24 school year are available online on our Brenham ISD website here. You can view the lists to purchase on your own or order directly through EPI.  \nSponsor a Student\, Classroom\, or Grade Level\nIf you are interested or need more information on how to sponsor a student\, classroom\, or grade-level school supplies please visit the Brenhamchanges website.  \nRequestion for Sponsorship\nIf you are in need of help with your child's school supplies for the 2023-2024 school year\, please fill out the form below entirely for each child who needs sponsorship. This is on a first come first serve basis.  \nEnglish: School Supplies Request for Sponsorship \nSpanish: Útiles escolares Solicitud de patrocinio  \nFor questions on school supplies\, ordering\, or sponsorships please contact Courtney Mason at cmason@brenhamk-12.net or by phone at 979-277-3719.
URL:https://kwhi.com/event/brenham-isd-school-supply-list/
LOCATION:TX\, United States
CATEGORIES:Bulletin Board
ATTACH;FMTTYPE=image/jpeg:https://kwhi.com/wp-content/uploads/2023/06/brenham-ISD-school-supplies.jpg
END:VEVENT
BEGIN:VEVENT
DTSTART;VALUE=DATE:20230626
DTEND;VALUE=DATE:20230727
DTSTAMP:20260420T130859
CREATED:20230609T200446Z
LAST-MODIFIED:20230609T200446Z
UID:297169-1687737600-1690415999@kwhi.com
SUMMARY:Boys & Girls Club of Washington County Registration OPEN
DESCRIPTION:
URL:https://kwhi.com/event/boys-girls-club-of-washington-county-registration-open/
LOCATION:TX\, United States
CATEGORIES:Bulletin Board
ATTACH;FMTTYPE=image/jpeg:https://kwhi.com/wp-content/uploads/2023/06/Boys-and-Girls-Club-Registration.jpg
END:VEVENT
BEGIN:VEVENT
DTSTART;VALUE=DATE:20230627
DTEND;VALUE=DATE:20230701
DTSTAMP:20260420T130859
CREATED:20230608T141837Z
LAST-MODIFIED:20230608T142000Z
UID:297036-1687824000-1688169599@kwhi.com
SUMMARY:City Wide Mission presents YOUTH SUMMIT
DESCRIPTION:Mark your calendars and send the children for a fun-filled\, inspirational and educational week of activities\, including Bible lessons\, vision boards\, arts and crafts\, music and more! We will have exceptional teachers and motivational speakers.
URL:https://kwhi.com/event/city-wide-mission-presents-youth-summit/
LOCATION:TX\, United States
CATEGORIES:Bulletin Board
ATTACH;FMTTYPE=image/jpeg:https://kwhi.com/wp-content/uploads/2023/06/youth-summit-1.jpg
END:VEVENT
BEGIN:VEVENT
DTSTART;VALUE=DATE:20230630
DTEND;VALUE=DATE:20230701
DTSTAMP:20260420T130859
CREATED:20230531T213702Z
LAST-MODIFIED:20230531T213702Z
UID:296203-1688083200-1688169599@kwhi.com
SUMMARY:Freedom Festival-Navasota
DESCRIPTION:
URL:https://kwhi.com/event/freedom-festival-navasota/
LOCATION:TX\, United States
CATEGORIES:Bulletin Board
ATTACH;FMTTYPE=image/jpeg:https://kwhi.com/wp-content/uploads/2023/05/freedom-festival-navasota.jpg
END:VEVENT
BEGIN:VEVENT
DTSTART;VALUE=DATE:20230630
DTEND;VALUE=DATE:20230701
DTSTAMP:20260420T130859
CREATED:20230531T213837Z
LAST-MODIFIED:20230531T213837Z
UID:296206-1688083200-1688169599@kwhi.com
SUMMARY:Freedom Festival Entertainment-Navasota
DESCRIPTION:
URL:https://kwhi.com/event/freedom-festival-entertainment-navasota/
LOCATION:TX\, United States
CATEGORIES:Bulletin Board
ATTACH;FMTTYPE=image/jpeg:https://kwhi.com/wp-content/uploads/2023/05/freedom-festival-navasota-entertainment.jpg
END:VEVENT
BEGIN:VEVENT
DTSTART;VALUE=DATE:20230630
DTEND;VALUE=DATE:20230701
DTSTAMP:20260420T130859
CREATED:20230609T151503Z
LAST-MODIFIED:20230609T151503Z
UID:297133-1688083200-1688169599@kwhi.com
SUMMARY:Stars & Stripes Senior Citizen Parade
DESCRIPTION:7 Stops at local Assisted Living Centers!
URL:https://kwhi.com/event/stars-stripes-senior-citizen-parade/
LOCATION:TX\, United States
CATEGORIES:Bulletin Board
ATTACH;FMTTYPE=image/jpeg:https://kwhi.com/wp-content/uploads/2023/06/senior-citizens-parade.jpg
END:VEVENT
BEGIN:VEVENT
DTSTART;VALUE=DATE:20230630
DTEND;VALUE=DATE:20230701
DTSTAMP:20260420T130859
CREATED:20230619T200659Z
LAST-MODIFIED:20230619T200659Z
UID:297887-1688083200-1688169599@kwhi.com
SUMMARY:City of Navasota 4th of July Parade
DESCRIPTION:City of Navasota will get things started off at 6pm with the 4th of July Parade. Bring the whole family out & have some fun\, participation in the parade is FREE & does not require registration. Participants can begin lining up at 5pm on Brosig Avenue.  Afterwards\, head over to City Hall at 7pm for a free concert & fireworks show. You don't want to miss 4th of July celebrations in Navasota this year! For more information: \nhttps://www.navasotatx.gov/calendar.php?view=day&month=06&day=30&year=2023&calendar=&id=28
URL:https://kwhi.com/event/city-of-navasota-4th-of-july-parade/
LOCATION:TX\, United States
ATTACH;FMTTYPE=image/jpeg:https://kwhi.com/wp-content/uploads/2023/06/navasota-4th-of-july-parade.jpg
END:VEVENT
BEGIN:VEVENT
DTSTART;VALUE=DATE:20230630
DTEND;VALUE=DATE:20230701
DTSTAMP:20260420T130859
CREATED:20230623T211556Z
LAST-MODIFIED:20230623T211817Z
UID:298334-1688083200-1688169599@kwhi.com
SUMMARY:BOB Independence Day Celebration/Customer Appreciation/Dessert Auction
DESCRIPTION:
URL:https://kwhi.com/event/bob-independence-day-celebration-customer-appreciation-dessert-auction/
LOCATION:Bank of Brenham (CADENCE Bank)\, 501 South Austin\, Brenham\, TX\, 77833\, United States
CATEGORIES:Bulletin Board
ATTACH;FMTTYPE=image/jpeg:https://kwhi.com/wp-content/uploads/2023/06/Independence-Day-Celebration_2-01-002-1.jpg
END:VEVENT
END:VCALENDAR