BEGIN:VCALENDAR
VERSION:2.0
PRODID:-//KWHI.com - ECPv6.15.17.1//NONSGML v1.0//EN
CALSCALE:GREGORIAN
METHOD:PUBLISH
X-WR-CALNAME:KWHI.com
X-ORIGINAL-URL:https://kwhi.com
X-WR-CALDESC:Events for KWHI.com
REFRESH-INTERVAL;VALUE=DURATION:PT1H
X-Robots-Tag:noindex
X-PUBLISHED-TTL:PT1H
BEGIN:VTIMEZONE
TZID:America/Chicago
BEGIN:DAYLIGHT
TZOFFSETFROM:-0600
TZOFFSETTO:-0500
TZNAME:CDT
DTSTART:20220313T080000
END:DAYLIGHT
BEGIN:STANDARD
TZOFFSETFROM:-0500
TZOFFSETTO:-0600
TZNAME:CST
DTSTART:20221106T070000
END:STANDARD
BEGIN:DAYLIGHT
TZOFFSETFROM:-0600
TZOFFSETTO:-0500
TZNAME:CDT
DTSTART:20230312T080000
END:DAYLIGHT
BEGIN:STANDARD
TZOFFSETFROM:-0500
TZOFFSETTO:-0600
TZNAME:CST
DTSTART:20231105T070000
END:STANDARD
BEGIN:DAYLIGHT
TZOFFSETFROM:-0600
TZOFFSETTO:-0500
TZNAME:CDT
DTSTART:20240310T080000
END:DAYLIGHT
BEGIN:STANDARD
TZOFFSETFROM:-0500
TZOFFSETTO:-0600
TZNAME:CST
DTSTART:20241103T070000
END:STANDARD
END:VTIMEZONE
BEGIN:VEVENT
DTSTART;VALUE=DATE:20230901
DTEND;VALUE=DATE:20230919
DTSTAMP:20260421T151200
CREATED:20230825T135214Z
LAST-MODIFIED:20230825T135214Z
UID:302481-1693526400-1695081599@kwhi.com
SUMMARY:Washington County Fair Country Creation News
DESCRIPTION:Country Creation Exhibits will be in the EXPO EVENT CENTER for the 2023 Washington County Fair.  All residents of the county are invited and encouraged to participate. \nArt\, Alternative Foods\, Canned Products\, Creative Arts and Crafts\, Designer Craftsman\, Machine Sewn\, Needlework\, Photography and Quilt exhibits are to be entered Thursday September 14th from 3 until 7 pm.  School Art check-in is September 14th from 4 to 5 pm.  \nCheck-in time for Baked\, Confections\, Floral and Vegetables is Monday September 18th from 7:30 to 9:00 am. \nBoth Adult and Youth Division Catalogues can be found on-line at:   washingtoncofair.com/p/thefair/country-creations \nYouth exhibitors must be registered online in the ShoWorks system by 6 p.m. September 4th.  \nAdult exhibitors can obtain an exhibitor number for $2. when they check-in.
URL:https://kwhi.com/event/washington-county-fair-country-creation-news-2/
CATEGORIES:Bulletin Board
ATTACH;FMTTYPE=image/jpeg:https://kwhi.com/wp-content/uploads/2023/08/wcf-event-center.jpg
END:VEVENT
BEGIN:VEVENT
DTSTART;VALUE=DATE:20230912
DTEND;VALUE=DATE:20231001
DTSTAMP:20260421T151200
CREATED:20230912T135008Z
LAST-MODIFIED:20230912T135008Z
UID:303774-1694476800-1696118399@kwhi.com
SUMMARY:Painted Cub Paws are Back
DESCRIPTION:
URL:https://kwhi.com/event/painted-cub-paws-are-back/
CATEGORIES:Bulletin Board
ATTACH;FMTTYPE=image/jpeg:https://kwhi.com/wp-content/uploads/2023/09/cub-paws-painted.jpg
END:VEVENT
BEGIN:VEVENT
DTSTART;VALUE=DATE:20230222
DTEND;VALUE=DATE:20230223
DTSTAMP:20260421T151200
CREATED:20230221T210405Z
LAST-MODIFIED:20230221T210521Z
UID:287987-1677024000-1677110399@kwhi.com
SUMMARY:GCF Brenham College Group Night
DESCRIPTION:
URL:https://kwhi.com/event/gcf-brenham-college-group-night/
LOCATION:TX\, United States
CATEGORIES:Bulletin Board
ATTACH;FMTTYPE=image/png:https://kwhi.com/wp-content/uploads/2023/02/gcf-brenham-college-group.png
END:VEVENT
END:VCALENDAR