BEGIN:VCALENDAR
VERSION:2.0
PRODID:-//KWHI.com - ECPv6.15.17.1//NONSGML v1.0//EN
CALSCALE:GREGORIAN
METHOD:PUBLISH
X-WR-CALNAME:KWHI.com
X-ORIGINAL-URL:https://kwhi.com
X-WR-CALDESC:Events for KWHI.com
REFRESH-INTERVAL;VALUE=DURATION:PT1H
X-Robots-Tag:noindex
X-PUBLISHED-TTL:PT1H
BEGIN:VTIMEZONE
TZID:America/Chicago
BEGIN:DAYLIGHT
TZOFFSETFROM:-0600
TZOFFSETTO:-0500
TZNAME:CDT
DTSTART:20220313T080000
END:DAYLIGHT
BEGIN:STANDARD
TZOFFSETFROM:-0500
TZOFFSETTO:-0600
TZNAME:CST
DTSTART:20221106T070000
END:STANDARD
BEGIN:DAYLIGHT
TZOFFSETFROM:-0600
TZOFFSETTO:-0500
TZNAME:CDT
DTSTART:20230312T080000
END:DAYLIGHT
BEGIN:STANDARD
TZOFFSETFROM:-0500
TZOFFSETTO:-0600
TZNAME:CST
DTSTART:20231105T070000
END:STANDARD
BEGIN:DAYLIGHT
TZOFFSETFROM:-0600
TZOFFSETTO:-0500
TZNAME:CDT
DTSTART:20240310T080000
END:DAYLIGHT
BEGIN:STANDARD
TZOFFSETFROM:-0500
TZOFFSETTO:-0600
TZNAME:CST
DTSTART:20241103T070000
END:STANDARD
END:VTIMEZONE
BEGIN:VEVENT
DTSTART;VALUE=DATE:20231017
DTEND;VALUE=DATE:20231120
DTSTAMP:20260422T173415
CREATED:20231017T192546Z
LAST-MODIFIED:20231017T192546Z
UID:306684-1697500800-1700438399@kwhi.com
SUMMARY:Brenham Youth Basketball Registration Now Open
DESCRIPTION:
URL:https://kwhi.com/event/brenham-youth-basketball-registration-now-open/
LOCATION:TX
CATEGORIES:Bulletin Board
ATTACH;FMTTYPE=image/jpeg:https://kwhi.com/wp-content/uploads/2023/10/brenham-youth-bb.jpg
END:VEVENT
BEGIN:VEVENT
DTSTART;VALUE=DATE:20230222
DTEND;VALUE=DATE:20230223
DTSTAMP:20260422T173415
CREATED:20230221T210405Z
LAST-MODIFIED:20230221T210521Z
UID:287987-1677024000-1677110399@kwhi.com
SUMMARY:GCF Brenham College Group Night
DESCRIPTION:
URL:https://kwhi.com/event/gcf-brenham-college-group-night/
LOCATION:TX\, United States
CATEGORIES:Bulletin Board
ATTACH;FMTTYPE=image/png:https://kwhi.com/wp-content/uploads/2023/02/gcf-brenham-college-group.png
END:VEVENT
BEGIN:VEVENT
DTSTART;TZID=America/Chicago:20231025T100000
DTEND;TZID=America/Chicago:20231025T143000
DTSTAMP:20260422T173415
CREATED:20231017T205129Z
LAST-MODIFIED:20231017T205129Z
UID:306698-1698228000-1698244200@kwhi.com
SUMMARY:Blood Drive
DESCRIPTION:
URL:https://kwhi.com/event/blood-drive-2/
LOCATION:Brenham Veterinary Hospital\, 2455 US-290\, Brenham\, TX\, 77833\, United States
CATEGORIES:Bulletin Board
ATTACH;FMTTYPE=image/png:https://kwhi.com/wp-content/uploads/2023/10/blood-drive-oct-25.png
END:VEVENT
END:VCALENDAR