BEGIN:VCALENDAR
VERSION:2.0
PRODID:-//KWHI.com - ECPv6.15.17.1//NONSGML v1.0//EN
CALSCALE:GREGORIAN
METHOD:PUBLISH
X-WR-CALNAME:KWHI.com
X-ORIGINAL-URL:https://kwhi.com
X-WR-CALDESC:Events for KWHI.com
REFRESH-INTERVAL;VALUE=DURATION:PT1H
X-Robots-Tag:noindex
X-PUBLISHED-TTL:PT1H
BEGIN:VTIMEZONE
TZID:America/Chicago
BEGIN:DAYLIGHT
TZOFFSETFROM:-0600
TZOFFSETTO:-0500
TZNAME:CDT
DTSTART:20230312T080000
END:DAYLIGHT
BEGIN:STANDARD
TZOFFSETFROM:-0500
TZOFFSETTO:-0600
TZNAME:CST
DTSTART:20231105T070000
END:STANDARD
BEGIN:DAYLIGHT
TZOFFSETFROM:-0600
TZOFFSETTO:-0500
TZNAME:CDT
DTSTART:20240310T080000
END:DAYLIGHT
BEGIN:STANDARD
TZOFFSETFROM:-0500
TZOFFSETTO:-0600
TZNAME:CST
DTSTART:20241103T070000
END:STANDARD
BEGIN:DAYLIGHT
TZOFFSETFROM:-0600
TZOFFSETTO:-0500
TZNAME:CDT
DTSTART:20250309T080000
END:DAYLIGHT
BEGIN:STANDARD
TZOFFSETFROM:-0500
TZOFFSETTO:-0600
TZNAME:CST
DTSTART:20251102T070000
END:STANDARD
END:VTIMEZONE
BEGIN:VEVENT
DTSTART;VALUE=DATE:20240124
DTEND;VALUE=DATE:20240215
DTSTAMP:20260422T173622
CREATED:20240124T150313Z
LAST-MODIFIED:20240124T182029Z
UID:313982-1706054400-1707955199@kwhi.com
SUMMARY:Brenham Animal Services Half-Price Dog Adoptions
DESCRIPTION:Come get a fur-ever Valentine Half-price dog adoptions until 2/14/24! They all come spayed/neutered\, vaccinated and microchipped. \nhttps://www.petfinder.com/search/pets-for-adoption/
URL:https://kwhi.com/event/brenham-animal-services-half-price-adoptions/
LOCATION:Brenham Animal Services and Adoption Center\, 1804 Longwood Drive\, Brenham\, TX\, 77833\, United States
CATEGORIES:Bulletin Board
ATTACH;FMTTYPE=image/jpeg:https://kwhi.com/wp-content/uploads/2024/01/pet-adoption-feb.jpg
END:VEVENT
BEGIN:VEVENT
DTSTART;VALUE=DATE:20240201
DTEND;VALUE=DATE:20240302
DTSTAMP:20260422T173622
CREATED:20240110T145023Z
LAST-MODIFIED:20240110T145023Z
UID:312680-1706745600-1709337599@kwhi.com
SUMMARY:Spring Tomato and Pepper Plant Sale
DESCRIPTION:
URL:https://kwhi.com/event/spring-tomato-and-pepper-plant-sale/
LOCATION:Texas A&M AgriLife Extension (Washington County)\, 1305 East Blue Bell Road\, Brenham\, TX\, 77833\, United States
CATEGORIES:Bulletin Board
ATTACH;FMTTYPE=image/jpeg:https://kwhi.com/wp-content/uploads/2024/01/tomato-pepper-plant-sale-2024.jpg
END:VEVENT
BEGIN:VEVENT
DTSTART;VALUE=DATE:20240201
DTEND;VALUE=DATE:20240316
DTSTAMP:20260422T173622
CREATED:20240118T143735Z
LAST-MODIFIED:20240118T143735Z
UID:313382-1706745600-1710547199@kwhi.com
SUMMARY:Washington County Fair Scholarship Program
DESCRIPTION:The 2024 Washington County Fair Scholarship Application is now open! Updated guidelines and application can be found on our website! >> http://tinyurl.com/k2apkhyz
URL:https://kwhi.com/event/washington-county-fair-scholarship-program/
LOCATION:TX
CATEGORIES:Bulletin Board
ATTACH;FMTTYPE=image/jpeg:https://kwhi.com/wp-content/uploads/2024/01/wcf-scholarships.jpg
END:VEVENT
BEGIN:VEVENT
DTSTART;VALUE=DATE:20240205
DTEND;VALUE=DATE:20240301
DTSTAMP:20260422T173622
CREATED:20240205T223432Z
LAST-MODIFIED:20240205T223432Z
UID:315216-1707091200-1709251199@kwhi.com
SUMMARY:Washington County A&M Club Sponsorship Drive
DESCRIPTION:
URL:https://kwhi.com/event/washington-county-am-club-sponsorship-drive/
LOCATION:TX
CATEGORIES:Bulletin Board
ATTACH;FMTTYPE=image/png:https://kwhi.com/wp-content/uploads/2024/02/wc-am-club-sponsorships.png
END:VEVENT
BEGIN:VEVENT
DTSTART;VALUE=DATE:20240208
DTEND;VALUE=DATE:20240226
DTSTAMP:20260422T173622
CREATED:20240117T214527Z
LAST-MODIFIED:20240117T214527Z
UID:313329-1707350400-1708905599@kwhi.com
SUMMARY:Unity Theatre presents "The Crucible"
DESCRIPTION:In the spring of 1682 a Salem village reverend discovers a group of teenage girls dancing around a fire in the woods. When his daughter exhibits strange symptoms the next morning\, the town becomes frenzied with talk of witchcraft.  Neighbor is pitted against neighbor and the deeply religious community is torn apart. The Crucible is a timeless parable about morality and the consequences when fear takes root in a community. The play won the 1953 Tony Award for Best Play and is considered a landmark work in the canon of American drama.
URL:https://kwhi.com/event/unity-theatre-presents-the-crucible/
LOCATION:Unity Theatre\, 300 Church Street\, Brenham\, TX\, 77833\, United States
CATEGORIES:Bulletin Board
ATTACH;FMTTYPE=image/jpeg:https://kwhi.com/wp-content/uploads/2024/01/the-crucible.jpg
END:VEVENT
BEGIN:VEVENT
DTSTART;VALUE=DATE:20240105
DTEND;VALUE=DATE:20240106
DTSTAMP:20260422T173622
CREATED:20231220T153957Z
LAST-MODIFIED:20231220T153957Z
UID:311445-1704412800-1704499199@kwhi.com
SUMMARY:Texas Farm Bureau Scholarships Now Open
DESCRIPTION:
URL:https://kwhi.com/event/texas-farm-bureau-scholarships-now-open/
LOCATION:TX
CATEGORIES:Bulletin Board
ATTACH;FMTTYPE=image/jpeg:https://kwhi.com/wp-content/uploads/2023/12/tx-farm-bureau-scholarships.jpg
END:VEVENT
BEGIN:VEVENT
DTSTART;VALUE=DATE:20240112
DTEND;VALUE=DATE:20240113
DTSTAMP:20260422T173622
CREATED:20240105T183022Z
LAST-MODIFIED:20240105T192101Z
UID:312366-1705017600-1705103999@kwhi.com
SUMMARY:Brenham Elks Friday Night Steak Dinner
DESCRIPTION:The weekly Friday night steak dinner begins at 6:30 PM at Brenham Elks Lodge #979\, with all members and guests invited\n- 16 oz Boneless Ribeye with Baked Potato\, Salad\, and Dessert\n- Chef's Choice: Pork & Beef Stew with cornbread\, salad and dessert
URL:https://kwhi.com/event/brenham-elks-friday-night-steak-dinner/
LOCATION:Brenham Elks Lodge 979\, 400 East Germania\, Brenham\, TX\, 77833\, United States
CATEGORIES:Bulletin Board
ATTACH;FMTTYPE=image/jpeg:https://kwhi.com/wp-content/uploads/2024/01/elks-steak-supper-24.jpg
END:VEVENT
BEGIN:VEVENT
DTSTART;VALUE=DATE:20240112
DTEND;VALUE=DATE:20240113
DTSTAMP:20260422T173622
CREATED:20240108T152102Z
LAST-MODIFIED:20240108T152102Z
UID:312447-1705017600-1705103999@kwhi.com
SUMMARY:Sons of Hermann Lodge 6 Monthly Meetings
DESCRIPTION:MEETING INFORMATION\n2nd Friday\, Monthly\nMeal at 6:30 PM Meeting at 7:15 PM \nHERMANN SONS LIFE HALL \nEFFECTIVE JANUARY 1\, 2024.  REGUALR MEETINGS\, MEAL WILL BE SERVED AT 6:30 AND MEETING WILL START AT 7:15.  PLEASE MAKE NOTE OF TIME CHANGE.  Make an effort to come to all meetings and support your lodge.
URL:https://kwhi.com/event/sons-of-hermann-lodge-6-monthly-meetings/
LOCATION:Hermann Sons Life Hall (Brenham)\, 304 East Germania Street\, Brenham\, TX\, 77833\, United States
CATEGORIES:Bulletin Board
ATTACH;FMTTYPE=image/png:https://kwhi.com/wp-content/uploads/2024/01/hermann-sons-life-logo.png
END:VEVENT
BEGIN:VEVENT
DTSTART;VALUE=DATE:20240209
DTEND;VALUE=DATE:20240210
DTSTAMP:20260422T173622
CREATED:20240109T211706Z
LAST-MODIFIED:20240109T211706Z
UID:312597-1707436800-1707523199@kwhi.com
SUMMARY:The YES Tour
DESCRIPTION:
URL:https://kwhi.com/event/the-yes-tour/
LOCATION:Southern Folly\, 209 S. Market Street\, Brenham\, TX\, 77833\, United States
CATEGORIES:Bulletin Board
ATTACH;FMTTYPE=image/jpeg:https://kwhi.com/wp-content/uploads/2024/01/The-YES-Tour-Brenham-002.jpg
END:VEVENT
BEGIN:VEVENT
DTSTART;VALUE=DATE:20240209
DTEND;VALUE=DATE:20240210
DTSTAMP:20260422T173622
CREATED:20240201T143655Z
LAST-MODIFIED:20240201T143655Z
UID:314786-1707436800-1707523199@kwhi.com
SUMMARY:BRENHAM CUB/CUBETTE SWIMMING
DESCRIPTION:Members of the Brenham Cub and Cubette Swimming Teams will be taking part in the Regional Swim Meet. \nThe meet will be held from Friday\, February 9\, to Saturday\, February 10\, at Texas A&M.
URL:https://kwhi.com/event/brenham-cub-cubette-swimming/
LOCATION:Texas A&M Student Recreation Center Natatorium\, Texas A&M University\, College Station\, TX\, 77801\, United States
CATEGORIES:Sports Events
ATTACH;FMTTYPE=image/jpeg:https://kwhi.com/wp-content/uploads/2019/08/SwimmingPoolFeature-1.jpg
END:VEVENT
BEGIN:VEVENT
DTSTART;TZID=America/Chicago:20240209T130000
DTEND;TZID=America/Chicago:20240209T173000
DTSTAMP:20260422T173622
CREATED:20240202T153819Z
LAST-MODIFIED:20240208T165226Z
UID:314932-1707483600-1707499800@kwhi.com
SUMMARY:BLINN BUCCANEER SOFTBALL
DESCRIPTION:The Blinn Buccaneer Softball Team is hosting Navarro College in a doubleheader on Friday\, February 9\, at 1pm at Hohlt Park. \n 
URL:https://kwhi.com/event/blinn-buccaneer-softball-33/
LOCATION:City of Brenham Hohlt Park\, 2425 North Park Street\, Brenham\, TX\, 77833\, United States
CATEGORIES:Sports Events
ATTACH;FMTTYPE=image/jpeg:https://kwhi.com/wp-content/uploads/2023/04/Blinn-Softball-Emily-Kristynik-Feature.jpg
END:VEVENT
BEGIN:VEVENT
DTSTART;TZID=America/Chicago:20240209T170000
DTEND;TZID=America/Chicago:20240209T190000
DTSTAMP:20260422T173622
CREATED:20240201T145541Z
LAST-MODIFIED:20240201T145541Z
UID:314803-1707498000-1707505200@kwhi.com
SUMMARY:BURTON LADY PANTHER SOFTBALL
DESCRIPTION:The Burton Lady Panther Softball Team will be traveling to Anderson-Shiro High School for a scrimmage on Friday\, February 9. \nFirst pitch is scheduled for 5pm.
URL:https://kwhi.com/event/burton-lady-panther-softball-14/
LOCATION:Anderson-Shiro High School\, TX\, United States
CATEGORIES:Sports Events
ATTACH;FMTTYPE=image/jpeg:https://kwhi.com/wp-content/uploads/2023/03/Burton-Softball-feature-37232.jpg
END:VEVENT
BEGIN:VEVENT
DTSTART;TZID=America/Chicago:20240112T173000
DTEND;TZID=America/Chicago:20240112T193000
DTSTAMP:20260422T173622
CREATED:20240109T144545Z
LAST-MODIFIED:20240109T144545Z
UID:312532-1705080600-1705087800@kwhi.com
SUMMARY:(Child) Pizza BINGO
DESCRIPTION:
URL:https://kwhi.com/event/child-pizza-bingo/
LOCATION:Blue Bell Aquatic Center\, 1800 East Tom Green\, Brenham\, TX\, 77833\, United States
CATEGORIES:Bulletin Board
ATTACH;FMTTYPE=image/jpeg:https://kwhi.com/wp-content/uploads/2024/01/pizza-bingo.jpg
END:VEVENT
BEGIN:VEVENT
DTSTART;TZID=America/Chicago:20240209T180000
DTEND;TZID=America/Chicago:20240209T193000
DTSTAMP:20260422T173622
CREATED:20240208T165842Z
LAST-MODIFIED:20240208T165842Z
UID:315584-1707501600-1707507000@kwhi.com
SUMMARY:BRENHAM CUBETTE BASKETBALL
DESCRIPTION:The Brenham Cubette Basketball Team is taking on Magnolia in a one game playoff for fourth place in District 21-5A. The game is being held on Friday\, February 9\, at 6pm at Navasota High School. \nKWHI will broadcast the game live beginning with the pregame at 5:45pm. \n 
URL:https://kwhi.com/event/brenham-cubette-basketball-18/
LOCATION:Navasota High School\, 1 Rattler Dr.\, Navasota\, TX\, 77868\, United States
CATEGORIES:Sports Events
ATTACH;FMTTYPE=image/jpeg:https://kwhi.com/wp-content/uploads/2024/02/cubette-basketball-feature-26246.jpg
END:VEVENT
BEGIN:VEVENT
DTSTART;TZID=America/Chicago:20240209T180000
DTEND;TZID=America/Chicago:20240209T193000
DTSTAMP:20260422T173622
CREATED:20240208T170150Z
LAST-MODIFIED:20240208T170150Z
UID:315587-1707501600-1707507000@kwhi.com
SUMMARY:BURTON LADY PANTHER BASKETBALL
DESCRIPTION:The Burton Lady Panther Basketball Team will face the Iola Lady Bulldogs in a one game playoff for third place in District 26-2A.  The opening tipoff is scheduled for 6pm at Hearne High School.
URL:https://kwhi.com/event/burton-lady-panther-basketball-15/
LOCATION:Hearne High School
CATEGORIES:Sports Events
ATTACH;FMTTYPE=image/jpeg:https://kwhi.com/wp-content/uploads/2021/04/burton-sports-logo.jpg
END:VEVENT
BEGIN:VEVENT
DTSTART;TZID=America/Chicago:20240209T180000
DTEND;TZID=America/Chicago:20240209T200000
DTSTAMP:20260422T173622
CREATED:20240201T134202Z
LAST-MODIFIED:20240201T134202Z
UID:314764-1707501600-1707508800@kwhi.com
SUMMARY:BRENHAM CUBETTE SOFTBALL
DESCRIPTION:The Brenham Cubette Softball Team will host Tomball is a scrimmage on Friday\, September 9\, at Alumni Field in Brenham. \nFirst pitch is scheduled for 6:15pm
URL:https://kwhi.com/event/brenham-cubette-softball-31/
LOCATION:Brenham High School Alumni Field\, 525 A H Ehrig Drive \, Brenham\, TX\, 77833\, United States
CATEGORIES:Sports Events
ATTACH;FMTTYPE=image/jpeg:https://kwhi.com/wp-content/uploads/2024/01/cubette-softball-feature-130243.jpg
END:VEVENT
BEGIN:VEVENT
DTSTART;TZID=America/Chicago:20240209T180000
DTEND;TZID=America/Chicago:20240209T200000
DTSTAMP:20260422T173622
CREATED:20240201T211024Z
LAST-MODIFIED:20240201T211024Z
UID:314843-1707501600-1707508800@kwhi.com
SUMMARY:Boots & Beauties Daddy-Daughter Dance
DESCRIPTION:
URL:https://kwhi.com/event/boots-beauties-daddy-daughter-dance/
LOCATION:Krause Elementary School\, 2201 East Stone Street\, Brenham\, TX\, 77833\, United States
CATEGORIES:Bulletin Board
ATTACH;FMTTYPE=image/jpeg:https://kwhi.com/wp-content/uploads/2024/02/boots-beauties.jpg
END:VEVENT
BEGIN:VEVENT
DTSTART;TZID=America/Chicago:20240209T180000
DTEND;TZID=America/Chicago:20240209T200000
DTSTAMP:20260422T173622
CREATED:20240201T211240Z
LAST-MODIFIED:20240201T211240Z
UID:314846-1707501600-1707508800@kwhi.com
SUMMARY:Botas & Bellezas Baile Papas-Hijas
DESCRIPTION:
URL:https://kwhi.com/event/botas-bellezas-baile-papas-hijas/
LOCATION:Krause Elementary School\, 2201 East Stone Street\, Brenham\, TX\, 77833\, United States
CATEGORIES:Bulletin Board
ATTACH;FMTTYPE=image/jpeg:https://kwhi.com/wp-content/uploads/2024/02/botas-belesas.jpg
END:VEVENT
BEGIN:VEVENT
DTSTART;TZID=America/Chicago:20240209T183000
DTEND;TZID=America/Chicago:20240209T200000
DTSTAMP:20260422T173622
CREATED:20240201T135051Z
LAST-MODIFIED:20240201T135051Z
UID:314772-1707503400-1707508800@kwhi.com
SUMMARY:BRENHAM CUB BASKETBALL
DESCRIPTION:The Brenham Cub Basketball Team will host Magnolia in their final home game of the season on Friday\, February 9\, at the Brenham High School Gym. \nThe opening tipoff is scheduled for 6:30pm.
URL:https://kwhi.com/event/brenham-cub-basketball-24/
LOCATION:Brenham High School Gym\, 525 A H Ehrig Drive \, Brenham\, TX\, 77833\, United States
CATEGORIES:Sports Events
ATTACH;FMTTYPE=image/jpeg:https://kwhi.com/wp-content/uploads/2024/01/Cub-Basketball-feature-112242.jpg
END:VEVENT
BEGIN:VEVENT
DTSTART;TZID=America/Chicago:20240209T190000
DTEND;TZID=America/Chicago:20240209T210000
DTSTAMP:20260422T173622
CREATED:20240201T141152Z
LAST-MODIFIED:20240201T141152Z
UID:314779-1707505200-1707512400@kwhi.com
SUMMARY:BRENHAM CUB SOCCER
DESCRIPTION:The Brenham Cub Soccer Team will be traveling to Magnolia West High School for a District 21-5A match on Friday\, February 9\, at 7pm.
URL:https://kwhi.com/event/brenham-cub-soccer-24/
LOCATION:Magnolia West High School\, 42202 FM 1774\, Magnolia\, TX\, 77354\, United States
CATEGORIES:Sports Events
ATTACH;FMTTYPE=image/jpeg:https://kwhi.com/wp-content/uploads/2024/01/Cub-Soccer-feature-125245.jpg
END:VEVENT
BEGIN:VEVENT
DTSTART;TZID=America/Chicago:20240209T190000
DTEND;TZID=America/Chicago:20240209T210000
DTSTAMP:20260422T173622
CREATED:20240201T143010Z
LAST-MODIFIED:20240201T143010Z
UID:314783-1707505200-1707512400@kwhi.com
SUMMARY:BRENHAM CUBETTE SOCCER
DESCRIPTION:The Brenham Cubette Soccer Team will host Magnolia West in a District 21-5A match on Friday\, February 9\, at 7pm at Cub Stadium in Brenham.
URL:https://kwhi.com/event/brenham-cubette-soccer-24/
LOCATION:Cub Stadium\, 1600 East Tom Green\, Brenham\, TX\, 77833\, United States
CATEGORIES:Sports Events
ATTACH;FMTTYPE=image/jpeg:https://kwhi.com/wp-content/uploads/2022/12/Cubette-Soccer-feature-12302211.jpg
END:VEVENT
BEGIN:VEVENT
DTSTART;TZID=America/Chicago:20240209T190000
DTEND;TZID=America/Chicago:20240209T220000
DTSTAMP:20260422T173622
CREATED:20240202T150042Z
LAST-MODIFIED:20240202T150042Z
UID:314906-1707505200-1707516000@kwhi.com
SUMMARY:BLINN BUCCANEER BASEBALL
DESCRIPTION:The Blinn Buccaneer Baseball Team is taking part in the Tyler Spring Tournament.  They will face McLennan Community College on Friday\, February 9\, at 7pm. \nThe tournament is being hosted by Tyler Junior College.
URL:https://kwhi.com/event/blinn-buccaneer-baseball-31/
LOCATION:Tyler Junior College\, 1400 East 5th Street\, Tyler\, TX\, 75701\, United States
CATEGORIES:Sports Events
ATTACH;FMTTYPE=image/jpeg:https://kwhi.com/wp-content/uploads/2023/05/Blinn-Baseball-Dusty-Hart-Feature.jpg
END:VEVENT
BEGIN:VEVENT
DTSTART;TZID=America/Chicago:20240209T193000
DTEND;TZID=America/Chicago:20240209T210000
DTSTAMP:20260422T173622
CREATED:20240201T144534Z
LAST-MODIFIED:20240201T144534Z
UID:314796-1707507000-1707512400@kwhi.com
SUMMARY:BURTON PANTHERS BASKETBALL
DESCRIPTION:The Burton Panther Basketball Team will host Iola in a District 26-2A Game on Friday\, February 9\, at the Burton High School Gym. \nThe opening tipoff is scheduled for 7:30pm.
URL:https://kwhi.com/event/burton-panthers-basketball/
LOCATION:Burton High School Gym\, 917 N. Main Street\, Burton\, TX\, 77835\, United States
CATEGORIES:Sports Events
ATTACH;FMTTYPE=image/jpeg:https://kwhi.com/wp-content/uploads/2020/06/BurtonHighSchoolFeatureNew6-18.jpg
END:VEVENT
END:VCALENDAR