BEGIN:VCALENDAR
VERSION:2.0
PRODID:-//KWHI.com - ECPv6.15.17.1//NONSGML v1.0//EN
CALSCALE:GREGORIAN
METHOD:PUBLISH
X-WR-CALNAME:KWHI.com
X-ORIGINAL-URL:https://kwhi.com
X-WR-CALDESC:Events for KWHI.com
REFRESH-INTERVAL;VALUE=DURATION:PT1H
X-Robots-Tag:noindex
X-PUBLISHED-TTL:PT1H
BEGIN:VTIMEZONE
TZID:America/Chicago
BEGIN:DAYLIGHT
TZOFFSETFROM:-0600
TZOFFSETTO:-0500
TZNAME:CDT
DTSTART:20230312T080000
END:DAYLIGHT
BEGIN:STANDARD
TZOFFSETFROM:-0500
TZOFFSETTO:-0600
TZNAME:CST
DTSTART:20231105T070000
END:STANDARD
BEGIN:DAYLIGHT
TZOFFSETFROM:-0600
TZOFFSETTO:-0500
TZNAME:CDT
DTSTART:20240310T080000
END:DAYLIGHT
BEGIN:STANDARD
TZOFFSETFROM:-0500
TZOFFSETTO:-0600
TZNAME:CST
DTSTART:20241103T070000
END:STANDARD
BEGIN:DAYLIGHT
TZOFFSETFROM:-0600
TZOFFSETTO:-0500
TZNAME:CDT
DTSTART:20250309T080000
END:DAYLIGHT
BEGIN:STANDARD
TZOFFSETFROM:-0500
TZOFFSETTO:-0600
TZNAME:CST
DTSTART:20251102T070000
END:STANDARD
END:VTIMEZONE
BEGIN:VEVENT
DTSTART;VALUE=DATE:20240722
DTEND;VALUE=DATE:20240823
DTSTAMP:20260422T042919
CREATED:20240722T145532Z
LAST-MODIFIED:20240722T145532Z
UID:328312-1721606400-1724371199@kwhi.com
SUMMARY:Accepting Applications for the Washington Co. Fair Parade
DESCRIPTION:The 2024 Washington County Fair Parade in Brenham\, will take place on Saturday\, September 14 at 10:30 AM. The parade will begin at the intersection of Main Street and South Market Street and will feature floats\, bands\, and fire trucks. The theme for this year’s parade is “Celebrating Our Rising Stars” and decorations are encouraged but not required. Applications for the parade are available on the Washington County Fair website https://www.washingtoncofair.com/p/thefair/parade
URL:https://kwhi.com/event/accepting-applications-for-the-washington-co-fair-parade/
CATEGORIES:Bulletin Board
ATTACH;FMTTYPE=image/jpeg:https://kwhi.com/wp-content/uploads/2024/07/parade-wcf.jpg
END:VEVENT
BEGIN:VEVENT
DTSTART;VALUE=DATE:20240731
DTEND;VALUE=DATE:20240821
DTSTAMP:20260422T042919
CREATED:20240731T145409Z
LAST-MODIFIED:20240731T145409Z
UID:328777-1722384000-1724198399@kwhi.com
SUMMARY:Brenham Flag Football League-Registration is Now Open
DESCRIPTION:
URL:https://kwhi.com/event/brenham-flag-football-league-registration-is-now-open/
CATEGORIES:Bulletin Board
ATTACH;FMTTYPE=image/jpeg:https://kwhi.com/wp-content/uploads/2024/07/br-flag-football-league.jpg
END:VEVENT
BEGIN:VEVENT
DTSTART;VALUE=DATE:20240809
DTEND;VALUE=DATE:20240901
DTSTAMP:20260422T042919
CREATED:20240809T202551Z
LAST-MODIFIED:20240809T202551Z
UID:329310-1723161600-1725148799@kwhi.com
SUMMARY:CUBS2READ Brenham ISD Volunteer Tutors Needed
DESCRIPTION:
URL:https://kwhi.com/event/cubs2read-brenham-isd-volunteer-tutors-needed/
CATEGORIES:Bulletin Board
ATTACH;FMTTYPE=image/jpeg:https://kwhi.com/wp-content/uploads/2024/08/cubs2read.jpg
END:VEVENT
BEGIN:VEVENT
DTSTART;VALUE=DATE:20240812
DTEND;VALUE=DATE:20240904
DTSTAMP:20260422T042919
CREATED:20240812T211914Z
LAST-MODIFIED:20240812T211914Z
UID:329441-1723420800-1725407999@kwhi.com
SUMMARY:WCF Little Mr. and Miss Contest Open Registration
DESCRIPTION:
URL:https://kwhi.com/event/wcf-little-mr-and-miss-contest-open-registration/
CATEGORIES:Bulletin Board
ATTACH;FMTTYPE=image/jpeg:https://kwhi.com/wp-content/uploads/2024/08/little-mr.jpg
END:VEVENT
BEGIN:VEVENT
DTSTART;VALUE=DATE:20240812
DTEND;VALUE=DATE:20240904
DTSTAMP:20260422T042919
CREATED:20240812T212030Z
LAST-MODIFIED:20240812T212030Z
UID:329445-1723420800-1725407999@kwhi.com
SUMMARY:WCF Junior Mr. and Miss Contest Open Registration
DESCRIPTION:
URL:https://kwhi.com/event/wcf-junior-mr-and-miss-contest-open-registration/
CATEGORIES:Bulletin Board
ATTACH;FMTTYPE=image/jpeg:https://kwhi.com/wp-content/uploads/2024/08/junior-mr.jpg
END:VEVENT
BEGIN:VEVENT
DTSTART;VALUE=DATE:20240812
DTEND;VALUE=DATE:20240906
DTSTAMP:20260422T042919
CREATED:20240812T211343Z
LAST-MODIFIED:20240812T211343Z
UID:329435-1723420800-1725580799@kwhi.com
SUMMARY:Austin County Civic Chorale Looking for Interested Singers
DESCRIPTION:
URL:https://kwhi.com/event/austin-county-civic-chorale-looking-for-interested-singers/
CATEGORIES:Bulletin Board
ATTACH;FMTTYPE=image/png:https://kwhi.com/wp-content/uploads/2024/08/ac-civicchorale-rehearsals.png
END:VEVENT
BEGIN:VEVENT
DTSTART;VALUE=DATE:20240815
DTEND;VALUE=DATE:20240831
DTSTAMP:20260422T042919
CREATED:20240815T202051Z
LAST-MODIFIED:20240815T202051Z
UID:329747-1723680000-1725062399@kwhi.com
SUMMARY:Dress Donation Drive (Brenham)
DESCRIPTION:
URL:https://kwhi.com/event/dress-donation-drive-brenham/
LOCATION:Brenham Nursing and Rehabilitation Center\, 400 E. Sayles St.\, Brenham\, TX\, 77833\, United States
CATEGORIES:Bulletin Board
ATTACH;FMTTYPE=image/jpeg:https://kwhi.com/wp-content/uploads/2024/08/dress-donation-drive.jpg
END:VEVENT
BEGIN:VEVENT
DTSTART;VALUE=DATE:20240820
DTEND;VALUE=DATE:20240821
DTSTAMP:20260422T042919
CREATED:20240814T134734Z
LAST-MODIFIED:20240814T134734Z
UID:329612-1724112000-1724198399@kwhi.com
SUMMARY:Student Ice Cream Social/Parent Meeting for Theatre Students (Brenham)
DESCRIPTION:
URL:https://kwhi.com/event/student-ice-cream-social-parent-meeting-for-theatre-students-brenham/
LOCATION:Brenham High School Auditorium\, 525 A H Ehrig Drive \, Brenham\, TX\, 77833\, United States
CATEGORIES:Bulletin Board
ATTACH;FMTTYPE=image/jpeg:https://kwhi.com/wp-content/uploads/2024/08/ice-cream-social-aug-20.jpg
END:VEVENT
BEGIN:VEVENT
DTSTART;TZID=America/Chicago:20240820T120000
DTEND;TZID=America/Chicago:20240820T140000
DTSTAMP:20260422T042919
CREATED:20240813T141407Z
LAST-MODIFIED:20240813T141407Z
UID:329511-1724155200-1724162400@kwhi.com
SUMMARY:BLINN BUCCANEER VOLLEYBALL
DESCRIPTION:The Blinn Buccaneer Volleyball Team will be taking part in a scrimmage at Prairie View University at 12 noon.
URL:https://kwhi.com/event/blinn-buccaneer-volleyball-11/
LOCATION:Prairie View A&M University\, 250 E M Norris Street\, Prairie View\, TX\, 77446\, United States
CATEGORIES:Sports Events
ATTACH;FMTTYPE=image/jpeg:https://kwhi.com/wp-content/uploads/2023/11/Blinn-Volleyball-Feature-16-1.jpg
END:VEVENT
BEGIN:VEVENT
DTSTART;TZID=America/Chicago:20240820T160000
DTEND;TZID=America/Chicago:20240820T190000
DTSTAMP:20260422T042919
CREATED:20240812T135734Z
LAST-MODIFIED:20240812T135734Z
UID:329362-1724169600-1724180400@kwhi.com
SUMMARY:BRENHAM HIGH SCHOOL TENNIS
DESCRIPTION:The Brenham High School Tennis Team will be opening their season at Huntsville on Tuesday\, August 20. The matches begin at 4pm at Huntsville High School.
URL:https://kwhi.com/event/brenham-high-school-tennis-15/
LOCATION:Huntsville High School\, 515 Farm to Market Rd 2821\, Huntsville\, TX\, 77320\, United States
CATEGORIES:Sports Events
ATTACH;FMTTYPE=image/jpeg:https://kwhi.com/wp-content/uploads/2024/03/Brenham-Tennis-at-Waller-1.jpg
END:VEVENT
BEGIN:VEVENT
DTSTART;TZID=America/Chicago:20240820T170000
DTEND;TZID=America/Chicago:20240820T183000
DTSTAMP:20260422T042919
CREATED:20240813T134449Z
LAST-MODIFIED:20240813T134449Z
UID:329488-1724173200-1724178600@kwhi.com
SUMMARY:BURTON LADY PANTHER VOLLEYBALL
DESCRIPTION:The Burton Lady Panther Volleyball Team hosts the Fayetteville Lady Lions on Tuesday\, August 20\, at the Burton High School Gym.  The first serve is scheduled for 5pm.
URL:https://kwhi.com/event/burton-lady-panther-volleyball-13/
LOCATION:Burton High School Gym\, 917 N. Main Street\, Burton\, TX\, 77835\, United States
CATEGORIES:Sports Events
ATTACH;FMTTYPE=image/jpeg:https://kwhi.com/wp-content/uploads/2023/10/Burton-Volleyball-feature-1031233.jpg
END:VEVENT
BEGIN:VEVENT
DTSTART;TZID=America/Chicago:20240820T180000
DTEND;TZID=America/Chicago:20240820T193000
DTSTAMP:20260422T042919
CREATED:20240812T144939Z
LAST-MODIFIED:20240812T144939Z
UID:329387-1724176800-1724182200@kwhi.com
SUMMARY:BRENHAM CUBETTE VOLLEYBALL
DESCRIPTION:The Brenham Cubette Volleyball Team will play their home opener against the Columbus Lady Cardinals on Tuesday\, August 20. First serve is scheduled for 6pm at the Brenham High School Gym.
URL:https://kwhi.com/event/brenham-cubette-volleyball-27/
LOCATION:Brenham High School Gym\, 525 A H Ehrig Drive \, Brenham\, TX\, 77833\, United States
CATEGORIES:Sports Events
ATTACH;FMTTYPE=image/jpeg:https://kwhi.com/wp-content/uploads/2023/10/Cubette-Volleyball-feature-1030233.jpg
END:VEVENT
END:VCALENDAR