BEGIN:VCALENDAR
VERSION:2.0
PRODID:-//KWHI.com - ECPv6.15.17.1//NONSGML v1.0//EN
CALSCALE:GREGORIAN
METHOD:PUBLISH
X-WR-CALNAME:KWHI.com
X-ORIGINAL-URL:https://kwhi.com
X-WR-CALDESC:Events for KWHI.com
REFRESH-INTERVAL;VALUE=DURATION:PT1H
X-Robots-Tag:noindex
X-PUBLISHED-TTL:PT1H
BEGIN:VTIMEZONE
TZID:America/Chicago
BEGIN:DAYLIGHT
TZOFFSETFROM:-0600
TZOFFSETTO:-0500
TZNAME:CDT
DTSTART:20220313T080000
END:DAYLIGHT
BEGIN:STANDARD
TZOFFSETFROM:-0500
TZOFFSETTO:-0600
TZNAME:CST
DTSTART:20221106T070000
END:STANDARD
BEGIN:DAYLIGHT
TZOFFSETFROM:-0600
TZOFFSETTO:-0500
TZNAME:CDT
DTSTART:20230312T080000
END:DAYLIGHT
BEGIN:STANDARD
TZOFFSETFROM:-0500
TZOFFSETTO:-0600
TZNAME:CST
DTSTART:20231105T070000
END:STANDARD
BEGIN:DAYLIGHT
TZOFFSETFROM:-0600
TZOFFSETTO:-0500
TZNAME:CDT
DTSTART:20240310T080000
END:DAYLIGHT
BEGIN:STANDARD
TZOFFSETFROM:-0500
TZOFFSETTO:-0600
TZNAME:CST
DTSTART:20241103T070000
END:STANDARD
BEGIN:DAYLIGHT
TZOFFSETFROM:-0600
TZOFFSETTO:-0500
TZNAME:CDT
DTSTART:20250309T080000
END:DAYLIGHT
BEGIN:STANDARD
TZOFFSETFROM:-0500
TZOFFSETTO:-0600
TZNAME:CST
DTSTART:20251102T070000
END:STANDARD
END:VTIMEZONE
BEGIN:VEVENT
DTSTART;VALUE=DATE:20240812
DTEND;VALUE=DATE:20240906
DTSTAMP:20260419T103506
CREATED:20240812T211343Z
LAST-MODIFIED:20240812T211343Z
UID:329435-1723420800-1725580799@kwhi.com
SUMMARY:Austin County Civic Chorale Looking for Interested Singers
DESCRIPTION:
URL:https://kwhi.com/event/austin-county-civic-chorale-looking-for-interested-singers/
LOCATION:TX
CATEGORIES:Bulletin Board
ATTACH;FMTTYPE=image/png:https://kwhi.com/wp-content/uploads/2024/08/ac-civicchorale-rehearsals.png
END:VEVENT
BEGIN:VEVENT
DTSTART;VALUE=DATE:20240827
DTEND;VALUE=DATE:20240914
DTSTAMP:20260419T103506
CREATED:20240827T191823Z
LAST-MODIFIED:20240827T191823Z
UID:330509-1724716800-1726271999@kwhi.com
SUMMARY:Main Street Brenham Scarecrow Extravaganza-Registration Open
DESCRIPTION:
URL:https://kwhi.com/event/main-street-brenham-scarecrow-extravaganza-registration-open/
LOCATION:TX
CATEGORIES:Bulletin Board
ATTACH;FMTTYPE=image/jpeg:https://kwhi.com/wp-content/uploads/2024/08/ScarecrowExtravaganza24Flyer.jpg
END:VEVENT
BEGIN:VEVENT
DTSTART;VALUE=DATE:20240901
DTEND;VALUE=DATE:20240917
DTSTAMP:20260419T103506
CREATED:20240820T210043Z
LAST-MODIFIED:20240820T210043Z
UID:330021-1725148800-1726531199@kwhi.com
SUMMARY:Washington County Fair Country Creations Information
DESCRIPTION:Country Creation Exhibits will be in the EXPO EVENT CENTER for the 2024 Washington County Fair.  All residents of the county are invited and encouraged to participate. \nArt\, Alternative Foods\, Canned Products\, Creative Arts and Crafts\, Designer Craftsman\, Machine Sewn\, Needlework\, Photography and Quilt exhibits are to be entered Thursday\, September 12th from 3 until 7 pm.  School Art check-in is September 12th from 4 to 5 pm.   \nCheck-in time for Baked\, Confections\, Floral and Vegetables is Monday September 16th from 7:30 to 9:00 am. \nBoth Adult and Youth Division Catalogues can be found on-line at:   https://www.washingtoncofair.com/  \nor https://www.washingtoncofair.com/p/getinvolved/country-creations \nYouth exhibitors must be registered online in the ShoWorks system by 6 p.m. September 2.   \nAdult exhibitors can obtain an exhibitor number for $5. when they check-in.
URL:https://kwhi.com/event/washington-county-fair-country-creations-information/
LOCATION:Washington County Expo Event Center\, 1305 E. Blue Bell Rd.\, Brenham\, TX\, 77833\, United States
CATEGORIES:Bulletin Board
ATTACH;FMTTYPE=image/jpeg:https://kwhi.com/wp-content/uploads/2024/08/wc-fair-NEW.jpg
END:VEVENT
BEGIN:VEVENT
DTSTART;VALUE=DATE:20240904
DTEND;VALUE=DATE:20241005
DTSTAMP:20260419T103506
CREATED:20240827T214844Z
LAST-MODIFIED:20240827T214844Z
UID:330526-1725408000-1728086399@kwhi.com
SUMMARY:Fayetteville Lickskillet Days Parade-call for entries
DESCRIPTION:
URL:https://kwhi.com/event/fayetteville-lickskillet-days-parade-call-for-entries/
LOCATION:TX
CATEGORIES:Bulletin Board
ATTACH;FMTTYPE=image/jpeg:https://kwhi.com/wp-content/uploads/2024/08/Lickskillet-002.jpg
END:VEVENT
BEGIN:VEVENT
DTSTART;VALUE=DATE:20231207
DTEND;VALUE=DATE:20231208
DTSTAMP:20260419T103506
CREATED:20231103T134801Z
LAST-MODIFIED:20231103T134801Z
UID:308115-1701907200-1701993599@kwhi.com
SUMMARY:American Legion Quade-Werchan Post 338 Monthly Meeting
DESCRIPTION:American Legion Quade-Werchan Post 338 meets the first Thursday of each month at their hall.  Meetings begin promptly at 6:30 PM.
URL:https://kwhi.com/event/american-legion-quade-werchan-post-338-monthly-meeting/
LOCATION:American Legion Hall Round Top\, 1503 N. State Hwy. 237\, Round Top\, TX\, 78954\, United States
CATEGORIES:Bulletin Board
ATTACH;FMTTYPE=image/jpeg:https://kwhi.com/wp-content/uploads/2023/11/american-legion.jpg
END:VEVENT
BEGIN:VEVENT
DTSTART;VALUE=DATE:20240905
DTEND;VALUE=DATE:20240906
DTSTAMP:20260419T103506
CREATED:20240826T213331Z
LAST-MODIFIED:20240826T213331Z
UID:330448-1725494400-1725580799@kwhi.com
SUMMARY:Hospice Brazos Valley VOLUNTEERS NEEDED
DESCRIPTION:
URL:https://kwhi.com/event/hospice-brazos-valley-volunteers-needed/
LOCATION:TX
CATEGORIES:Bulletin Board
ATTACH;FMTTYPE=image/jpeg:https://kwhi.com/wp-content/uploads/2024/08/hospice-bv-volunteers-needed.jpg
END:VEVENT
BEGIN:VEVENT
DTSTART;TZID=America/Chicago:20240905T160000
DTEND;TZID=America/Chicago:20240905T180000
DTSTAMP:20260419T103506
CREATED:20240822T211021Z
LAST-MODIFIED:20240822T211021Z
UID:330240-1725552000-1725559200@kwhi.com
SUMMARY:Connect after Four Event (Brenham)
DESCRIPTION:
URL:https://kwhi.com/event/connect-after-four-event-brenham-2/
LOCATION:Old 300 Title\, 20 S Holland St.\, Bellville\, TX\, 77418\, United States
CATEGORIES:Bulletin Board
ATTACH;FMTTYPE=image/jpeg:https://kwhi.com/wp-content/uploads/2024/08/connect-after-four-sept.jpg
END:VEVENT
BEGIN:VEVENT
DTSTART;TZID=America/Chicago:20240104T183000
DTEND;TZID=America/Chicago:20240104T200000
DTSTAMP:20260419T103506
CREATED:20231220T152834Z
LAST-MODIFIED:20231220T152834Z
UID:311439-1704393000-1704398400@kwhi.com
SUMMARY:NAMI Connection Recovery Support Group Meetings
DESCRIPTION:Weekly meeting on Thursdays\, 6:30 – 8:00 pm CST at St. Peters Episcopal Church in Brenham \nNAMI-Brazos Valley serves a seven-county area (Brazos Valley):  Brazos\, Burleson\, Grimes\, Leon\, Madison\, Roberts\, and Washington Counties\nWebsite:  NamiBV.org\nPhone:  979 774-4713
URL:https://kwhi.com/event/nami-connection-recovery-support-group-meetings/
LOCATION:St. Peter’s Episcopal Church (Brenham)\, 2310 Airline Drive\, Brenham\, TX\, 77883\, United States
CATEGORIES:Bulletin Board
ATTACH;FMTTYPE=image/png:https://kwhi.com/wp-content/uploads/2023/12/nami-connection-recovery-supp-gr.png
END:VEVENT
END:VCALENDAR