BEGIN:VCALENDAR
VERSION:2.0
PRODID:-//KWHI.com - ECPv6.15.17.1//NONSGML v1.0//EN
CALSCALE:GREGORIAN
METHOD:PUBLISH
X-WR-CALNAME:KWHI.com
X-ORIGINAL-URL:https://kwhi.com
X-WR-CALDESC:Events for KWHI.com
REFRESH-INTERVAL;VALUE=DURATION:PT1H
X-Robots-Tag:noindex
X-PUBLISHED-TTL:PT1H
BEGIN:VTIMEZONE
TZID:America/Chicago
BEGIN:DAYLIGHT
TZOFFSETFROM:-0600
TZOFFSETTO:-0500
TZNAME:CDT
DTSTART:20230312T080000
END:DAYLIGHT
BEGIN:STANDARD
TZOFFSETFROM:-0500
TZOFFSETTO:-0600
TZNAME:CST
DTSTART:20231105T070000
END:STANDARD
BEGIN:DAYLIGHT
TZOFFSETFROM:-0600
TZOFFSETTO:-0500
TZNAME:CDT
DTSTART:20240310T080000
END:DAYLIGHT
BEGIN:STANDARD
TZOFFSETFROM:-0500
TZOFFSETTO:-0600
TZNAME:CST
DTSTART:20241103T070000
END:STANDARD
BEGIN:DAYLIGHT
TZOFFSETFROM:-0600
TZOFFSETTO:-0500
TZNAME:CDT
DTSTART:20250309T080000
END:DAYLIGHT
BEGIN:STANDARD
TZOFFSETFROM:-0500
TZOFFSETTO:-0600
TZNAME:CST
DTSTART:20251102T070000
END:STANDARD
END:VTIMEZONE
BEGIN:VEVENT
DTSTART;VALUE=DATE:20241010
DTEND;VALUE=DATE:20241111
DTSTAMP:20260422T161358
CREATED:20240927T143951Z
LAST-MODIFIED:20240927T144345Z
UID:332849-1728518400-1731283199@kwhi.com
SUMMARY:Mark Marburger CANCER BENEFIT (Brenham)
DESCRIPTION:TO PURCHASE TICKETS CALL JULIA\, AT 979 337-4535
URL:https://kwhi.com/event/mark-marburger-cancer-benefit/
LOCATION:TX
CATEGORIES:Bulletin Board
ATTACH;FMTTYPE=image/jpeg:https://kwhi.com/wp-content/uploads/2024/09/marburger-cancer-benefit.jpg
END:VEVENT
BEGIN:VEVENT
DTSTART;VALUE=DATE:20241101
DTEND;VALUE=DATE:20241104
DTSTAMP:20260422T161358
CREATED:20240819T144815Z
LAST-MODIFIED:20240819T144815Z
UID:329893-1730419200-1730678399@kwhi.com
SUMMARY:Round Top Wine Fest
DESCRIPTION:
URL:https://kwhi.com/event/round-top-wine-fest-2/
LOCATION:TX
CATEGORIES:Bulletin Board
ATTACH;FMTTYPE=image/jpeg:https://kwhi.com/wp-content/uploads/2024/08/rt-wine-fest-nov.jpg
END:VEVENT
BEGIN:VEVENT
DTSTART;VALUE=DATE:20241101
DTEND;VALUE=DATE:20241119
DTSTAMP:20260422T161358
CREATED:20241023T205455Z
LAST-MODIFIED:20241023T205455Z
UID:335068-1730419200-1731974399@kwhi.com
SUMMARY:Austin & Colorado County Soil Testing Campaign
DESCRIPTION:
URL:https://kwhi.com/event/austin-colorado-county-soil-testing-campaign/
LOCATION:TX
CATEGORIES:Bulletin Board
ATTACH;FMTTYPE=image/jpeg:https://kwhi.com/wp-content/uploads/2024/10/ac-soil-testing-camp-nov.jpg
END:VEVENT
BEGIN:VEVENT
DTSTART;VALUE=DATE:20240107
DTEND;VALUE=DATE:20240108
DTSTAMP:20260422T161358
CREATED:20231222T151123Z
LAST-MODIFIED:20231222T151123Z
UID:311575-1704585600-1704671999@kwhi.com
SUMMARY:Whats New in 2024
DESCRIPTION:
URL:https://kwhi.com/event/whats-new-in-2024/
LOCATION:TX
CATEGORIES:Bulletin Board
ATTACH;FMTTYPE=image/jpeg:https://kwhi.com/wp-content/uploads/2023/12/whats-new-in-2024.jpg
END:VEVENT
BEGIN:VEVENT
DTSTART;VALUE=DATE:20240908
DTEND;VALUE=DATE:20240909
DTSTAMP:20260422T161358
CREATED:20240829T183044Z
LAST-MODIFIED:20240829T183044Z
UID:330638-1725753600-1725839999@kwhi.com
SUMMARY:Christianity\, the first 500 Years Weekly Bible Study (Brenham)
DESCRIPTION:The course\, "Christianity\, The First 500 Years: Roots of Yesterday that Stretch to Today\," will be taught by David Beckworth at First Baptist Church\, Brenham\, beginning at 6 pm Sundays\, September 8th through December 15th in room A109. All who are interested in early church history are invited to attend.
URL:https://kwhi.com/event/christianity-the-first-500-years-weekly-bible-study-brenham/
LOCATION:Brenham’s First Baptist Church\, 2715 South Market Street\, Brenham\, TX\, 77833\, United States
CATEGORIES:Bulletin Board
ATTACH;FMTTYPE=image/png:https://kwhi.com/wp-content/uploads/2024/08/christianity-sept-dec.png
END:VEVENT
BEGIN:VEVENT
DTSTART;VALUE=DATE:20241006
DTEND;VALUE=DATE:20241007
DTSTAMP:20260422T161358
CREATED:20240926T203348Z
LAST-MODIFIED:20240926T203348Z
UID:332819-1728172800-1728259199@kwhi.com
SUMMARY:Re-Purpose your old Glasses
DESCRIPTION:Contact your local Lions Club for details!
URL:https://kwhi.com/event/re-purpose-your-old-glasses/
LOCATION:TX
CATEGORIES:Bulletin Board
ATTACH;FMTTYPE=image/jpeg:https://kwhi.com/wp-content/uploads/2024/09/old-glasses.jpg
END:VEVENT
BEGIN:VEVENT
DTSTART;TZID=America/Chicago:20240804T080000
DTEND;TZID=America/Chicago:20240804T120000
DTSTAMP:20260422T161358
CREATED:20240708T185208Z
LAST-MODIFIED:20240708T185208Z
UID:327515-1722758400-1722772800@kwhi.com
SUMMARY:Somerville Farmers' Market
DESCRIPTION:
URL:https://kwhi.com/event/somerville-farmers-market/
LOCATION:TX
CATEGORIES:Bulletin Board
ATTACH;FMTTYPE=image/jpeg:https://kwhi.com/wp-content/uploads/2024/07/SomervilleFarmersMarketFlyer.jpg
END:VEVENT
BEGIN:VEVENT
DTSTART;TZID=America/Chicago:20241103T140000
DTEND;TZID=America/Chicago:20241103T153000
DTSTAMP:20260422T161358
CREATED:20241022T145236Z
LAST-MODIFIED:20241022T145236Z
UID:334857-1730642400-1730647800@kwhi.com
SUMMARY:NBMBC 19th Church Anniversary (Brenham)
DESCRIPTION:
URL:https://kwhi.com/event/nbmbc-19th-church-anniversary-brenham/
LOCATION:New Beginning Missionary Baptist Church (Brenham)\, 2105 FM 2935\, Brenham\, TX\, 77833\, United States
CATEGORIES:Bulletin Board
ATTACH;FMTTYPE=image/jpeg:https://kwhi.com/wp-content/uploads/2024/10/nbmbc-anniversary-nov.jpg
END:VEVENT
BEGIN:VEVENT
DTSTART;TZID=America/Chicago:20241103T150000
DTEND;TZID=America/Chicago:20241103T163000
DTSTAMP:20260422T161358
CREATED:20241029T134529Z
LAST-MODIFIED:20241029T134529Z
UID:335431-1730646000-1730651400@kwhi.com
SUMMARY:Pastor & Wife Appreciation Celebration at Zion Hill Baptist Church
DESCRIPTION:
URL:https://kwhi.com/event/pastor-wife-appreciation-celebration-at-zion-hill-baptist-church/
LOCATION:Zion Hill Baptist Church (Burton)\, 7205 Ben Tap Lane\, Burton\, TX\, 77835\, United States
CATEGORIES:Bulletin Board
ATTACH;FMTTYPE=image/jpeg:https://kwhi.com/wp-content/uploads/2024/10/zion-hill-bpt-ch-nov-3.jpg
END:VEVENT
BEGIN:VEVENT
DTSTART;TZID=America/Chicago:20241103T160000
DTEND;TZID=America/Chicago:20241103T160000
DTSTAMP:20260422T161358
CREATED:20240909T203550Z
LAST-MODIFIED:20240909T203550Z
UID:331424-1730649600-1730649600@kwhi.com
SUMMARY:Hymn & Beer Fest (Brenham)
DESCRIPTION:
URL:https://kwhi.com/event/hymn-beer-fest-brenham/
LOCATION:Brazos Valley Brewing\, 206 S. Jackson Street\, Brenham\, TX\, 77833\, United States
CATEGORIES:Bulletin Board
ATTACH;FMTTYPE=image/jpeg:https://kwhi.com/wp-content/uploads/2024/09/hymn-beer-fest-nov.jpg
END:VEVENT
END:VCALENDAR