BEGIN:VCALENDAR
VERSION:2.0
PRODID:-//KWHI.com - ECPv6.15.17.1//NONSGML v1.0//EN
CALSCALE:GREGORIAN
METHOD:PUBLISH
X-WR-CALNAME:KWHI.com
X-ORIGINAL-URL:https://kwhi.com
X-WR-CALDESC:Events for KWHI.com
REFRESH-INTERVAL;VALUE=DURATION:PT1H
X-Robots-Tag:noindex
X-PUBLISHED-TTL:PT1H
BEGIN:VTIMEZONE
TZID:America/Chicago
BEGIN:DAYLIGHT
TZOFFSETFROM:-0600
TZOFFSETTO:-0500
TZNAME:CDT
DTSTART:20230312T080000
END:DAYLIGHT
BEGIN:STANDARD
TZOFFSETFROM:-0500
TZOFFSETTO:-0600
TZNAME:CST
DTSTART:20231105T070000
END:STANDARD
BEGIN:DAYLIGHT
TZOFFSETFROM:-0600
TZOFFSETTO:-0500
TZNAME:CDT
DTSTART:20240310T080000
END:DAYLIGHT
BEGIN:STANDARD
TZOFFSETFROM:-0500
TZOFFSETTO:-0600
TZNAME:CST
DTSTART:20241103T070000
END:STANDARD
BEGIN:DAYLIGHT
TZOFFSETFROM:-0600
TZOFFSETTO:-0500
TZNAME:CDT
DTSTART:20250309T080000
END:DAYLIGHT
BEGIN:STANDARD
TZOFFSETFROM:-0500
TZOFFSETTO:-0600
TZNAME:CST
DTSTART:20251102T070000
END:STANDARD
END:VTIMEZONE
BEGIN:VEVENT
DTSTART;VALUE=DATE:20241104
DTEND;VALUE=DATE:20241201
DTSTAMP:20260422T174455
CREATED:20241104T164638Z
LAST-MODIFIED:20241104T164638Z
UID:335801-1730678400-1733011199@kwhi.com
SUMMARY:Anchor Club of Brenham sponsoring Wreaths across America
DESCRIPTION:The Anchor Club of Brenham is sponsoring Wreaths across America right here in Brenham at the Prairie Lea Cemetery.   Remember the fallen\, Honor those who serve\, Teach the next generation the value of freedom. This is the mission of Wreaths Across America.  You can join us by sponsoring a wreath at $17 each or helping us lay the wreaths on Veterans graves at Prairie Lea Cemetery on December 14\, 2024\, at 2pm.  The deadline to order a wreath is November 30th.  Please text Carol Hutchens at 979-451-9579 for more information.
URL:https://kwhi.com/event/anchor-club-of-brenham-sponsoring-wreaths-across-america/
LOCATION:TX
CATEGORIES:Bulletin Board
ATTACH;FMTTYPE=image/png:https://kwhi.com/wp-content/uploads/2024/11/wreaths-across-america.png
END:VEVENT
BEGIN:VEVENT
DTSTART;VALUE=DATE:20241104
DTEND;VALUE=DATE:20241206
DTSTAMP:20260422T174455
CREATED:20241104T215315Z
LAST-MODIFIED:20241104T215315Z
UID:335842-1730678400-1733443199@kwhi.com
SUMMARY:Christmas Gift Drive for Seniors in the Brazos Valley
DESCRIPTION:
URL:https://kwhi.com/event/christmas-gift-drive-for-seniors-in-the-brazos-valley/
LOCATION:Benn Law Group\, 750 Wm D Fitch Pkwy\, Suite 220\, College Station\, TX\, 77845\, United States
CATEGORIES:Bulletin Board
ATTACH;FMTTYPE=image/jpeg:https://kwhi.com/wp-content/uploads/2024/11/christmas-gift-dr-until-dec-5.jpg
END:VEVENT
BEGIN:VEVENT
DTSTART;VALUE=DATE:20241104
DTEND;VALUE=DATE:20241216
DTSTAMP:20260422T174455
CREATED:20241104T221727Z
LAST-MODIFIED:20241104T221727Z
UID:335849-1730678400-1734307199@kwhi.com
SUMMARY:City of Bellville Police Department Blue Santa Applications Accepted Now
DESCRIPTION:
URL:https://kwhi.com/event/city-of-bellville-police-department-blue-santa-applications-accepted-now/
LOCATION:TX
CATEGORIES:Bulletin Board
ATTACH;FMTTYPE=image/jpeg:https://kwhi.com/wp-content/uploads/2024/11/blue-santa-bellville.jpg
END:VEVENT
BEGIN:VEVENT
DTSTART;VALUE=DATE:20241121
DTEND;VALUE=DATE:20241125
DTSTAMP:20260422T174455
CREATED:20241118T195759Z
LAST-MODIFIED:20241118T195759Z
UID:337038-1732147200-1732492799@kwhi.com
SUMMARY:Blinn College-Brenham Campus Theatre Arts Program presents Children of Eden
DESCRIPTION:
URL:https://kwhi.com/event/blinn-college-brenham-campus-theatre-arts-program-presents-children-of-eden/
LOCATION:Dr. W.W. O’Donnell Performing Arts Center\, 600 Blinn Blvd.\, Brenham\, TX\, 77833\, United States
CATEGORIES:Bulletin Board
ATTACH;FMTTYPE=image/jpeg:https://kwhi.com/wp-content/uploads/2024/11/children-of-eden.jpg
END:VEVENT
BEGIN:VEVENT
DTSTART;VALUE=DATE:20241121
DTEND;VALUE=DATE:20241207
DTSTAMP:20260422T174455
CREATED:20241121T210526Z
LAST-MODIFIED:20241121T210526Z
UID:337308-1732147200-1733529599@kwhi.com
SUMMARY:Spirit of Christmas Lights Contest (Bellville)
DESCRIPTION:Bellville Chamber of Commerce is taking nominations for their Annual Spirit of Christmas Lights Contest. You can nominate yourself\, friends\, neighbors anyone with great lights/decor!  NEW this year is our Business Category! Let us know what shop/business we need to swing by!  All submissions (residential & business) must be within 1 mile of city limits.  \nSUBMISSION DEADLINE IS DECEMBER 6th \nSend to Info@bellville.com \nWe will provide an online map with submissions for everyone to enjoy with their friends and family! 
URL:https://kwhi.com/event/spirit-of-christmas-lights-contest-bellville-3/
LOCATION:TX
CATEGORIES:Bulletin Board
ATTACH;FMTTYPE=image/jpeg:https://kwhi.com/wp-content/uploads/2024/11/spirit-of-christmas-lights-contest.jpg
END:VEVENT
BEGIN:VEVENT
DTSTART;VALUE=DATE:20241123
DTEND;VALUE=DATE:20241209
DTSTAMP:20260422T174455
CREATED:20241119T153916Z
LAST-MODIFIED:20241119T153916Z
UID:337097-1732320000-1733702399@kwhi.com
SUMMARY:Brenham Fortnightly Club taking entries for Christmas Decorating Contest
DESCRIPTION:The Brenham Fortnightly Club will be taking entries for its annual Christmas Decorating Contest from November 23 thru December 8.  Entries can be in the categories of fun\, elegant\, and religious.  Each category will have two divisions: yard and door.  Entries can be made by calling Kathryn at 277-5893 or going on the Fortnightly Facebook page.  Each participant will select the category and division they will enter.  The judging will be December 12 & 13 at 6pm.  Please have your lights on prior to that time.  You may nominate yourself or another person's lights.  All entries must be in the Brenham city limits.
URL:https://kwhi.com/event/brenham-fortnightly-club-taking-entries-for-christmas-decorating-contest/
LOCATION:TX
CATEGORIES:Bulletin Board
ATTACH;FMTTYPE=image/jpeg:https://kwhi.com/wp-content/uploads/2024/11/porch-christmas-decorations.jpg
END:VEVENT
BEGIN:VEVENT
DTSTART;VALUE=DATE:20240908
DTEND;VALUE=DATE:20240909
DTSTAMP:20260422T174455
CREATED:20240829T183044Z
LAST-MODIFIED:20240829T183044Z
UID:330638-1725753600-1725839999@kwhi.com
SUMMARY:Christianity\, the first 500 Years Weekly Bible Study (Brenham)
DESCRIPTION:The course\, "Christianity\, The First 500 Years: Roots of Yesterday that Stretch to Today\," will be taught by David Beckworth at First Baptist Church\, Brenham\, beginning at 6 pm Sundays\, September 8th through December 15th in room A109. All who are interested in early church history are invited to attend.
URL:https://kwhi.com/event/christianity-the-first-500-years-weekly-bible-study-brenham/
LOCATION:Brenham’s First Baptist Church\, 2715 South Market Street\, Brenham\, TX\, 77833\, United States
CATEGORIES:Bulletin Board
ATTACH;FMTTYPE=image/png:https://kwhi.com/wp-content/uploads/2024/08/christianity-sept-dec.png
END:VEVENT
BEGIN:VEVENT
DTSTART;VALUE=DATE:20241027
DTEND;VALUE=DATE:20241028
DTSTAMP:20260422T174455
CREATED:20241022T150510Z
LAST-MODIFIED:20241022T150510Z
UID:334873-1729987200-1730073599@kwhi.com
SUMMARY:Hospice Volunteers Needed (Brazos Valley)
DESCRIPTION:
URL:https://kwhi.com/event/hospice-volunteers-needed-brazos-valley/
LOCATION:TX
CATEGORIES:Bulletin Board
ATTACH;FMTTYPE=image/jpeg:https://kwhi.com/wp-content/uploads/2024/10/hospice-volunteer-needed-cs.jpg
END:VEVENT
BEGIN:VEVENT
DTSTART;TZID=America/Chicago:20241124T100000
DTEND;TZID=America/Chicago:20241124T160000
DTSTAMP:20260422T174455
CREATED:20241007T184901Z
LAST-MODIFIED:20241007T184901Z
UID:333558-1732442400-1732464000@kwhi.com
SUMMARY:Sip & Shop Christmas Market (Giddings)
DESCRIPTION:
URL:https://kwhi.com/event/sip-shop-christmas-market-giddings/
LOCATION:The Silos on 77\, 1031 CR 223\, Giddings\, TX\, 78942\, United States
CATEGORIES:Bulletin Board
ATTACH;FMTTYPE=image/jpeg:https://kwhi.com/wp-content/uploads/2024/10/sip-and-shop-giddings-nov.jpg
END:VEVENT
BEGIN:VEVENT
DTSTART;TZID=America/Chicago:20241124T160000
DTEND;TZID=America/Chicago:20241124T190000
DTSTAMP:20260422T174455
CREATED:20241121T142931Z
LAST-MODIFIED:20241121T142931Z
UID:337275-1732464000-1732474800@kwhi.com
SUMMARY:Burton Bridge Ministry's Community Thanksgiving Meal
DESCRIPTION:
URL:https://kwhi.com/event/burton-bridge-ministrys-community-thanksgiving-meal/
LOCATION:Burton American Legion Hall\, 13100 W. Washington Street\, Burton\, TX\, 77835\, United States
CATEGORIES:Bulletin Board
ATTACH;FMTTYPE=image/jpeg:https://kwhi.com/wp-content/uploads/2024/11/BurtonBridgeMinistryThanksgivingMeal-11-24-24-Flyer.jpg
END:VEVENT
BEGIN:VEVENT
DTSTART;TZID=America/Chicago:20241124T180000
DTEND;TZID=America/Chicago:20241124T190000
DTSTAMP:20260422T174455
CREATED:20241119T191313Z
LAST-MODIFIED:20241119T191313Z
UID:337130-1732471200-1732474800@kwhi.com
SUMMARY:Washington Co. Ministerial Association County Wide Thanksgiving Service (Brenham)
DESCRIPTION:
URL:https://kwhi.com/event/washington-co-ministerial-association-county-wide-thanksgiving-service-brenham/
LOCATION:Cannery Kitchen\, 314 East Alamo\, Brenham\, TX\, 77833\, United States
CATEGORIES:Bulletin Board
ATTACH;FMTTYPE=image/png:https://kwhi.com/wp-content/uploads/2024/11/wc-minesterial-assoc-thanksgiving-service.png
END:VEVENT
END:VCALENDAR