BEGIN:VCALENDAR
VERSION:2.0
PRODID:-//KWHI.com - ECPv6.15.17.1//NONSGML v1.0//EN
CALSCALE:GREGORIAN
METHOD:PUBLISH
X-ORIGINAL-URL:https://kwhi.com
X-WR-CALDESC:Events for KWHI.com
REFRESH-INTERVAL;VALUE=DURATION:PT1H
X-Robots-Tag:noindex
X-PUBLISHED-TTL:PT1H
BEGIN:VTIMEZONE
TZID:America/Chicago
BEGIN:DAYLIGHT
TZOFFSETFROM:-0600
TZOFFSETTO:-0500
TZNAME:CDT
DTSTART:20240310T080000
END:DAYLIGHT
BEGIN:STANDARD
TZOFFSETFROM:-0500
TZOFFSETTO:-0600
TZNAME:CST
DTSTART:20241103T070000
END:STANDARD
BEGIN:DAYLIGHT
TZOFFSETFROM:-0600
TZOFFSETTO:-0500
TZNAME:CDT
DTSTART:20250309T080000
END:DAYLIGHT
BEGIN:STANDARD
TZOFFSETFROM:-0500
TZOFFSETTO:-0600
TZNAME:CST
DTSTART:20251102T070000
END:STANDARD
BEGIN:DAYLIGHT
TZOFFSETFROM:-0600
TZOFFSETTO:-0500
TZNAME:CDT
DTSTART:20260308T080000
END:DAYLIGHT
BEGIN:STANDARD
TZOFFSETFROM:-0500
TZOFFSETTO:-0600
TZNAME:CST
DTSTART:20261101T070000
END:STANDARD
END:VTIMEZONE
BEGIN:VEVENT
DTSTART;VALUE=DATE:20250201
DTEND;VALUE=DATE:20250305
DTSTAMP:20260423T211447
CREATED:20250130T222448Z
LAST-MODIFIED:20250130T222448Z
UID:341503-1738368000-1741132799@kwhi.com
SUMMARY:Spring Tomato and Pepper Plant Sale (Washington County)
DESCRIPTION:
URL:https://kwhi.com/event/spring-tomato-and-pepper-plant-sale-washington-county/
LOCATION:Texas A&M AgriLife Extension (Washington County)\, 1305 East Blue Bell Road\, Brenham\, TX\, 77833\, United States
CATEGORIES:Bulletin Board
ATTACH;FMTTYPE=image/jpeg:https://kwhi.com/wp-content/uploads/2025/01/tomato-pepper-plant-sale-end-mar-4.jpg
END:VEVENT
BEGIN:VEVENT
DTSTART;VALUE=DATE:20250217
DTEND;VALUE=DATE:20250223
DTSTAMP:20260423T211447
CREATED:20250207T220010Z
LAST-MODIFIED:20250207T220010Z
UID:342141-1739750400-1740268799@kwhi.com
SUMMARY:Fortnightly Club's Annual Used Book Sale (Brenham)
DESCRIPTION:The Fortnightly Club's Annual Used Book Sale will be held from Monday\, February 17 through Saturday\, February 22 at the Washington County Expo.  Hours are Monday through Friday 9 to 6 and Saturday 9 to 5. Admission Fee is $10 on Monday from 9 a.m. to 1 p.m.\, and after 1 p.m. Monday will be $1. Free parking and no entry fee for children. Thousands of items for sale and benefiting the Nancy Carol Roberts Memorial Library.
URL:https://kwhi.com/event/fortnightly-clubs-annual-used-book-sale-brenham/
LOCATION:Washington County Expo\, 1305 E. Blue Bell Rd.\, Brenham\, TX\, 77833\, United States
CATEGORIES:Bulletin Board
ATTACH;FMTTYPE=image/jpeg:https://kwhi.com/wp-content/uploads/2025/02/fortnightly-club-book-sale.jpg
END:VEVENT
BEGIN:VEVENT
DTSTART;TZID=America/Chicago:20250219T090000
DTEND;TZID=America/Chicago:20250219T140000
DTSTAMP:20260423T211447
CREATED:20250127T204926Z
LAST-MODIFIED:20250127T204926Z
UID:341220-1739955600-1739973600@kwhi.com
SUMMARY:Bellville JHS Career Day
DESCRIPTION:
URL:https://kwhi.com/event/bellville-jhs-career-day/
LOCATION:Bellville Junior High School\, 1039 East Hacienda Street\, Bellville\, TX\, 77418\, United States
CATEGORIES:Bulletin Board
ATTACH;FMTTYPE=image/jpeg:https://kwhi.com/wp-content/uploads/2025/01/bjhs-career-day-feb-5.jpg
END:VEVENT
END:VCALENDAR