BEGIN:VCALENDAR
VERSION:2.0
PRODID:-//KWHI.com - ECPv6.15.17.1//NONSGML v1.0//EN
CALSCALE:GREGORIAN
METHOD:PUBLISH
X-WR-CALNAME:KWHI.com
X-ORIGINAL-URL:https://kwhi.com
X-WR-CALDESC:Events for KWHI.com
REFRESH-INTERVAL;VALUE=DURATION:PT1H
X-Robots-Tag:noindex
X-PUBLISHED-TTL:PT1H
BEGIN:VTIMEZONE
TZID:America/Chicago
BEGIN:DAYLIGHT
TZOFFSETFROM:-0600
TZOFFSETTO:-0500
TZNAME:CDT
DTSTART:20240310T080000
END:DAYLIGHT
BEGIN:STANDARD
TZOFFSETFROM:-0500
TZOFFSETTO:-0600
TZNAME:CST
DTSTART:20241103T070000
END:STANDARD
BEGIN:DAYLIGHT
TZOFFSETFROM:-0600
TZOFFSETTO:-0500
TZNAME:CDT
DTSTART:20250309T080000
END:DAYLIGHT
BEGIN:STANDARD
TZOFFSETFROM:-0500
TZOFFSETTO:-0600
TZNAME:CST
DTSTART:20251102T070000
END:STANDARD
BEGIN:DAYLIGHT
TZOFFSETFROM:-0600
TZOFFSETTO:-0500
TZNAME:CDT
DTSTART:20260308T080000
END:DAYLIGHT
BEGIN:STANDARD
TZOFFSETFROM:-0500
TZOFFSETTO:-0600
TZNAME:CST
DTSTART:20261101T070000
END:STANDARD
END:VTIMEZONE
BEGIN:VEVENT
DTSTART;VALUE=DATE:20250301
DTEND;VALUE=DATE:20250401
DTSTAMP:20260422T191253
CREATED:20250214T225338Z
LAST-MODIFIED:20250214T225338Z
UID:342766-1740787200-1743465599@kwhi.com
SUMMARY:Donate Blood
DESCRIPTION:
URL:https://kwhi.com/event/donate-blood/
LOCATION:TX
CATEGORIES:Bulletin Board
ATTACH;FMTTYPE=image/jpeg:https://kwhi.com/wp-content/uploads/2025/02/give-blood-mar-1-31.jpg
END:VEVENT
BEGIN:VEVENT
DTSTART;VALUE=DATE:20250301
DTEND;VALUE=DATE:20250416
DTSTAMP:20260422T191253
CREATED:20250213T160312Z
LAST-MODIFIED:20250213T160312Z
UID:342577-1740787200-1744761599@kwhi.com
SUMMARY:Calling All Graduating Washington County Senior 4-H Members
DESCRIPTION:
URL:https://kwhi.com/event/calling-all-graduating-washington-county-senior-4-h-members/
LOCATION:TX
CATEGORIES:Bulletin Board
ATTACH;FMTTYPE=image/jpeg:https://kwhi.com/wp-content/uploads/2025/02/sr-4h-members.jpg
END:VEVENT
BEGIN:VEVENT
DTSTART;VALUE=DATE:20250304
DTEND;VALUE=DATE:20250401
DTSTAMP:20260422T191253
CREATED:20250304T155849Z
LAST-MODIFIED:20250304T155849Z
UID:344187-1741046400-1743465599@kwhi.com
SUMMARY:Brenham Animal Service Spay/Neuter Assistance Program
DESCRIPTION:
URL:https://kwhi.com/event/brenham-animal-service-spay-neuter-assistance-program/
LOCATION:Brenham Animal Services and Adoption Center\, 1804 Longwood Drive\, Brenham\, TX\, 77833\, United States
CATEGORIES:Bulletin Board
ATTACH;FMTTYPE=image/jpeg:https://kwhi.com/wp-content/uploads/2025/03/spay-neuter-assistance.jpg
END:VEVENT
BEGIN:VEVENT
DTSTART;VALUE=DATE:20250306
DTEND;VALUE=DATE:20250401
DTSTAMP:20260422T191253
CREATED:20250306T151819Z
LAST-MODIFIED:20250306T151819Z
UID:344338-1741219200-1743465599@kwhi.com
SUMMARY:Washington County Fair Country Creation Catalogs have been Posted
DESCRIPTION:
URL:https://kwhi.com/event/washington-county-fair-country-creation-catalogs-have-been-posted/
LOCATION:TX
CATEGORIES:Bulletin Board
ATTACH;FMTTYPE=image/jpeg:https://kwhi.com/wp-content/uploads/2025/03/cc-catalog.jpg
END:VEVENT
BEGIN:VEVENT
DTSTART;VALUE=DATE:20250307
DTEND;VALUE=DATE:20250315
DTSTAMP:20260422T191253
CREATED:20250306T221911Z
LAST-MODIFIED:20250306T221911Z
UID:344418-1741305600-1741996799@kwhi.com
SUMMARY:Navasota ISD Spring Break
DESCRIPTION:
URL:https://kwhi.com/event/navasota-isd-spring-break/
LOCATION:TX
CATEGORIES:Bulletin Board
ATTACH;FMTTYPE=image/png:https://kwhi.com/wp-content/uploads/2025/03/nisd-spring-break.png
END:VEVENT
BEGIN:VEVENT
DTSTART;VALUE=DATE:20250310
DTEND;VALUE=DATE:20250311
DTSTAMP:20260422T191253
CREATED:20250307T143554Z
LAST-MODIFIED:20250307T143554Z
UID:344465-1741564800-1741651199@kwhi.com
SUMMARY:Washington County Ladies Lions Club Meeting (Brenham)
DESCRIPTION:The Washington County Ladies Lions will meet Monday\, March 10 at noon at the Cannery Kitchen\, members are reminded last meeting to turn in fundraiser items. The public is invited to attend\, RSVP is not required. Lunch is available.
URL:https://kwhi.com/event/washington-county-ladies-lions-club-meeting-brenham-3/
LOCATION:Cannery Kitchen\, 314 East Alamo\, Brenham\, TX\, 77833\, United States
CATEGORIES:Bulletin Board
ATTACH;FMTTYPE=image/jpeg:https://kwhi.com/wp-content/uploads/2025/03/wc-ladies-lions-banner.jpg
END:VEVENT
BEGIN:VEVENT
DTSTART;VALUE=DATE:20250310
DTEND;VALUE=DATE:20250328
DTSTAMP:20260422T191253
CREATED:20250310T212623Z
LAST-MODIFIED:20250310T212623Z
UID:344712-1741564800-1743119999@kwhi.com
SUMMARY:FREEDOM COLONIES Exhibit on Display at Brenham Heritage Museum
DESCRIPTION:
URL:https://kwhi.com/event/freedom-colonies-exhibit-on-display-at-brenham-heritage-museum/
LOCATION:Brenham Heritage Museum\, 105 S. Market St. \, Brenham\, TX\, 77833\, United States
CATEGORIES:Bulletin Board
ATTACH;FMTTYPE=image/jpeg:https://kwhi.com/wp-content/uploads/2025/03/freedom-colonies-at-bhm.jpg
END:VEVENT
BEGIN:VEVENT
DTSTART;VALUE=DATE:20250310
DTEND;VALUE=DATE:20250401
DTSTAMP:20260422T191253
CREATED:20250310T211608Z
LAST-MODIFIED:20250310T211608Z
UID:344700-1741564800-1743465599@kwhi.com
SUMMARY:Austin County Fair 2025 Scholarship Applications Online Now
DESCRIPTION:
URL:https://kwhi.com/event/austin-county-fair-2025-scholarship-applications-online-now/
LOCATION:TX
CATEGORIES:Bulletin Board
ATTACH;FMTTYPE=image/jpeg:https://kwhi.com/wp-content/uploads/2025/03/acf-scholarships.jpg
END:VEVENT
BEGIN:VEVENT
DTSTART;TZID=America/Chicago:20250310T173000
DTEND;TZID=America/Chicago:20250310T190000
DTSTAMP:20260422T191253
CREATED:20250207T163731Z
LAST-MODIFIED:20250207T163731Z
UID:342126-1741627800-1741633200@kwhi.com
SUMMARY:Junior Heritage Belles of Washington County Collecting Fun Items (Brenham)
DESCRIPTION:Spring Break Giving Project – Donations and Volunteers Needed\nThe Heritage Society of Washington County Junior Belles are teaming up with Brenham Blessings for a special ** March 10th Give-Out Day ** at the Gather in Grace Monday Night Dinner. \nWe’re collecting ** fun items ** to brighten Spring Break for local families \n\nChalk\nBubbles\nPopsicles\nBath toys\nBoard games\n\nDonation Drop-Off Locations \n\nKTEX 106.1\nHSF Downtown\nLas Americas Latin Cuisine\n\nHelp us spread the word or donate an item! \nLet’s work together to bring joy to our community! \nThank you for making a difference!!
URL:https://kwhi.com/event/junior-heritage-belles-of-washington-county-collecting-fun-items-brenham/
LOCATION:City of Brenham Fireman’s Park\, 901 N. Park Street\, Brenham\, TX\, 77833\, United States
CATEGORIES:Bulletin Board
ATTACH;FMTTYPE=image/png:https://kwhi.com/wp-content/uploads/2025/02/heritage-society-of-wc.png
END:VEVENT
END:VCALENDAR