BEGIN:VCALENDAR
VERSION:2.0
PRODID:-//KWHI.com - ECPv6.15.17.1//NONSGML v1.0//EN
CALSCALE:GREGORIAN
METHOD:PUBLISH
X-ORIGINAL-URL:https://kwhi.com
X-WR-CALDESC:Events for KWHI.com
REFRESH-INTERVAL;VALUE=DURATION:PT1H
X-Robots-Tag:noindex
X-PUBLISHED-TTL:PT1H
BEGIN:VTIMEZONE
TZID:America/Chicago
BEGIN:DAYLIGHT
TZOFFSETFROM:-0600
TZOFFSETTO:-0500
TZNAME:CDT
DTSTART:20240310T080000
END:DAYLIGHT
BEGIN:STANDARD
TZOFFSETFROM:-0500
TZOFFSETTO:-0600
TZNAME:CST
DTSTART:20241103T070000
END:STANDARD
BEGIN:DAYLIGHT
TZOFFSETFROM:-0600
TZOFFSETTO:-0500
TZNAME:CDT
DTSTART:20250309T080000
END:DAYLIGHT
BEGIN:STANDARD
TZOFFSETFROM:-0500
TZOFFSETTO:-0600
TZNAME:CST
DTSTART:20251102T070000
END:STANDARD
BEGIN:DAYLIGHT
TZOFFSETFROM:-0600
TZOFFSETTO:-0500
TZNAME:CDT
DTSTART:20260308T080000
END:DAYLIGHT
BEGIN:STANDARD
TZOFFSETFROM:-0500
TZOFFSETTO:-0600
TZNAME:CST
DTSTART:20261101T070000
END:STANDARD
END:VTIMEZONE
BEGIN:VEVENT
DTSTART;VALUE=DATE:20250301
DTEND;VALUE=DATE:20250416
DTSTAMP:20260421T021714
CREATED:20250213T160312Z
LAST-MODIFIED:20250213T160312Z
UID:342577-1740787200-1744761599@kwhi.com
SUMMARY:Calling All Graduating Washington County Senior 4-H Members
DESCRIPTION:
URL:https://kwhi.com/event/calling-all-graduating-washington-county-senior-4-h-members/
LOCATION:TX
CATEGORIES:Bulletin Board
ATTACH;FMTTYPE=image/jpeg:https://kwhi.com/wp-content/uploads/2025/02/sr-4h-members.jpg
END:VEVENT
BEGIN:VEVENT
DTSTART;VALUE=DATE:20250312
DTEND;VALUE=DATE:20250413
DTSTAMP:20260421T021714
CREATED:20250312T191559Z
LAST-MODIFIED:20250312T191559Z
UID:344823-1741737600-1744502399@kwhi.com
SUMMARY:Faith Mission Cannery Center Capital Campaign in Progress (Brenham)
DESCRIPTION:
URL:https://kwhi.com/event/faith-mission-cannery-center-capital-campaign-in-progress-brenham/
LOCATION:TX
CATEGORIES:Bulletin Board
ATTACH;FMTTYPE=image/jpeg:https://kwhi.com/wp-content/uploads/2025/03/capital-campaign-cannery-kitchen.jpeg
END:VEVENT
BEGIN:VEVENT
DTSTART;VALUE=DATE:20250324
DTEND;VALUE=DATE:20250412
DTSTAMP:20260421T021714
CREATED:20250319T211506Z
LAST-MODIFIED:20250319T211506Z
UID:345297-1742774400-1744415999@kwhi.com
SUMMARY:Washington County A&M Club Aggie Muster-Register Now (Brenham)
DESCRIPTION:
URL:https://kwhi.com/event/washington-county-am-club-aggie-muster-register-now-brenham/
LOCATION:TX
CATEGORIES:Bulletin Board
ATTACH;FMTTYPE=image/png:https://kwhi.com/wp-content/uploads/2025/03/aggie-muster-apr-21.png
END:VEVENT
BEGIN:VEVENT
DTSTART;VALUE=DATE:20250312
DTEND;VALUE=DATE:20250313
DTSTAMP:20260421T021714
CREATED:20250213T163149Z
LAST-MODIFIED:20250213T163149Z
UID:342600-1741737600-1741823999@kwhi.com
SUMMARY:Traditional Lent Services at Abiding Word Lutheran Church (Brenham)
DESCRIPTION:Join Abiding Word Lutheran Church for a traditional Lent Service @ 12 PM or a 5:30 PM service on March 12\, 19\, 26\, April 2\, and 9.
URL:https://kwhi.com/event/traditional-lent-services-at-abiding-word-lutheran-church-brenham/
LOCATION:Abiding Word Lutheran Church (Brenham)\, 464 Oak Tree Crossing Drive\, Brenham\, TX\, 77833\, United States
CATEGORIES:Bulletin Board
ATTACH;FMTTYPE=image/png:https://kwhi.com/wp-content/uploads/2025/02/abiding-word-lutheran-church-brenham.png
END:VEVENT
BEGIN:VEVENT
DTSTART;TZID=America/Chicago:20250402T100000
DTEND;TZID=America/Chicago:20250402T143000
DTSTAMP:20260421T021714
CREATED:20250306T211607Z
LAST-MODIFIED:20250306T211607Z
UID:344391-1743588000-1743604200@kwhi.com
SUMMARY:Blood Drive (Bryan)
DESCRIPTION:
URL:https://kwhi.com/event/blood-drive-bryan/
LOCATION:Brazos County Health District\, 201 North Texas Ave\, Bryan\, TX\, 77803\, United States
CATEGORIES:Bulletin Board
ATTACH;FMTTYPE=image/jpeg:https://kwhi.com/wp-content/uploads/2025/03/blood-drive-apr-2.jpg
END:VEVENT
END:VCALENDAR