BEGIN:VCALENDAR
VERSION:2.0
PRODID:-//KWHI.com - ECPv6.15.17.1//NONSGML v1.0//EN
CALSCALE:GREGORIAN
METHOD:PUBLISH
X-ORIGINAL-URL:https://kwhi.com
X-WR-CALDESC:Events for KWHI.com
REFRESH-INTERVAL;VALUE=DURATION:PT1H
X-Robots-Tag:noindex
X-PUBLISHED-TTL:PT1H
BEGIN:VTIMEZONE
TZID:America/Chicago
BEGIN:DAYLIGHT
TZOFFSETFROM:-0600
TZOFFSETTO:-0500
TZNAME:CDT
DTSTART:20240310T080000
END:DAYLIGHT
BEGIN:STANDARD
TZOFFSETFROM:-0500
TZOFFSETTO:-0600
TZNAME:CST
DTSTART:20241103T070000
END:STANDARD
BEGIN:DAYLIGHT
TZOFFSETFROM:-0600
TZOFFSETTO:-0500
TZNAME:CDT
DTSTART:20250309T080000
END:DAYLIGHT
BEGIN:STANDARD
TZOFFSETFROM:-0500
TZOFFSETTO:-0600
TZNAME:CST
DTSTART:20251102T070000
END:STANDARD
BEGIN:DAYLIGHT
TZOFFSETFROM:-0600
TZOFFSETTO:-0500
TZNAME:CDT
DTSTART:20260308T080000
END:DAYLIGHT
BEGIN:STANDARD
TZOFFSETFROM:-0500
TZOFFSETTO:-0600
TZNAME:CST
DTSTART:20261101T070000
END:STANDARD
END:VTIMEZONE
BEGIN:VEVENT
DTSTART;VALUE=DATE:20250301
DTEND;VALUE=DATE:20250416
DTSTAMP:20260419T225237
CREATED:20250213T160312Z
LAST-MODIFIED:20250213T160312Z
UID:342577-1740787200-1744761599@kwhi.com
SUMMARY:Calling All Graduating Washington County Senior 4-H Members
DESCRIPTION:
URL:https://kwhi.com/event/calling-all-graduating-washington-county-senior-4-h-members/
LOCATION:TX
CATEGORIES:Bulletin Board
ATTACH;FMTTYPE=image/jpeg:https://kwhi.com/wp-content/uploads/2025/02/sr-4h-members.jpg
END:VEVENT
BEGIN:VEVENT
DTSTART;VALUE=DATE:20250404
DTEND;VALUE=DATE:20250501
DTSTAMP:20260419T225237
CREATED:20250404T132949Z
LAST-MODIFIED:20250404T132949Z
UID:346453-1743724800-1746057599@kwhi.com
SUMMARY:Downtown Brenham's Peanut Butter & JAM Drive
DESCRIPTION:Here’s where YOU come in: Swing by a participating Downtown Brenham business and drop off unopened peanut butter and/or JAM. Every jar you donate helps create a yummy sandwich—and ensures a child gets a nutritious meal! \nBut wait\, there’s more! It’s a 𝐏𝐁 & 𝐉𝐀𝐌 showdown! Our Downtown businesses are battling it out to see who can stack up the most donations and claim the title of 𝐏𝐁 & 𝐉𝐀𝐌 Champ (plus a tasty lunch prize). Donate to your fav and help them win! 
URL:https://kwhi.com/event/downtown-brenhams-peanut-butter-jam-drive-2/
LOCATION:Downtown Brenham\, Brenham\, TX\, 77833\, United States
CATEGORIES:Bulletin Board
ATTACH;FMTTYPE=image/jpeg:https://kwhi.com/wp-content/uploads/2025/04/pb-and-jam.jpg
END:VEVENT
BEGIN:VEVENT
DTSTART;VALUE=DATE:20250404
DTEND;VALUE=DATE:20250504
DTSTAMP:20260419T225237
CREATED:20250404T135420Z
LAST-MODIFIED:20250404T135420Z
UID:346456-1743724800-1746316799@kwhi.com
SUMMARY:Washington Co. Juneteenth Registration Open Now (Brenham)
DESCRIPTION:Please see any WCJA member for registration applications.
URL:https://kwhi.com/event/washington-co-juneteenth-registration-open-now-brenham/
LOCATION:TX
CATEGORIES:Bulletin Board
ATTACH;FMTTYPE=image/jpeg:https://kwhi.com/wp-content/uploads/2025/04/juneteenth-registration-end-may-3.jpg
END:VEVENT
BEGIN:VEVENT
DTSTART;VALUE=DATE:20250415
DTEND;VALUE=DATE:20250416
DTSTAMP:20260419T225237
CREATED:20250326T202209Z
LAST-MODIFIED:20250326T202209Z
UID:345795-1744675200-1744761599@kwhi.com
SUMMARY:Congenital Heart Defects Program Series (Brenham)
DESCRIPTION:
URL:https://kwhi.com/event/congenital-heart-defects-program-series-brenham-2/
LOCATION:Margaret E. Blizzard Senior Activity Center\, 1301 East Tom Green\, Brenham\, TX\, 77833\, United States
CATEGORIES:Bulletin Board
ATTACH;FMTTYPE=image/jpeg:https://kwhi.com/wp-content/uploads/2025/03/congenital-heart-defects-apr-1-15-29.jpg
END:VEVENT
BEGIN:VEVENT
DTSTART;VALUE=DATE:20250415
DTEND;VALUE=DATE:20250416
DTSTAMP:20260419T225237
CREATED:20250402T145449Z
LAST-MODIFIED:20250402T145449Z
UID:346337-1744675200-1744761599@kwhi.com
SUMMARY:Ladies Salad Supper at Brenham Elks Lodge
DESCRIPTION:
URL:https://kwhi.com/event/ladies-salad-supper-at-brenham-elks-lodge/
LOCATION:Brenham Elks Lodge\, 400 E. Germania\, Brenham\, TX\, 77833\, United States
CATEGORIES:Bulletin Board
ATTACH;FMTTYPE=image/jpeg:https://kwhi.com/wp-content/uploads/2025/04/ladies-salad-supper-apr-15.jpg
END:VEVENT
BEGIN:VEVENT
DTSTART;VALUE=DATE:20250415
DTEND;VALUE=DATE:20250427
DTSTAMP:20260419T225237
CREATED:20250303T221721Z
LAST-MODIFIED:20250303T221721Z
UID:344124-1744675200-1745711999@kwhi.com
SUMMARY:The American Revolution Experience Traveling Exhibit (Brenham)
DESCRIPTION:
URL:https://kwhi.com/event/the-american-revolution-experience-traveling-exhibit-brenham/
LOCATION:The Barnhill Center at Historic Simon Theatre\, 111 W. Main\, Brenham\, TX\, 77833\, United States
CATEGORIES:Bulletin Board
ATTACH;FMTTYPE=image/jpeg:https://kwhi.com/wp-content/uploads/2025/03/the-american-revolution-exper-april.jpg
END:VEVENT
BEGIN:VEVENT
DTSTART;TZID=America/Chicago:20250415T120000
DTEND;TZID=America/Chicago:20250415T125500
DTSTAMP:20260419T225237
CREATED:20250310T210711Z
LAST-MODIFIED:20250310T210711Z
UID:344688-1744718400-1744721700@kwhi.com
SUMMARY:Lunch N Learn Series-Spring (Bellville)
DESCRIPTION:
URL:https://kwhi.com/event/lunch-n-learn-series-spring-bellville-2/
LOCATION:Texas A&M AgriLife Extension Service (Austin County)\, 800 East Wendt\, Bellville\, TX\, 77418\, United States
CATEGORIES:Bulletin Board
ATTACH;FMTTYPE=image/jpeg:https://kwhi.com/wp-content/uploads/2025/03/lunch-n-learn-spring-series-feb-mar-apr-may.jpg
END:VEVENT
BEGIN:VEVENT
DTSTART;TZID=America/Chicago:20250415T140000
DTEND;TZID=America/Chicago:20250415T180000
DTSTAMP:20260419T225237
CREATED:20250411T205249Z
LAST-MODIFIED:20250411T205249Z
UID:347141-1744725600-1744740000@kwhi.com
SUMMARY:Valmont Onsite Hiring Event (Brenham)
DESCRIPTION:
URL:https://kwhi.com/event/valmont-onsite-hiring-event-brenham/
LOCATION:Valmont\, 2551 Valmont Dr\, Brenham\, TX\, 77833\, United States
CATEGORIES:Bulletin Board
ATTACH;FMTTYPE=image/png:https://kwhi.com/wp-content/uploads/2025/04/onsite-hiring-event-apr-15.png
END:VEVENT
END:VCALENDAR