BEGIN:VCALENDAR
VERSION:2.0
PRODID:-//KWHI.com - ECPv6.15.17.1//NONSGML v1.0//EN
CALSCALE:GREGORIAN
METHOD:PUBLISH
X-WR-CALNAME:KWHI.com
X-ORIGINAL-URL:https://kwhi.com
X-WR-CALDESC:Events for KWHI.com
REFRESH-INTERVAL;VALUE=DURATION:PT1H
X-Robots-Tag:noindex
X-PUBLISHED-TTL:PT1H
BEGIN:VTIMEZONE
TZID:America/Chicago
BEGIN:DAYLIGHT
TZOFFSETFROM:-0600
TZOFFSETTO:-0500
TZNAME:CDT
DTSTART:20240310T080000
END:DAYLIGHT
BEGIN:STANDARD
TZOFFSETFROM:-0500
TZOFFSETTO:-0600
TZNAME:CST
DTSTART:20241103T070000
END:STANDARD
BEGIN:DAYLIGHT
TZOFFSETFROM:-0600
TZOFFSETTO:-0500
TZNAME:CDT
DTSTART:20250309T080000
END:DAYLIGHT
BEGIN:STANDARD
TZOFFSETFROM:-0500
TZOFFSETTO:-0600
TZNAME:CST
DTSTART:20251102T070000
END:STANDARD
BEGIN:DAYLIGHT
TZOFFSETFROM:-0600
TZOFFSETTO:-0500
TZNAME:CDT
DTSTART:20260308T080000
END:DAYLIGHT
BEGIN:STANDARD
TZOFFSETFROM:-0500
TZOFFSETTO:-0600
TZNAME:CST
DTSTART:20261101T070000
END:STANDARD
END:VTIMEZONE
BEGIN:VEVENT
DTSTART;VALUE=DATE:20250602
DTEND;VALUE=DATE:20250719
DTSTAMP:20260421T153325
CREATED:20250425T181933Z
LAST-MODIFIED:20250521T200452Z
UID:348291-1748822400-1752883199@kwhi.com
SUMMARY:Summer Meals for Children in the Community (Brenham)
DESCRIPTION:Monday-Friday\, June 2-July 19 \n(CLOSED June 19th and July 4th) 
URL:https://kwhi.com/event/summer-meals-for-children-in-the-community-brenham/
LOCATION:Brenham Middle School\, 1600 South Blue Bell Road\, Brenham\, TX\, 77833\, United States
CATEGORIES:Bulletin Board
ATTACH;FMTTYPE=image/jpeg:https://kwhi.com/wp-content/uploads/2025/05/BrenhamISDSummerMealProgram25Flyer.jpg
END:VEVENT
BEGIN:VEVENT
DTSTART;VALUE=DATE:20250609
DTEND;VALUE=DATE:20250701
DTSTAMP:20260421T153325
CREATED:20250609T183333Z
LAST-MODIFIED:20250609T183333Z
UID:351807-1749427200-1751327999@kwhi.com
SUMMARY:Washington County A&M Club Accepting Scholarship Applications (Brenham)
DESCRIPTION:
URL:https://kwhi.com/event/washington-county-am-club-accepting-scholarship-applications-brenham/
CATEGORIES:Bulletin Board
ATTACH;FMTTYPE=image/png:https://kwhi.com/wp-content/uploads/2025/06/wc-am-scholarship.png
END:VEVENT
BEGIN:VEVENT
DTSTART;VALUE=DATE:20250609
DTEND;VALUE=DATE:20250701
DTSTAMP:20260421T153325
CREATED:20250609T212854Z
LAST-MODIFIED:20250609T212854Z
UID:351843-1749427200-1751327999@kwhi.com
SUMMARY:Snook Band Accepting Garage Sale Donation Items
DESCRIPTION:
URL:https://kwhi.com/event/snook-band-accepting-garage-sale-donation-items/
CATEGORIES:Bulletin Board
ATTACH;FMTTYPE=image/jpeg:https://kwhi.com/wp-content/uploads/2025/06/snook-band-donations-july-19.jpg
END:VEVENT
BEGIN:VEVENT
DTSTART;VALUE=DATE:20250613
DTEND;VALUE=DATE:20250701
DTSTAMP:20260421T153325
CREATED:20250613T140017Z
LAST-MODIFIED:20250613T140017Z
UID:352072-1749772800-1751327999@kwhi.com
SUMMARY:Brazos County Health District Food Pantry (Bryan)
DESCRIPTION:
URL:https://kwhi.com/event/brazos-county-health-district-food-pantry-bryan/
LOCATION:Brazos County Health District\, 201 North Texas Ave\, Bryan\, TX\, 77803\, United States
CATEGORIES:Bulletin Board
ATTACH;FMTTYPE=image/jpeg:https://kwhi.com/wp-content/uploads/2025/06/brazos-county-food-pantry.jpg
END:VEVENT
BEGIN:VEVENT
DTSTART;VALUE=DATE:20250613
DTEND;VALUE=DATE:20250716
DTSTAMP:20260421T153325
CREATED:20250613T140358Z
LAST-MODIFIED:20250613T140358Z
UID:352078-1749772800-1752623999@kwhi.com
SUMMARY:2025 LaNell Seeker 4-H Memorial Scholarship
DESCRIPTION:
URL:https://kwhi.com/event/2025-lanell-seeker-4-h-memorial-scholarship/
LOCATION:Texas A&M AgriLife Extension (Washington County)\, 1305 East Blue Bell Road\, Brenham\, TX\, 77833\, United States
CATEGORIES:Bulletin Board
ATTACH;FMTTYPE=image/jpeg:https://kwhi.com/wp-content/uploads/2025/06/lanell-seeker-scholarship.jpg
END:VEVENT
BEGIN:VEVENT
DTSTART;VALUE=DATE:20250624
DTEND;VALUE=DATE:20250627
DTSTAMP:20260421T153325
CREATED:20250424T213018Z
LAST-MODIFIED:20250424T213018Z
UID:348137-1750723200-1750982399@kwhi.com
SUMMARY:Bluebonnet Master Gardener Association Kids Kamp (Austin County)
DESCRIPTION:
URL:https://kwhi.com/event/bluebonnet-master-gardener-association-kids-kamp-austin-county/
CATEGORIES:Bulletin Board
ATTACH;FMTTYPE=image/jpeg:https://kwhi.com/wp-content/uploads/2025/04/bluebonnet-master-gardener-kids-kamp-june.jpg
END:VEVENT
BEGIN:VEVENT
DTSTART;TZID=America/Chicago:20250624T100000
DTEND;TZID=America/Chicago:20250624T110000
DTSTAMP:20260421T153325
CREATED:20250616T211429Z
LAST-MODIFIED:20250616T211429Z
UID:352266-1750759200-1750762800@kwhi.com
SUMMARY:Community Healthy & Wellness (Sealy)
DESCRIPTION:The Arthritis Foundation Exercise Program (AFEP) is being offered by HOA Incorporated of Austin County located in Sealy.  \nHere are the details of the program:  \n\nLocation: HOA Incorporated of Austin County\, 915 Frydek Road\, Sealy\, TX 77474\nContact: 979-885-4188 \n\nBenefits of the program:  \n\nDesigned to reduce pain and stiffness.\nImproves mobility\, strength\, and daily function.\nLow-impact program suitable for older adults.\nIncreases joint flexibility\, range of motion\, and muscle strength.\nCan lead to improved functional ability\, decreased depression\, and increased confidence in the ability to exercise.\nSessions include health education\, relaxation techniques\, and various endurance-building and range-of-motion activities.\nExercises can be modified to individual participant needs. 
URL:https://kwhi.com/event/community-healthy-wellness-sealy/
LOCATION:H.O.A. Incorporated of Austin County\, 915 Frydek Road\, Sealy\, TX\, 77474\, United States
CATEGORIES:Bulletin Board
ATTACH;FMTTYPE=image/jpeg:https://kwhi.com/wp-content/uploads/2025/06/community-health-wellness-june.jpg
END:VEVENT
BEGIN:VEVENT
DTSTART;TZID=America/Chicago:20250624T130000
DTEND;TZID=America/Chicago:20250624T190000
DTSTAMP:20260421T153325
CREATED:20250616T211817Z
LAST-MODIFIED:20250616T211817Z
UID:352271-1750770000-1750791600@kwhi.com
SUMMARY:Blood Drive (Bellville)
DESCRIPTION:
URL:https://kwhi.com/event/blood-drive-bellville-8/
LOCATION:Bellville Police Department\, 37 N Bell Street\, Bellville\, TX\, 77418\, United States
CATEGORIES:Bulletin Board
ATTACH;FMTTYPE=image/jpeg:https://kwhi.com/wp-content/uploads/2025/06/blood-drive-june-24.jpg
END:VEVENT
END:VCALENDAR