BEGIN:VCALENDAR
VERSION:2.0
PRODID:-//KWHI.com - ECPv6.15.17.1//NONSGML v1.0//EN
CALSCALE:GREGORIAN
METHOD:PUBLISH
X-ORIGINAL-URL:https://kwhi.com
X-WR-CALDESC:Events for KWHI.com
REFRESH-INTERVAL;VALUE=DURATION:PT1H
X-Robots-Tag:noindex
X-PUBLISHED-TTL:PT1H
BEGIN:VTIMEZONE
TZID:America/Chicago
BEGIN:DAYLIGHT
TZOFFSETFROM:-0600
TZOFFSETTO:-0500
TZNAME:CDT
DTSTART:20240310T080000
END:DAYLIGHT
BEGIN:STANDARD
TZOFFSETFROM:-0500
TZOFFSETTO:-0600
TZNAME:CST
DTSTART:20241103T070000
END:STANDARD
BEGIN:DAYLIGHT
TZOFFSETFROM:-0600
TZOFFSETTO:-0500
TZNAME:CDT
DTSTART:20250309T080000
END:DAYLIGHT
BEGIN:STANDARD
TZOFFSETFROM:-0500
TZOFFSETTO:-0600
TZNAME:CST
DTSTART:20251102T070000
END:STANDARD
BEGIN:DAYLIGHT
TZOFFSETFROM:-0600
TZOFFSETTO:-0500
TZNAME:CDT
DTSTART:20260308T080000
END:DAYLIGHT
BEGIN:STANDARD
TZOFFSETFROM:-0500
TZOFFSETTO:-0600
TZNAME:CST
DTSTART:20261101T070000
END:STANDARD
END:VTIMEZONE
BEGIN:VEVENT
DTSTART;VALUE=DATE:20250717
DTEND;VALUE=DATE:20250907
DTSTAMP:20260425T092141
CREATED:20250717T200729Z
LAST-MODIFIED:20250717T200806Z
UID:354142-1752710400-1757203199@kwhi.com
SUMMARY:BRAZOS VALLEY GIVES Nonprofit Registration is Open
DESCRIPTION:DEADLINE FOR NONPROFITES TO REGISTER AND PAY REGISTRATION FEE TO PARTICIPATE IN THE 2025 BRAZOS VALLEY GIVES IS MIDNIGHT ON SEPTEMBER 6th. 
URL:https://kwhi.com/event/brazos-valley-gives-nonprofit-registration-is-open/
LOCATION:TX
CATEGORIES:Bulletin Board
ATTACH;FMTTYPE=image/png:https://kwhi.com/wp-content/uploads/2025/07/nonprofit-registration.png
END:VEVENT
BEGIN:VEVENT
DTSTART;VALUE=DATE:20250801
DTEND;VALUE=DATE:20250816
DTSTAMP:20260425T092141
CREATED:20250717T141332Z
LAST-MODIFIED:20250717T141332Z
UID:354125-1754006400-1755302399@kwhi.com
SUMMARY:Parents of Bryan ISD Students-STAY CONNECTED
DESCRIPTION:
URL:https://kwhi.com/event/parents-of-bryan-isd-students-stay-connected/
LOCATION:TX
CATEGORIES:Bulletin Board
ATTACH;FMTTYPE=image/jpeg:https://kwhi.com/wp-content/uploads/2025/07/stay-connected.jpg
END:VEVENT
BEGIN:VEVENT
DTSTART;VALUE=DATE:20250806
DTEND;VALUE=DATE:20250816
DTSTAMP:20260425T092141
CREATED:20250806T172526Z
LAST-MODIFIED:20250806T172526Z
UID:355312-1754438400-1755302399@kwhi.com
SUMMARY:Jingle & Joy Gingerbread House Auction (Brenham)
DESCRIPTION:Gingerbread House Requirements \n\nAll exposed elements of the houses must be edible\nEach house must be on a board no larger than 12”x14” (Senior Center has boards if needed)\nThe professional category houses may be on a board no larger than 18”x24”\nCompleted gingerbread houses must be delivered to the Senior Center on November 13th\, between 9 AM-4 PM\nAll houses submitted become the property of WCHLA and will be auctioned off\nMore information at SeniorCenterBrenham.com/gingerbread
URL:https://kwhi.com/event/jingle-joy-gingerbread-house-auction-brenham/
LOCATION:Margaret E. Blizzard Senior Activity Center\, 1301 East Tom Green\, Brenham\, TX\, 77833\, United States
CATEGORIES:Bulletin Board
ATTACH;FMTTYPE=image/png:https://kwhi.com/wp-content/uploads/2025/08/jingle-joy-nov-18.png
END:VEVENT
BEGIN:VEVENT
DTSTART;VALUE=DATE:20250812
DTEND;VALUE=DATE:20250815
DTSTAMP:20260425T092141
CREATED:20250725T141329Z
LAST-MODIFIED:20250725T141329Z
UID:354586-1754956800-1755215999@kwhi.com
SUMMARY:Mustang Mini Cheer Camp (College Station)
DESCRIPTION:must
URL:https://kwhi.com/event/mustang-mini-cheer-camp-college-station/
LOCATION:A&M Church of Christ\, 2475 Earl Rudder Fwy. S\, College Station\, TX\, 77845\, United States
CATEGORIES:Bulletin Board
ATTACH;FMTTYPE=image/jpeg:https://kwhi.com/wp-content/uploads/2025/07/mustang-camp.jpg
END:VEVENT
BEGIN:VEVENT
DTSTART;VALUE=DATE:20250812
DTEND;VALUE=DATE:20250830
DTSTAMP:20260425T092141
CREATED:20250724T140645Z
LAST-MODIFIED:20250724T140645Z
UID:354513-1754956800-1756511999@kwhi.com
SUMMARY:No Personal Communication Devices at Bellville ISD
DESCRIPTION:
URL:https://kwhi.com/event/no-personal-communication-devices-at-bellville-isd/
LOCATION:TX
CATEGORIES:Bulletin Board
ATTACH;FMTTYPE=image/jpeg:https://kwhi.com/wp-content/uploads/2025/07/bellville-isd-no-devices.jpg
END:VEVENT
BEGIN:VEVENT
DTSTART;VALUE=DATE:20250812
DTEND;VALUE=DATE:20250901
DTSTAMP:20260425T092141
CREATED:20250812T142238Z
LAST-MODIFIED:20250812T142238Z
UID:355592-1754956800-1756684799@kwhi.com
SUMMARY:Clear the Shelters (Brenham)
DESCRIPTION:AUGUST 23rd IS THE MEGA EVENT - FREE ADOPTIONS!
URL:https://kwhi.com/event/clear-the-shelters-brenham/
LOCATION:City of Brenham Animal Services\, 1804 Longwood Drive\, Brenham\, TX\, 77833\, United States
CATEGORIES:Bulletin Board
ATTACH;FMTTYPE=image/png:https://kwhi.com/wp-content/uploads/2025/08/clear-the-shelters-aug-23.png
END:VEVENT
BEGIN:VEVENT
DTSTART;VALUE=DATE:20250812
DTEND;VALUE=DATE:20250906
DTSTAMP:20260425T092141
CREATED:20250812T133835Z
LAST-MODIFIED:20250812T133835Z
UID:355587-1754956800-1757116799@kwhi.com
SUMMARY:Austin County Cattle Women Ranch Run (Cat Spring)
DESCRIPTION:REGISTRATION OPEN NOW THROUGH SEPTEMBER 5th 
URL:https://kwhi.com/event/austin-county-cattle-women-ranch-run-cat-spring/
LOCATION:7IL Ranch\, 5389 Mill Creek Road\, Cat Spring\, TX\, 78933\, United States
CATEGORIES:Bulletin Board
ATTACH;FMTTYPE=image/jpeg:https://kwhi.com/wp-content/uploads/2025/08/ranch-run-sep-27.jpg
END:VEVENT
BEGIN:VEVENT
DTSTART;TZID=America/Chicago:20250813T150000
DTEND;TZID=America/Chicago:20250813T190000
DTSTAMP:20260425T092141
CREATED:20250724T141059Z
LAST-MODIFIED:20250724T141059Z
UID:354516-1755097200-1755111600@kwhi.com
SUMMARY:Caldwell HS Hornet Launch
DESCRIPTION:
URL:https://kwhi.com/event/caldwell-hs-hornet-launch/
LOCATION:Caldwell High School\, 550 County Road 307\, Caldwell\, TX\, 77836\, United States
CATEGORIES:Bulletin Board
ATTACH;FMTTYPE=image/jpeg:https://kwhi.com/wp-content/uploads/2025/07/caldwell-hornet-launch-aug-13.jpg
END:VEVENT
BEGIN:VEVENT
DTSTART;TZID=America/Chicago:20250813T163000
DTEND;TZID=America/Chicago:20250813T180000
DTSTAMP:20260425T092141
CREATED:20250724T141257Z
LAST-MODIFIED:20250724T141257Z
UID:354519-1755102600-1755108000@kwhi.com
SUMMARY:Brenham Belles Drive-Thru Fundraiser
DESCRIPTION:
URL:https://kwhi.com/event/brenham-belles-drive-thru-fundraiser/
LOCATION:Brenham High School\, 525 A.H. Ehrig\, Brenham\, TX\, 77835\, United States
CATEGORIES:Bulletin Board
ATTACH;FMTTYPE=image/jpeg:https://kwhi.com/wp-content/uploads/2025/07/brenham-belles-aug-13.jpg
END:VEVENT
END:VCALENDAR