BEGIN:VCALENDAR
VERSION:2.0
PRODID:-//KWHI.com - ECPv6.15.17.1//NONSGML v1.0//EN
CALSCALE:GREGORIAN
METHOD:PUBLISH
X-ORIGINAL-URL:https://kwhi.com
X-WR-CALDESC:Events for KWHI.com
REFRESH-INTERVAL;VALUE=DURATION:PT1H
X-Robots-Tag:noindex
X-PUBLISHED-TTL:PT1H
BEGIN:VTIMEZONE
TZID:America/Chicago
BEGIN:DAYLIGHT
TZOFFSETFROM:-0600
TZOFFSETTO:-0500
TZNAME:CDT
DTSTART:20240310T080000
END:DAYLIGHT
BEGIN:STANDARD
TZOFFSETFROM:-0500
TZOFFSETTO:-0600
TZNAME:CST
DTSTART:20241103T070000
END:STANDARD
BEGIN:DAYLIGHT
TZOFFSETFROM:-0600
TZOFFSETTO:-0500
TZNAME:CDT
DTSTART:20250309T080000
END:DAYLIGHT
BEGIN:STANDARD
TZOFFSETFROM:-0500
TZOFFSETTO:-0600
TZNAME:CST
DTSTART:20251102T070000
END:STANDARD
BEGIN:DAYLIGHT
TZOFFSETFROM:-0600
TZOFFSETTO:-0500
TZNAME:CDT
DTSTART:20260308T080000
END:DAYLIGHT
BEGIN:STANDARD
TZOFFSETFROM:-0500
TZOFFSETTO:-0600
TZNAME:CST
DTSTART:20261101T070000
END:STANDARD
END:VTIMEZONE
BEGIN:VEVENT
DTSTART;VALUE=DATE:20250912
DTEND;VALUE=DATE:20251001
DTSTAMP:20260422T022109
CREATED:20250912T200439Z
LAST-MODIFIED:20250912T200439Z
UID:357793-1757635200-1759276799@kwhi.com
SUMMARY:Center Church Youth Fundraiser (Brenham)
DESCRIPTION:
URL:https://kwhi.com/event/center-church-youth-fundraiser-brenham/
LOCATION:Center Church Brenham\, 304 N Market Street\, Brenham\, TX\, 77833\, United States
CATEGORIES:Bulletin Board
ATTACH;FMTTYPE=image/jpeg:https://kwhi.com/wp-content/uploads/2025/09/centerrolls.jpg
END:VEVENT
BEGIN:VEVENT
DTSTART;VALUE=DATE:20250916
DTEND;VALUE=DATE:20251017
DTSTAMP:20260422T022109
CREATED:20250715T191337Z
LAST-MODIFIED:20250715T191337Z
UID:354007-1757980800-1760659199@kwhi.com
SUMMARY:Brazos Valley Fair and Rodeo Baked & Canned Goods Contest
DESCRIPTION:
URL:https://kwhi.com/event/brazos-valley-fair-and-rodeo-baked-canned-goods-contest/
LOCATION:Brazos County Expo Complex\, 5827 Leonard Rd.\, Bryan\, TX\, 77807\, United States
CATEGORIES:Bulletin Board
ATTACH;FMTTYPE=image/jpeg:https://kwhi.com/wp-content/uploads/2025/07/bv-baked-goods-sept-oct.jpg
END:VEVENT
BEGIN:VEVENT
DTSTART;VALUE=DATE:20250922
DTEND;VALUE=DATE:20251023
DTSTAMP:20260422T022109
CREATED:20250919T200537Z
LAST-MODIFIED:20250919T200537Z
UID:358384-1758499200-1761177599@kwhi.com
SUMMARY:BVCAP Head Start & Early Head Start Accepting Applications
DESCRIPTION:
URL:https://kwhi.com/event/bvcap-head-start-early-head-start-accepting-applications-2/
CATEGORIES:Bulletin Board
ATTACH;FMTTYPE=image/jpeg:https://kwhi.com/wp-content/uploads/2025/09/bvcap-end-oct-22.jpg
END:VEVENT
BEGIN:VEVENT
DTSTART;VALUE=DATE:20250922
DTEND;VALUE=DATE:20251023
DTSTAMP:20260422T022109
CREATED:20250919T200706Z
LAST-MODIFIED:20250919T200706Z
UID:358387-1758499200-1761177599@kwhi.com
SUMMARY:BVCAP Head Start & Early Head Start
DESCRIPTION:
URL:https://kwhi.com/event/bvcap-head-start-early-head-start/
CATEGORIES:Bulletin Board
ATTACH;FMTTYPE=image/jpeg:https://kwhi.com/wp-content/uploads/2025/09/bvcap-spanish-end-oct-22.jpg
END:VEVENT
BEGIN:VEVENT
DTSTART;VALUE=DATE:20250925
DTEND;VALUE=DATE:20250928
DTSTAMP:20260422T022109
CREATED:20250923T205841Z
LAST-MODIFIED:20250923T205841Z
UID:358630-1758758400-1759017599@kwhi.com
SUMMARY:Burleson County Fair Entertainment (Caldwell)
DESCRIPTION:
URL:https://kwhi.com/event/burleson-county-fair-entertainment-caldwell/
LOCATION:Burleson County Fairgrounds\, 905 SH 36 South\, Caldwell\, TX\, 77836\, United States
CATEGORIES:Bulletin Board
ATTACH;FMTTYPE=image/jpeg:https://kwhi.com/wp-content/uploads/2025/09/burleson-co-fair-assoc-sept-2025.jpg
END:VEVENT
BEGIN:VEVENT
DTSTART;VALUE=DATE:20250927
DTEND;VALUE=DATE:20250928
DTSTAMP:20260422T022109
CREATED:20250722T135719Z
LAST-MODIFIED:20250829T165817Z
UID:354356-1758931200-1759017599@kwhi.com
SUMMARY:Fedor V.F.D. Fish Fry
DESCRIPTION:
URL:https://kwhi.com/event/fedor-fish-fry/
LOCATION:Old Fedor Picnic Grounds\, TX\, United States
CATEGORIES:Bulletin Board
ATTACH;FMTTYPE=image/png:https://kwhi.com/wp-content/uploads/2025/07/fedor-vfd-sept-27.png
END:VEVENT
BEGIN:VEVENT
DTSTART;VALUE=DATE:20250927
DTEND;VALUE=DATE:20250928
DTSTAMP:20260422T022109
CREATED:20250909T205205Z
LAST-MODIFIED:20250909T205205Z
UID:357566-1758931200-1759017599@kwhi.com
SUMMARY:BRENHAM HIGH SCHOOL CROSS COUNTRY
DESCRIPTION:The Brenham Cub and Cubette Cross Country Teams will be taking part in the Yegua Invitational at Lake Somerville.
URL:https://kwhi.com/event/brenham-high-school-cross-country-11/
LOCATION:Lake Somerville\, Somerville\, TX\, 77879\, United States
CATEGORIES:Sports Events
END:VEVENT
BEGIN:VEVENT
DTSTART;VALUE=DATE:20250927
DTEND;VALUE=DATE:20250928
DTSTAMP:20260422T022109
CREATED:20250909T210311Z
LAST-MODIFIED:20250909T210311Z
UID:357575-1758931200-1759017599@kwhi.com
SUMMARY:BURTON HIGH SCHOOL CROSS COUNTRY
DESCRIPTION:The Burton Panther and Lady Panther Cross Country Teams are going to participate in the Yegua Invitational at Lake Somerville.
URL:https://kwhi.com/event/burton-high-school-cross-country-5/
CATEGORIES:Sports Events
END:VEVENT
BEGIN:VEVENT
DTSTART;VALUE=DATE:20250927
DTEND;VALUE=DATE:20250928
DTSTAMP:20260422T022109
CREATED:20250916T210043Z
LAST-MODIFIED:20250916T210043Z
UID:358087-1758931200-1759017599@kwhi.com
SUMMARY:Waller County Fair & Rodeo Entertainment
DESCRIPTION:
URL:https://kwhi.com/event/waller-county-fair-rodeo-entertainment/
LOCATION:Waller County Fairgrounds\, 21988 FM-359\, Hempstead\, TX\, 77445\, United States
CATEGORIES:Bulletin Board
ATTACH;FMTTYPE=image/jpeg:https://kwhi.com/wp-content/uploads/2025/09/waller-co-fair-sept-oct.jpg
END:VEVENT
BEGIN:VEVENT
DTSTART;VALUE=DATE:20250927
DTEND;VALUE=DATE:20250928
DTSTAMP:20260422T022109
CREATED:20250923T192538Z
LAST-MODIFIED:20250923T192538Z
UID:358608-1758931200-1759017599@kwhi.com
SUMMARY:Washington County A&M Club Aggie Football Watch Party (Brenham)
DESCRIPTION:
URL:https://kwhi.com/event/washington-county-am-club-aggie-football-watch-party-brenham-4/
LOCATION:30 North Gastropub\, 302 E Alamo Street\, Brenham\, TX\, 77833\, United States
CATEGORIES:Bulletin Board
ATTACH;FMTTYPE=image/png:https://kwhi.com/wp-content/uploads/2025/09/aggie-football-sept-27.png
END:VEVENT
BEGIN:VEVENT
DTSTART;VALUE=DATE:20250927
DTEND;VALUE=DATE:20250929
DTSTAMP:20260422T022109
CREATED:20250916T165652Z
LAST-MODIFIED:20250916T165652Z
UID:358059-1758931200-1759103999@kwhi.com
SUMMARY:Amateur (Ham) Radio Technician-Class License Course (Brenham)
DESCRIPTION:
URL:https://kwhi.com/event/amateur-ham-radio-technician-class-license-course-brenham/
LOCATION:Christ Lutheran Church (Brenham)\, 1104 Carlee Drive\, Brenham\, TX\, 77833\, United States
CATEGORIES:Bulletin Board
ATTACH;FMTTYPE=image/jpeg:https://kwhi.com/wp-content/uploads/2025/09/W5AUM-Fall-2025-Tech-Class-Flyer.jpg
END:VEVENT
BEGIN:VEVENT
DTSTART;TZID=America/Chicago:20250927T083000
DTEND;TZID=America/Chicago:20250927T113000
DTSTAMP:20260422T022109
CREATED:20250516T203328Z
LAST-MODIFIED:20250516T203328Z
UID:350165-1758961800-1758972600@kwhi.com
SUMMARY:Kids Gone Fishin' at the BBAC (Brenham)
DESCRIPTION:
URL:https://kwhi.com/event/kids-gone-fishin-at-the-bbac-brenham/
LOCATION:Blue Bell Aquatic Center\, 1800 East Tom Green\, Brenham\, TX\, 77833\, United States
CATEGORIES:Bulletin Board
ATTACH;FMTTYPE=image/jpeg:https://kwhi.com/wp-content/uploads/2025/05/movies-in-the-park-may-july-aug.jpg
END:VEVENT
BEGIN:VEVENT
DTSTART;TZID=America/Chicago:20250927T100000
DTEND;TZID=America/Chicago:20250927T150000
DTSTAMP:20260422T022109
CREATED:20250925T140911Z
LAST-MODIFIED:20250925T140911Z
UID:358776-1758967200-1758985200@kwhi.com
SUMMARY:Autumn Craft Fair (Navasota)
DESCRIPTION:
URL:https://kwhi.com/event/autumn-craft-fair-navasota/
LOCATION:Faith Outreach Christian Center\, 11596 Hwy.6 South\, Navasota\, TX\, 77868\, United States
CATEGORIES:Bulletin Board
ATTACH;FMTTYPE=image/jpeg:https://kwhi.com/wp-content/uploads/2025/09/autumn-craft-fair-sept-27.jpg
END:VEVENT
BEGIN:VEVENT
DTSTART;TZID=America/Chicago:20250927T110000
DTEND;TZID=America/Chicago:20250927T133000
DTSTAMP:20260422T022109
CREATED:20250909T194436Z
LAST-MODIFIED:20250909T194436Z
UID:357537-1758970800-1758979800@kwhi.com
SUMMARY:Blinn Women's Soccer at LSU-Eunice
DESCRIPTION:The Blinn College Lady Bucs travel to Eunice\, Louisiana to take on the Louisiana State University-Eunice Bengals.
URL:https://kwhi.com/event/blinn-womens-soccer-at-lsu-eunice/
LOCATION:LSU-Eunice\, TX\, United States
CATEGORIES:Sports Events
END:VEVENT
BEGIN:VEVENT
DTSTART;TZID=America/Chicago:20250315T110000
DTEND;TZID=America/Chicago:20250315T160000
DTSTAMP:20260422T022109
CREATED:20250312T195335Z
LAST-MODIFIED:20250312T195335Z
UID:344832-1742036400-1742054400@kwhi.com
SUMMARY:Flying Horses Antique Carousel Open to the Public on Weekends (Brenham)
DESCRIPTION:antique
URL:https://kwhi.com/event/flying-horses-antique-carousel-open-to-the-public-on-weekends-brenham/
LOCATION:City of Brenham Fireman’s Park\, 901 N. Park Street\, Brenham\, TX\, 77833\, United States
CATEGORIES:Bulletin Board
ATTACH;FMTTYPE=image/jpeg:https://kwhi.com/wp-content/uploads/2025/03/antique-carousel-2025.jpg
END:VEVENT
BEGIN:VEVENT
DTSTART;TZID=America/Chicago:20250927T130000
DTEND;TZID=America/Chicago:20250927T153000
DTSTAMP:20260422T022109
CREATED:20250909T182653Z
LAST-MODIFIED:20250909T182653Z
UID:357507-1758978000-1758987000@kwhi.com
SUMMARY:Blinn Men's Soccer at LSU-Eunice
DESCRIPTION:The Blinn College Buccaneers travel to Eunice\, Louisiana to take on the Louisiana State University-Eunice Bengals.
URL:https://kwhi.com/event/blinn-mens-soccer-at-lsu-eunice/
LOCATION:LSU-Eunice\, TX\, United States
CATEGORIES:Sports Events
END:VEVENT
BEGIN:VEVENT
DTSTART;TZID=America/Chicago:20250927T190000
DTEND;TZID=America/Chicago:20250927T220000
DTSTAMP:20260422T022109
CREATED:20250819T191507Z
LAST-MODIFIED:20250819T192306Z
UID:355972-1758999600-1759010400@kwhi.com
SUMMARY:Blinn Football at Navarro College
DESCRIPTION:The Blinn College Buccaneers travel to Corsicana\, Texas to take on the Navarro College Bulldogs at Tiger Stadium for a conference matchup
URL:https://kwhi.com/event/blinn-football-at-navarro-college/
LOCATION:Tiger Stadium- Corsicana\, TX\, 4001 FM 744\, Corsicana\, 75110\, United States
CATEGORIES:Sports Events
END:VEVENT
END:VCALENDAR