BEGIN:VCALENDAR
VERSION:2.0
PRODID:-//KWHI.com - ECPv6.15.17.1//NONSGML v1.0//EN
CALSCALE:GREGORIAN
METHOD:PUBLISH
X-ORIGINAL-URL:https://kwhi.com
X-WR-CALDESC:Events for KWHI.com
REFRESH-INTERVAL;VALUE=DURATION:PT1H
X-Robots-Tag:noindex
X-PUBLISHED-TTL:PT1H
BEGIN:VTIMEZONE
TZID:America/Chicago
BEGIN:DAYLIGHT
TZOFFSETFROM:-0600
TZOFFSETTO:-0500
TZNAME:CDT
DTSTART:20240310T080000
END:DAYLIGHT
BEGIN:STANDARD
TZOFFSETFROM:-0500
TZOFFSETTO:-0600
TZNAME:CST
DTSTART:20241103T070000
END:STANDARD
BEGIN:DAYLIGHT
TZOFFSETFROM:-0600
TZOFFSETTO:-0500
TZNAME:CDT
DTSTART:20250309T080000
END:DAYLIGHT
BEGIN:STANDARD
TZOFFSETFROM:-0500
TZOFFSETTO:-0600
TZNAME:CST
DTSTART:20251102T070000
END:STANDARD
BEGIN:DAYLIGHT
TZOFFSETFROM:-0600
TZOFFSETTO:-0500
TZNAME:CDT
DTSTART:20260308T080000
END:DAYLIGHT
BEGIN:STANDARD
TZOFFSETFROM:-0500
TZOFFSETTO:-0600
TZNAME:CST
DTSTART:20261101T070000
END:STANDARD
END:VTIMEZONE
BEGIN:VEVENT
DTSTART;VALUE=DATE:20251202
DTEND;VALUE=DATE:20260101
DTSTAMP:20260421T151901
CREATED:20251202T192747Z
LAST-MODIFIED:20251202T192747Z
UID:364109-1764633600-1767225599@kwhi.com
SUMMARY:Now Open-Nominations for 2025
DESCRIPTION:Time to nominate your favorite: \n• Business of the Year \n• Small Business of the Year \n• New Business of the Year \n• Non-Profit of the Year \nhttps://www.brenhamtexas.com/2025-business-of-the-year/ \n\nAnd the 2025 Man & Woman of the Year \nhttps://form.jotform.com/253345944049160\n\nClick on the above links to nominate online or call 979-836-3695 to request the PDF forms to download. Return completed forms to Dawn@BrenhamTexas.com \nFor rules and due dates\, please read the attached Business of the Year Criteria. https://acrobat.adobe.com/.../urn:aaid:sc:US:fb2cd7f0... \nWinners of each award will be announced at the Annual Chamber & EDF Banquet that will be held on January 27\, 2026 at Fireman's Training Center.
URL:https://kwhi.com/event/now-open-nominations-for-2025/
CATEGORIES:Bulletin Board
ATTACH;FMTTYPE=image/png:https://kwhi.com/wp-content/uploads/2025/12/nominations-for-2025.png
END:VEVENT
BEGIN:VEVENT
DTSTART;VALUE=DATE:20251224
DTEND;VALUE=DATE:20251225
DTSTAMP:20260421T151901
CREATED:20251201T154631Z
LAST-MODIFIED:20251201T154631Z
UID:363991-1766534400-1766620799@kwhi.com
SUMMARY:Christmas Eve in Round Top Features World-Class Musicians
DESCRIPTION:The services feature world-class musicians presenting Christmas favorites: Joey McGee\, guitar and vocals\, Stephen Mansolo\, keyboard and vocals\, April Hubert\, one of Texas' top gospel singers\, Anna de Mare\, emerging singer/songwriter\, Frank Hillbolt\, bass\, and Vlad Morakovsky\, cello. The services also include a special Christmas message from priest and author William "Father Bill" Miller. All are welcomed.
URL:https://kwhi.com/event/christmas-eve-in-round-top-features-world-class-musicians/
LOCATION:The Compound\, 2550 State Hwy. 237\, Round Top\, TX\, 78954\, United States
CATEGORIES:Bulletin Board
ATTACH;FMTTYPE=image/jpeg:https://kwhi.com/wp-content/uploads/2025/12/christmas-in-round-top-dec-24.jpg
END:VEVENT
BEGIN:VEVENT
DTSTART;VALUE=DATE:20251224
DTEND;VALUE=DATE:20251225
DTSTAMP:20260421T151901
CREATED:20251205T211011Z
LAST-MODIFIED:20251205T211011Z
UID:364354-1766534400-1766620799@kwhi.com
SUMMARY:Independence Baptist Church Christmas Eve Service
DESCRIPTION:The community is invited to the Christmas Eve Candle Light Service on Wednesday\, December 24\, starting at 6 PM at the Independence Baptist Church\, in the old church located at the intersection of Hwy. 50 and 390. Cookies and punch to follow.
URL:https://kwhi.com/event/independence-baptist-church-christmas-eve-service/
LOCATION:Historic Independence Baptist Church\, 10405 FM 50\, Brenham\, TX\, 77833\, United States
CATEGORIES:Bulletin Board
ATTACH;FMTTYPE=image/jpeg:https://kwhi.com/wp-content/uploads/2025/12/independence-baptist-church-logo.jpg
END:VEVENT
BEGIN:VEVENT
DTSTART;VALUE=DATE:20251224
DTEND;VALUE=DATE:20251228
DTSTAMP:20260421T151901
CREATED:20251125T221746Z
LAST-MODIFIED:20251125T221746Z
UID:363793-1766534400-1766879999@kwhi.com
SUMMARY:Vintage Toy Exhibit - Brenham Heritage Museum
DESCRIPTION:
URL:https://kwhi.com/event/vintage-toy-exhibit-brenham-heritage-museum-3/
LOCATION:Brenham Heritage Museum\, 105 S. Market St. \, Brenham\, TX\, 77833\, United States
CATEGORIES:Bulletin Board
ATTACH;FMTTYPE=image/jpeg:https://kwhi.com/wp-content/uploads/2025/11/vintage-toy-exhibit-end-jan-24.jpg
END:VEVENT
END:VCALENDAR