BEGIN:VCALENDAR
VERSION:2.0
PRODID:-//KWHI.com - ECPv6.15.17.1//NONSGML v1.0//EN
CALSCALE:GREGORIAN
METHOD:PUBLISH
X-ORIGINAL-URL:https://kwhi.com
X-WR-CALDESC:Events for KWHI.com
REFRESH-INTERVAL;VALUE=DURATION:PT1H
X-Robots-Tag:noindex
X-PUBLISHED-TTL:PT1H
BEGIN:VTIMEZONE
TZID:America/Chicago
BEGIN:DAYLIGHT
TZOFFSETFROM:-0600
TZOFFSETTO:-0500
TZNAME:CDT
DTSTART:20240310T080000
END:DAYLIGHT
BEGIN:STANDARD
TZOFFSETFROM:-0500
TZOFFSETTO:-0600
TZNAME:CST
DTSTART:20241103T070000
END:STANDARD
BEGIN:DAYLIGHT
TZOFFSETFROM:-0600
TZOFFSETTO:-0500
TZNAME:CDT
DTSTART:20250309T080000
END:DAYLIGHT
BEGIN:STANDARD
TZOFFSETFROM:-0500
TZOFFSETTO:-0600
TZNAME:CST
DTSTART:20251102T070000
END:STANDARD
BEGIN:DAYLIGHT
TZOFFSETFROM:-0600
TZOFFSETTO:-0500
TZNAME:CDT
DTSTART:20260308T080000
END:DAYLIGHT
BEGIN:STANDARD
TZOFFSETFROM:-0500
TZOFFSETTO:-0600
TZNAME:CST
DTSTART:20261101T070000
END:STANDARD
BEGIN:DAYLIGHT
TZOFFSETFROM:-0600
TZOFFSETTO:-0500
TZNAME:CDT
DTSTART:20270314T080000
END:DAYLIGHT
BEGIN:STANDARD
TZOFFSETFROM:-0500
TZOFFSETTO:-0600
TZNAME:CST
DTSTART:20271107T070000
END:STANDARD
END:VTIMEZONE
BEGIN:VEVENT
DTSTART;VALUE=DATE:20251229
DTEND;VALUE=DATE:20260126
DTSTAMP:20260422T210251
CREATED:20251229T212525Z
LAST-MODIFIED:20251229T212525Z
UID:365711-1766966400-1769385599@kwhi.com
SUMMARY:Repurpose Your Christmas Tree (Somerville)
DESCRIPTION:
URL:https://kwhi.com/event/repurpose-your-christmas-tree-somerville/
LOCATION:Lake Somerville State Park – Nails Creek\, TX\, United States
CATEGORIES:Bulletin Board
ATTACH;FMTTYPE=image/jpeg:https://kwhi.com/wp-content/uploads/2025/12/christmas-tree-end-jan-25.jpg
END:VEVENT
BEGIN:VEVENT
DTSTART;VALUE=DATE:20260102
DTEND;VALUE=DATE:20260117
DTSTAMP:20260422T210251
CREATED:20260102T214144Z
LAST-MODIFIED:20260102T214144Z
UID:365916-1767312000-1768607999@kwhi.com
SUMMARY:Washington County 4-H Digital Storyboard Contest (Brenham)
DESCRIPTION:
URL:https://kwhi.com/event/washington-county-4-h-digital-storyboard-contest-brenham/
LOCATION:TX
CATEGORIES:Bulletin Board
ATTACH;FMTTYPE=image/jpeg:https://kwhi.com/wp-content/uploads/2026/01/digital-storyboard-jan-16.jpg
END:VEVENT
BEGIN:VEVENT
DTSTART;VALUE=DATE:20260102
DTEND;VALUE=DATE:20260117
DTSTAMP:20260422T210251
CREATED:20260102T214736Z
LAST-MODIFIED:20260102T214736Z
UID:365925-1767312000-1768607999@kwhi.com
SUMMARY:Washington County 4-H Photography Contest (Brenham)
DESCRIPTION:
URL:https://kwhi.com/event/washington-county-4-h-photography-contest-brenham/
LOCATION:TX
CATEGORIES:Bulletin Board
ATTACH;FMTTYPE=image/jpeg:https://kwhi.com/wp-content/uploads/2026/01/photo-contest-jan-16.jpg
END:VEVENT
BEGIN:VEVENT
DTSTART;VALUE=DATE:20260107
DTEND;VALUE=DATE:20260108
DTSTAMP:20260422T210251
CREATED:20260107T181007Z
LAST-MODIFIED:20260107T181007Z
UID:366339-1767744000-1767830399@kwhi.com
SUMMARY:Spring Tomato & Pepper Plant Sale
DESCRIPTION:
URL:https://kwhi.com/event/spring-tomato-pepper-plant-sale/
LOCATION:TX
CATEGORIES:Bulletin Board
ATTACH;FMTTYPE=image/jpeg:https://kwhi.com/wp-content/uploads/2026/01/tomato-pepper-end-mar-4.jpg
END:VEVENT
BEGIN:VEVENT
DTSTART;VALUE=DATE:20260107
DTEND;VALUE=DATE:20260111
DTSTAMP:20260422T210251
CREATED:20251125T221945Z
LAST-MODIFIED:20251125T221945Z
UID:363797-1767744000-1768089599@kwhi.com
SUMMARY:Vintage Toy Exhibit - Brenham Heritage Museum
DESCRIPTION:
URL:https://kwhi.com/event/vintage-toy-exhibit-brenham-heritage-museum-5/
LOCATION:Brenham Heritage Museum\, 105 S. Market St. \, Brenham\, TX\, 77833\, United States
CATEGORIES:Bulletin Board
ATTACH;FMTTYPE=image/jpeg:https://kwhi.com/wp-content/uploads/2025/11/vintage-toy-exhibit-end-jan-24.jpg
END:VEVENT
BEGIN:VEVENT
DTSTART;TZID=America/Chicago:20260107T073000
DTEND;TZID=America/Chicago:20260107T090000
DTSTAMP:20260422T210251
CREATED:20260102T184024Z
LAST-MODIFIED:20260102T184024Z
UID:365898-1767771000-1767776400@kwhi.com
SUMMARY:Coffee Chat in Chappell Hill
DESCRIPTION:
URL:https://kwhi.com/event/coffee-chat-in-chappell-hill/
LOCATION:Chappell Hill Historical Museum\, 9220 Poplar Street\, Chappell Hill\, TX\, 77426\, United States
CATEGORIES:Bulletin Board
ATTACH;FMTTYPE=image/jpeg:https://kwhi.com/wp-content/uploads/2026/01/coffee-chat-jan-7.jpg
END:VEVENT
BEGIN:VEVENT
DTSTART;TZID=America/Chicago:20260107T190000
DTEND;TZID=America/Chicago:20260107T203000
DTSTAMP:20260422T210251
CREATED:20251226T153310Z
LAST-MODIFIED:20251226T153310Z
UID:365585-1767812400-1767817800@kwhi.com
SUMMARY:BLINN BUCCANEER MEN'S BASKETBALL
DESCRIPTION:The Blinn Buccaneer Men's Basketball Team will travel to Corsicana on Wednesday\, January 7\, for a Region XIV Conference game against the Navarro Bulldogs. The game is scheduled for a 7pm start time.
URL:https://kwhi.com/event/blinn-buccaneer-mens-basketball-35/
LOCATION:Navarro College\, 3200 W. 7th Avenue\, Corsicana\, TX\, 75110\, United States
CATEGORIES:Sports Events
END:VEVENT
END:VCALENDAR