BEGIN:VCALENDAR
VERSION:2.0
PRODID:-//KWHI.com - ECPv6.15.17.1//NONSGML v1.0//EN
CALSCALE:GREGORIAN
METHOD:PUBLISH
X-WR-CALNAME:KWHI.com
X-ORIGINAL-URL:https://kwhi.com
X-WR-CALDESC:Events for KWHI.com
REFRESH-INTERVAL;VALUE=DURATION:PT1H
X-Robots-Tag:noindex
X-PUBLISHED-TTL:PT1H
BEGIN:VTIMEZONE
TZID:America/Chicago
BEGIN:DAYLIGHT
TZOFFSETFROM:-0600
TZOFFSETTO:-0500
TZNAME:CDT
DTSTART:20250309T080000
END:DAYLIGHT
BEGIN:STANDARD
TZOFFSETFROM:-0500
TZOFFSETTO:-0600
TZNAME:CST
DTSTART:20251102T070000
END:STANDARD
BEGIN:DAYLIGHT
TZOFFSETFROM:-0600
TZOFFSETTO:-0500
TZNAME:CDT
DTSTART:20260308T080000
END:DAYLIGHT
BEGIN:STANDARD
TZOFFSETFROM:-0500
TZOFFSETTO:-0600
TZNAME:CST
DTSTART:20261101T070000
END:STANDARD
BEGIN:DAYLIGHT
TZOFFSETFROM:-0600
TZOFFSETTO:-0500
TZNAME:CDT
DTSTART:20270314T080000
END:DAYLIGHT
BEGIN:STANDARD
TZOFFSETFROM:-0500
TZOFFSETTO:-0600
TZNAME:CST
DTSTART:20271107T070000
END:STANDARD
END:VTIMEZONE
BEGIN:VEVENT
DTSTART;VALUE=DATE:20260112
DTEND;VALUE=DATE:20260202
DTSTAMP:20260422T080320
CREATED:20260105T223258Z
LAST-MODIFIED:20260112T145805Z
UID:366111-1768176000-1769990399@kwhi.com
SUMMARY:Brenham Knights of Columbus Free Throw Contest
DESCRIPTION:Brenham Knights of Columbus will hold their annual free throw contest on Sunday\, February 1st\, at St. Mary’s Gym (the PAC). \nRegistration begins at 12:30 PM with the contest at 1:00 PM for boys and girls ages 9-14 as of January 1st .   \n  Please bring a copy of birth certificate. \nThe District contest follows immediately at 2 PM. \nPrizes awarded in 6 age divisions for both boys and girls.
URL:https://kwhi.com/event/brenham-knights-of-columbus-free-throw-contest/
LOCATION:St. Mary’s Catholic Church – PAC\, 701 Church Street\, Brenham\, TX\, 77833\, United States
CATEGORIES:Bulletin Board
ATTACH;FMTTYPE=image/png:https://kwhi.com/wp-content/uploads/2026/01/kc-free-throw.png
END:VEVENT
BEGIN:VEVENT
DTSTART;VALUE=DATE:20260120
DTEND;VALUE=DATE:20260201
DTSTAMP:20260422T080320
CREATED:20260120T225251Z
LAST-MODIFIED:20260120T225251Z
UID:367277-1768867200-1769903999@kwhi.com
SUMMARY:Washington County Juneteenth Association-Registration Now Open (Brenham)
DESCRIPTION:
URL:https://kwhi.com/event/washington-county-juneteenth-association-registration-now-open-brenham/
CATEGORIES:Bulletin Board
ATTACH;FMTTYPE=image/jpeg:https://kwhi.com/wp-content/uploads/2026/01/wcja-registration-2026.jpg
END:VEVENT
BEGIN:VEVENT
DTSTART;VALUE=DATE:20260121
DTEND;VALUE=DATE:20260215
DTSTAMP:20260422T080320
CREATED:20260120T151220Z
LAST-MODIFIED:20260120T151301Z
UID:367215-1768953600-1771113599@kwhi.com
SUMMARY:Grimes County Youth Cheer Valentine Drawing Fundraiser
DESCRIPTION:
URL:https://kwhi.com/event/grimes-county-youth-cheer-valentine-drawing-fundraiser/
CATEGORIES:Bulletin Board
ATTACH;FMTTYPE=image/jpeg:https://kwhi.com/wp-content/uploads/2026/01/grimec-co-cheer-fundraiser-end-feb-14.jpg
END:VEVENT
BEGIN:VEVENT
DTSTART;VALUE=DATE:20260122
DTEND;VALUE=DATE:20260201
DTSTAMP:20260422T080320
CREATED:20260122T143946Z
LAST-MODIFIED:20260122T143946Z
UID:367400-1769040000-1769903999@kwhi.com
SUMMARY:Washington County A&M Club Membership Drive (Brenham)
DESCRIPTION:
URL:https://kwhi.com/event/washington-county-am-club-membership-drive-brenham/
CATEGORIES:Bulletin Board
ATTACH;FMTTYPE=image/jpeg:https://kwhi.com/wp-content/uploads/2026/01/aggie-membership-drive-end-jan-31.jpg
END:VEVENT
BEGIN:VEVENT
DTSTART;VALUE=DATE:20260122
DTEND;VALUE=DATE:20260211
DTSTAMP:20260422T080320
CREATED:20260122T150512Z
LAST-MODIFIED:20260130T164017Z
UID:367419-1769040000-1770767999@kwhi.com
SUMMARY:Maifest Registration is Now Open (Brenham)
DESCRIPTION:Maifest registration is NOW OPEN\nhttps://www.brenhammaifest.com/participation
URL:https://kwhi.com/event/maifest-registration-is-now-open-brenham/
CATEGORIES:Bulletin Board
ATTACH;FMTTYPE=image/jpeg:https://kwhi.com/wp-content/uploads/2026/01/maifest-registration-2026.jpg
END:VEVENT
BEGIN:VEVENT
DTSTART;VALUE=DATE:20260126
DTEND;VALUE=DATE:20260130
DTSTAMP:20260422T080320
CREATED:20251219T191852Z
LAST-MODIFIED:20251219T191852Z
UID:365318-1769385600-1769731199@kwhi.com
SUMMARY:Arts for Rural Texas presents Art with Jo (Navasota)
DESCRIPTION:
URL:https://kwhi.com/event/arts-for-rural-texas-presents-art-with-jo-navasota-3/
LOCATION:Navasota Center\, 101 Stadium Drive\, Navasota\, TX\, 77868\, United States
CATEGORIES:Bulletin Board
ATTACH;FMTTYPE=image/png:https://kwhi.com/wp-content/uploads/2025/12/art-w-jo-end-mar-26.png
END:VEVENT
BEGIN:VEVENT
DTSTART;VALUE=DATE:20260126
DTEND;VALUE=DATE:20260203
DTSTAMP:20260422T080320
CREATED:20260126T174441Z
LAST-MODIFIED:20260130T164126Z
UID:367665-1769385600-1770076799@kwhi.com
SUMMARY:Faith Mission Warming Center (Brenham)
DESCRIPTION:
URL:https://kwhi.com/event/faith-mission-warming-center-brenham/
CATEGORIES:Bulletin Board
ATTACH;FMTTYPE=image/jpeg:https://kwhi.com/wp-content/uploads/2026/01/faith-mission-warming-center.jpg
END:VEVENT
BEGIN:VEVENT
DTSTART;VALUE=DATE:20260129
DTEND;VALUE=DATE:20260216
DTSTAMP:20260422T080320
CREATED:20260108T210405Z
LAST-MODIFIED:20260108T210405Z
UID:366421-1769644800-1771199999@kwhi.com
SUMMARY:Unity Theatre presents "Dear Jack\, Dear Louise" (Brenham)
DESCRIPTION:
URL:https://kwhi.com/event/unity-theatre-presents-dear-jack-dear-louise-brenham/
LOCATION:Unity Theatre\, 300 Church Street\, Brenham\, TX\, 77833\, United States
CATEGORIES:Bulletin Board
ATTACH;FMTTYPE=image/jpeg:https://kwhi.com/wp-content/uploads/2026/01/dear-jake-end-feb-15.jpg
END:VEVENT
BEGIN:VEVENT
DTSTART;TZID=America/Chicago:20260129T173000
DTEND;TZID=America/Chicago:20260129T183000
DTSTAMP:20260422T080320
CREATED:20260115T151336Z
LAST-MODIFIED:20260115T151336Z
UID:366897-1769707800-1769711400@kwhi.com
SUMMARY:Family Fitness Night (Brenham)
DESCRIPTION:
URL:https://kwhi.com/event/family-fitness-night-brenham/
LOCATION:Brenham Middle School\, 1600 South Blue Bell Road\, Brenham\, TX\, 77833\, United States
CATEGORIES:Bulletin Board
ATTACH;FMTTYPE=image/jpeg:https://kwhi.com/wp-content/uploads/2026/01/family-fitness-jan-29.jpg
END:VEVENT
END:VCALENDAR