BEGIN:VCALENDAR
VERSION:2.0
PRODID:-//KWHI.com - ECPv6.15.17.1//NONSGML v1.0//EN
CALSCALE:GREGORIAN
METHOD:PUBLISH
X-WR-CALNAME:KWHI.com
X-ORIGINAL-URL:https://kwhi.com
X-WR-CALDESC:Events for KWHI.com
REFRESH-INTERVAL;VALUE=DURATION:PT1H
X-Robots-Tag:noindex
X-PUBLISHED-TTL:PT1H
BEGIN:VTIMEZONE
TZID:America/Chicago
BEGIN:DAYLIGHT
TZOFFSETFROM:-0600
TZOFFSETTO:-0500
TZNAME:CDT
DTSTART:20250309T080000
END:DAYLIGHT
BEGIN:STANDARD
TZOFFSETFROM:-0500
TZOFFSETTO:-0600
TZNAME:CST
DTSTART:20251102T070000
END:STANDARD
BEGIN:DAYLIGHT
TZOFFSETFROM:-0600
TZOFFSETTO:-0500
TZNAME:CDT
DTSTART:20260308T080000
END:DAYLIGHT
BEGIN:STANDARD
TZOFFSETFROM:-0500
TZOFFSETTO:-0600
TZNAME:CST
DTSTART:20261101T070000
END:STANDARD
BEGIN:DAYLIGHT
TZOFFSETFROM:-0600
TZOFFSETTO:-0500
TZNAME:CDT
DTSTART:20270314T080000
END:DAYLIGHT
BEGIN:STANDARD
TZOFFSETFROM:-0500
TZOFFSETTO:-0600
TZNAME:CST
DTSTART:20271107T070000
END:STANDARD
END:VTIMEZONE
BEGIN:VEVENT
DTSTART;VALUE=DATE:20260213
DTEND;VALUE=DATE:20260302
DTSTAMP:20260421T060053
CREATED:20260202T144754Z
LAST-MODIFIED:20260202T144754Z
UID:368466-1770940800-1772409599@kwhi.com
SUMMARY:Navasota Theatre Alliance presents HARVEY
DESCRIPTION:
URL:https://kwhi.com/event/navasota-theatre-alliance-presents-harvey/
LOCATION:Navasota Theatre Alliance\, 104 West Washington St.\, Navasota\, TX\, 77868\, United States
CATEGORIES:Bulletin Board
ATTACH;FMTTYPE=image/png:https://kwhi.com/wp-content/uploads/2026/02/harvey-end-mar-1.png
END:VEVENT
BEGIN:VEVENT
DTSTART;VALUE=DATE:20260225
DTEND;VALUE=DATE:20260305
DTSTAMP:20260421T060053
CREATED:20260225T160906Z
LAST-MODIFIED:20260225T160906Z
UID:370631-1771977600-1772668799@kwhi.com
SUMMARY:Ross Elementary Cereal Drive (Bryan)
DESCRIPTION:
URL:https://kwhi.com/event/ross-elementary-cereal-drive-bryan/
LOCATION:Ross Elementary School\, 3300 Parkway Terrace\, Bryan\, TX\, 77802\, United States
CATEGORIES:Bulletin Board
ATTACH;FMTTYPE=image/jpeg:https://kwhi.com/wp-content/uploads/2026/02/cereal-drive-end-mar-3.jpg
END:VEVENT
BEGIN:VEVENT
DTSTART;VALUE=DATE:20260225
DTEND;VALUE=DATE:20260401
DTSTAMP:20260421T060053
CREATED:20260225T202440Z
LAST-MODIFIED:20260225T202440Z
UID:370716-1771977600-1775001599@kwhi.com
SUMMARY:Austin County Cattle Women Scholarship 2026
DESCRIPTION:
URL:https://kwhi.com/event/austin-county-cattle-women-scholarship-2026/
LOCATION:TX
CATEGORIES:Bulletin Board
ATTACH;FMTTYPE=image/jpeg:https://kwhi.com/wp-content/uploads/2026/02/ac-cattlewomen-scholarship-end-mar-31.jpg
END:VEVENT
BEGIN:VEVENT
DTSTART;VALUE=DATE:20260301
DTEND;VALUE=DATE:20260302
DTSTAMP:20260421T060053
CREATED:20251117T213320Z
LAST-MODIFIED:20251117T213320Z
UID:363126-1772323200-1772409599@kwhi.com
SUMMARY:Washington County Amateur Radio Club
DESCRIPTION:Are you interested in learning more about Amateur (Ham) Radio?\nHave you thought about getting you Amateur (Ham) Radio License?\nWould you like to join a local organization that promotes the art of radio frequency communications?\n\nThe Washington County Amateur Radio Club Might be for you!  We are your friends and neighbors in Washington County and surrounding communities.  To learn more\, please visit our website at www.w5aum.org \n 
URL:https://kwhi.com/event/washington-county-amateur-radio-club-2/
LOCATION:TX
CATEGORIES:Bulletin Board
ATTACH;FMTTYPE=image/png:https://kwhi.com/wp-content/uploads/2025/11/wc-amateur-radio-club.png
END:VEVENT
BEGIN:VEVENT
DTSTART;VALUE=DATE:20260301
DTEND;VALUE=DATE:20260302
DTSTAMP:20260421T060053
CREATED:20260225T165117Z
LAST-MODIFIED:20260225T165117Z
UID:370659-1772323200-1772409599@kwhi.com
SUMMARY:WCLL Opening Day  (Brenham)
DESCRIPTION:
URL:https://kwhi.com/event/wcll-opening-day-brenham/
LOCATION:Fireman’s Park Baseball Field\, 901 N Park Street\, Brenham\, TX\, 77833\, United States
CATEGORIES:Bulletin Board
ATTACH;FMTTYPE=image/jpeg:https://kwhi.com/wp-content/uploads/2026/02/WCLL-mar1.jpg
END:VEVENT
BEGIN:VEVENT
DTSTART;VALUE=DATE:20260301
DTEND;VALUE=DATE:20260302
DTSTAMP:20260421T060053
CREATED:20260225T203415Z
LAST-MODIFIED:20260225T203415Z
UID:370722-1772323200-1772409599@kwhi.com
SUMMARY:Vineyard Church of Brenham service location change for March 1st
DESCRIPTION:Vineyard Church of Brenham announces that its worship service on Sunday\, March 1\, will be held at a different location. The service will begin at 10:30 a.m. and will take place at The Gathering Place at Hidden Springs\, located at 1497 Griffin-Loesch Ln\, Brenham\, TX 77833. \nThe congregation invites the community to join them for worship at this alternate location\, followed by a potluck lunch after the service. All are welcome to attend this time of worship and fellowship. \nFor more information\, please visit vineyardbrenham.org or call 979-277-9494.
URL:https://kwhi.com/event/vineyard-church-of-brenham-service-location-change-for-march-1st/
LOCATION:The Gathering Place at Hidden Springs\, 1497 Griffin-Loesch Ln.\, Brenham\, TX\, 77833\, United States
CATEGORIES:Bulletin Board
ATTACH;FMTTYPE=image/png:https://kwhi.com/wp-content/uploads/2026/02/service-location-change-mar-1.png
END:VEVENT
BEGIN:VEVENT
DTSTART;VALUE=DATE:20260301
DTEND;VALUE=DATE:20260302
DTSTAMP:20260421T060053
CREATED:20260227T212629Z
LAST-MODIFIED:20260227T212629Z
UID:370885-1772323200-1772409599@kwhi.com
SUMMARY:Aggieland Mariachi Spring Concert (College Station)
DESCRIPTION:
URL:https://kwhi.com/event/aggieland-mariachi-spring-concert-college-station/
LOCATION:A&M Rudder Auditorium\, 401 Joe Routte Blvd.\, College Station\, TX\, 77843\, United States
CATEGORIES:Bulletin Board
ATTACH;FMTTYPE=image/jpeg:https://kwhi.com/wp-content/uploads/2026/02/aggieland-mariashi-mar-1.jpg
END:VEVENT
BEGIN:VEVENT
DTSTART;TZID=America/Chicago:20260301T090000
DTEND;TZID=America/Chicago:20260301T150000
DTSTAMP:20260421T060053
CREATED:20260126T165138Z
LAST-MODIFIED:20260126T165138Z
UID:367634-1772355600-1772377200@kwhi.com
SUMMARY:Farmers' & Artisan Market (Somerville)
DESCRIPTION:
URL:https://kwhi.com/event/farmers-artisan-market-somerville-2/
LOCATION:Downtown Somerville\, TX\, 77879\, United States
CATEGORIES:Bulletin Board
ATTACH;FMTTYPE=image/jpeg:https://kwhi.com/wp-content/uploads/2026/01/somerville-farmers-artisan-market-2026.jpg
END:VEVENT
END:VCALENDAR