BEGIN:VCALENDAR
VERSION:2.0
PRODID:-//KWHI.com - ECPv6.15.17.1//NONSGML v1.0//EN
CALSCALE:GREGORIAN
METHOD:PUBLISH
X-ORIGINAL-URL:https://kwhi.com
X-WR-CALDESC:Events for KWHI.com
REFRESH-INTERVAL;VALUE=DURATION:PT1H
X-Robots-Tag:noindex
X-PUBLISHED-TTL:PT1H
BEGIN:VTIMEZONE
TZID:America/Chicago
BEGIN:DAYLIGHT
TZOFFSETFROM:-0600
TZOFFSETTO:-0500
TZNAME:CDT
DTSTART:20250309T080000
END:DAYLIGHT
BEGIN:STANDARD
TZOFFSETFROM:-0500
TZOFFSETTO:-0600
TZNAME:CST
DTSTART:20251102T070000
END:STANDARD
BEGIN:DAYLIGHT
TZOFFSETFROM:-0600
TZOFFSETTO:-0500
TZNAME:CDT
DTSTART:20260308T080000
END:DAYLIGHT
BEGIN:STANDARD
TZOFFSETFROM:-0500
TZOFFSETTO:-0600
TZNAME:CST
DTSTART:20261101T070000
END:STANDARD
BEGIN:DAYLIGHT
TZOFFSETFROM:-0600
TZOFFSETTO:-0500
TZNAME:CDT
DTSTART:20270314T080000
END:DAYLIGHT
BEGIN:STANDARD
TZOFFSETFROM:-0500
TZOFFSETTO:-0600
TZNAME:CST
DTSTART:20271107T070000
END:STANDARD
END:VTIMEZONE
BEGIN:VEVENT
DTSTART;VALUE=DATE:20260225
DTEND;VALUE=DATE:20260401
DTSTAMP:20260424T022038
CREATED:20260225T202440Z
LAST-MODIFIED:20260225T202440Z
UID:370716-1771977600-1775001599@kwhi.com
SUMMARY:Austin County Cattle Women Scholarship 2026
DESCRIPTION:
URL:https://kwhi.com/event/austin-county-cattle-women-scholarship-2026/
LOCATION:TX
CATEGORIES:Bulletin Board
ATTACH;FMTTYPE=image/jpeg:https://kwhi.com/wp-content/uploads/2026/02/ac-cattlewomen-scholarship-end-mar-31.jpg
END:VEVENT
BEGIN:VEVENT
DTSTART;VALUE=DATE:20260309
DTEND;VALUE=DATE:20260313
DTSTAMP:20260424T022038
CREATED:20260129T143841Z
LAST-MODIFIED:20260129T143841Z
UID:367988-1773014400-1773359999@kwhi.com
SUMMARY:ARTS for Rural Texas presents Art with Jo (Navasota)
DESCRIPTION:
URL:https://kwhi.com/event/arts-for-rural-texas-presents-art-with-jo-navasota-8/
LOCATION:Navasota Center\, 101 Stadium Drive\, Navasota\, TX\, 77868\, United States
CATEGORIES:Bulletin Board
ATTACH;FMTTYPE=image/png:https://kwhi.com/wp-content/uploads/2026/01/art-w-jo-end-mar-26.png
END:VEVENT
BEGIN:VEVENT
DTSTART;VALUE=DATE:20260309
DTEND;VALUE=DATE:20260314
DTSTAMP:20260424T022038
CREATED:20260218T164401Z
LAST-MODIFIED:20260218T164401Z
UID:369949-1773014400-1773446399@kwhi.com
SUMMARY:Take the Train to fun in Burton & Tour the Depot
DESCRIPTION:
URL:https://kwhi.com/event/take-the-train-to-fun-in-burton-tour-the-depot/
LOCATION:Burton Railroad Depot\, 507 N. Railroad Street\, Burton\, TX\, 77835\, United States
CATEGORIES:Bulletin Board
ATTACH;FMTTYPE=image/jpeg:https://kwhi.com/wp-content/uploads/2026/02/burton-train-ride-end-mar-13.jpg
END:VEVENT
BEGIN:VEVENT
DTSTART;VALUE=DATE:20260309
DTEND;VALUE=DATE:20260401
DTSTAMP:20260424T022038
CREATED:20260309T192839Z
LAST-MODIFIED:20260309T192914Z
UID:371790-1773014400-1775001599@kwhi.com
SUMMARY:Austin County Feral Hog Bounty Program
DESCRIPTION:
URL:https://kwhi.com/event/austin-county-feral-hog-bounty-program-2/
LOCATION:TX
CATEGORIES:Bulletin Board
ATTACH;FMTTYPE=image/jpeg:https://kwhi.com/wp-content/uploads/2026/03/ac-feral-hog.jpg
END:VEVENT
BEGIN:VEVENT
DTSTART;TZID=America/Chicago:20260309T100000
DTEND;TZID=America/Chicago:20260309T110000
DTSTAMP:20260424T022038
CREATED:20260225T222414Z
LAST-MODIFIED:20260225T222414Z
UID:370734-1773050400-1773054000@kwhi.com
SUMMARY:Arts for Rural Texas presents Art with Allison (Navasota)
DESCRIPTION:
URL:https://kwhi.com/event/arts-for-rural-texas-presents-art-with-allison-navasota-4/
LOCATION:Navasota Center\, 101 Stadium Drive\, Navasota\, TX\, 77868\, United States
CATEGORIES:Bulletin Board
ATTACH;FMTTYPE=image/png:https://kwhi.com/wp-content/uploads/2026/02/art-w-allison-end-mar-23.png
END:VEVENT
END:VCALENDAR