BEGIN:VCALENDAR
VERSION:2.0
PRODID:-//KWHI.com - ECPv6.15.17.1//NONSGML v1.0//EN
CALSCALE:GREGORIAN
METHOD:PUBLISH
X-WR-CALNAME:KWHI.com
X-ORIGINAL-URL:https://kwhi.com
X-WR-CALDESC:Events for KWHI.com
REFRESH-INTERVAL;VALUE=DURATION:PT1H
X-Robots-Tag:noindex
X-PUBLISHED-TTL:PT1H
BEGIN:VTIMEZONE
TZID:America/Chicago
BEGIN:DAYLIGHT
TZOFFSETFROM:-0600
TZOFFSETTO:-0500
TZNAME:CDT
DTSTART:20250309T080000
END:DAYLIGHT
BEGIN:STANDARD
TZOFFSETFROM:-0500
TZOFFSETTO:-0600
TZNAME:CST
DTSTART:20251102T070000
END:STANDARD
BEGIN:DAYLIGHT
TZOFFSETFROM:-0600
TZOFFSETTO:-0500
TZNAME:CDT
DTSTART:20260308T080000
END:DAYLIGHT
BEGIN:STANDARD
TZOFFSETFROM:-0500
TZOFFSETTO:-0600
TZNAME:CST
DTSTART:20261101T070000
END:STANDARD
BEGIN:DAYLIGHT
TZOFFSETFROM:-0600
TZOFFSETTO:-0500
TZNAME:CDT
DTSTART:20270314T080000
END:DAYLIGHT
BEGIN:STANDARD
TZOFFSETFROM:-0500
TZOFFSETTO:-0600
TZNAME:CST
DTSTART:20271107T070000
END:STANDARD
END:VTIMEZONE
BEGIN:VEVENT
DTSTART;VALUE=DATE:20260407
DTEND;VALUE=DATE:20260413
DTSTAMP:20260423T094237
CREATED:20260407T185815Z
LAST-MODIFIED:20260407T185815Z
UID:374160-1775520000-1776038399@kwhi.com
SUMMARY:Washington County A&M Club Muster Reservations Closing Soon (Brenham)
DESCRIPTION:
URL:https://kwhi.com/event/washington-county-am-club-muster-reservations-closing-soon-brenham/
LOCATION:TX
CATEGORIES:Bulletin Board
ATTACH;FMTTYPE=image/png:https://kwhi.com/wp-content/uploads/2026/04/aggie-muster-apr-21.png
END:VEVENT
BEGIN:VEVENT
DTSTART;VALUE=DATE:20260407
DTEND;VALUE=DATE:20260503
DTSTAMP:20260423T094237
CREATED:20260407T190833Z
LAST-MODIFIED:20260407T190833Z
UID:374175-1775520000-1777766399@kwhi.com
SUMMARY:Downtown Brenham's Peanut Butter & Jam Drive
DESCRIPTION:
URL:https://kwhi.com/event/downtown-brenhams-peanut-butter-jam-drive-3/
LOCATION:Downtown Brenham\, Brenham\, TX\, 77833\, United States
CATEGORIES:Bulletin Board
ATTACH;FMTTYPE=image/jpeg:https://kwhi.com/wp-content/uploads/2026/04/pbj-end-may-2.jpg
END:VEVENT
BEGIN:VEVENT
DTSTART;VALUE=DATE:20260410
DTEND;VALUE=DATE:20260412
DTSTAMP:20260423T094237
CREATED:20260327T203458Z
LAST-MODIFIED:20260327T203458Z
UID:373245-1775779200-1775951999@kwhi.com
SUMMARY:Chili Fest Music Festival (Snook)
DESCRIPTION:
URL:https://kwhi.com/event/chili-fest-music-festival-snook/
LOCATION:TX
CATEGORIES:Bulletin Board
ATTACH;FMTTYPE=image/jpeg:https://kwhi.com/wp-content/uploads/2026/03/chilifest-apr-10-11.jpg
END:VEVENT
BEGIN:VEVENT
DTSTART;VALUE=DATE:20260410
DTEND;VALUE=DATE:20260427
DTSTAMP:20260423T094237
CREATED:20260320T142022Z
LAST-MODIFIED:20260320T142022Z
UID:372678-1775779200-1777247999@kwhi.com
SUMMARY:Performances at Navasota Theatre Alliance
DESCRIPTION:
URL:https://kwhi.com/event/performances-at-navasota-theatre-alliance/
LOCATION:Navasota Theatre Alliance\, 104 West Washington St.\, Navasota\, TX\, 77868\, United States
CATEGORIES:Bulletin Board
ATTACH;FMTTYPE=image/jpeg:https://kwhi.com/wp-content/uploads/2026/03/count-will-rise-again-end-apr-26.jpg
END:VEVENT
BEGIN:VEVENT
DTSTART;VALUE=DATE:20260411
DTEND;VALUE=DATE:20260412
DTSTAMP:20260423T094237
CREATED:20260309T194953Z
LAST-MODIFIED:20260309T194953Z
UID:371810-1775865600-1775951999@kwhi.com
SUMMARY:A.R. Pickard HS Reunion Association Scholarship Banquet (Brenham)
DESCRIPTION:
URL:https://kwhi.com/event/a-r-pickard-hs-reunion-association-scholarship-banquet-brenham/
LOCATION:Blinn College Banquet Room\, 902 College Avenue\, Brenham\, TX\, 77833\, United States
CATEGORIES:Bulletin Board
ATTACH;FMTTYPE=image/jpeg:https://kwhi.com/wp-content/uploads/2026/03/a-r-pickard-scholarship-banquet-apr-11.jpg
END:VEVENT
BEGIN:VEVENT
DTSTART;VALUE=DATE:20260411
DTEND;VALUE=DATE:20260412
DTSTAMP:20260423T094237
CREATED:20260310T143241Z
LAST-MODIFIED:20260310T143241Z
UID:371942-1775865600-1775951999@kwhi.com
SUMMARY:Bluebonnet Master Gardener Annual Plant Sale (Sealy)
DESCRIPTION:
URL:https://kwhi.com/event/bluebonnet-master-gardener-annual-plant-sale-sealy/
LOCATION:Levine Park Pavilion (Sealy)\, 406 Main Street\, Sealy\, TX\, 77474\, United States
CATEGORIES:Bulletin Board
ATTACH;FMTTYPE=image/jpeg:https://kwhi.com/wp-content/uploads/2026/03/bb-master-gardener-plant-sale-apr-11.jpg
END:VEVENT
BEGIN:VEVENT
DTSTART;VALUE=DATE:20260411
DTEND;VALUE=DATE:20260412
DTSTAMP:20260423T094237
CREATED:20260319T143457Z
LAST-MODIFIED:20260319T143457Z
UID:372597-1775865600-1775951999@kwhi.com
SUMMARY:Pardners Roundup benefiting Miracle Farm Boys Ranch (Brenham)
DESCRIPTION:
URL:https://kwhi.com/event/pardners-roundup-benefiting-miracle-farm-boys-ranch-brenham/
LOCATION:Brenham Fire Department Training Center\, 1101 Hwy 290 West\, Brenham\, TX\, 77833\, United States
CATEGORIES:Bulletin Board
ATTACH;FMTTYPE=image/jpeg:https://kwhi.com/wp-content/uploads/2026/03/pardners-roundup-apr-11.jpg
END:VEVENT
BEGIN:VEVENT
DTSTART;VALUE=DATE:20260411
DTEND;VALUE=DATE:20260413
DTSTAMP:20260423T094237
CREATED:20251112T214732Z
LAST-MODIFIED:20251112T214732Z
UID:362713-1775865600-1776038399@kwhi.com
SUMMARY:Chappell Hill Historical Society Bluebonnet Festival
DESCRIPTION:SAVE THE DATE
URL:https://kwhi.com/event/chappell-hill-historical-society-bluebonnet-festival/
LOCATION:Downtown Chappell Hill\, Main Street\, Chappell Hill\, TX\, 77426\, United States
CATEGORIES:Bulletin Board
ATTACH;FMTTYPE=image/jpeg:https://kwhi.com/wp-content/uploads/2025/11/c-h-bluebonnet-fest-2026.jpg
END:VEVENT
BEGIN:VEVENT
DTSTART;TZID=America/Chicago:20260411T090000
DTEND;TZID=America/Chicago:20260411T160000
DTSTAMP:20260423T094237
CREATED:20260408T134009Z
LAST-MODIFIED:20260408T134009Z
UID:374238-1775898000-1775923200@kwhi.com
SUMMARY:Bryan ISD Pre-K & Kinder Enrolling All Schools
DESCRIPTION:
URL:https://kwhi.com/event/bryan-isd-pre-k-kinder-enrolling-all-schools/
LOCATION:Bonham Elementary\, 3100 Wilkes Street\, Bryan\, TX\, 77803\, United States
CATEGORIES:Bulletin Board
ATTACH;FMTTYPE=image/jpeg:https://kwhi.com/wp-content/uploads/2026/04/bryan-isd-pre-k-enroll-apr-11.jpg
END:VEVENT
BEGIN:VEVENT
DTSTART;TZID=America/Chicago:20260411T100000
DTEND;TZID=America/Chicago:20260411T170000
DTSTAMP:20260423T094237
CREATED:20260406T140037Z
LAST-MODIFIED:20260406T140037Z
UID:373964-1775901600-1775926800@kwhi.com
SUMMARY:Spring Fest (Sealy)
DESCRIPTION:
URL:https://kwhi.com/event/spring-fest-sealy/
LOCATION:Sealy Historical Park\, 211 East Main St.\, Sealy\, TX\, 77474\, United States
CATEGORIES:Bulletin Board
ATTACH;FMTTYPE=image/jpeg:https://kwhi.com/wp-content/uploads/2026/04/spring-fest-apr-11.jpg
END:VEVENT
BEGIN:VEVENT
DTSTART;TZID=America/Chicago:20260411T100000
DTEND;TZID=America/Chicago:20260411T170000
DTSTAMP:20260423T094237
CREATED:20260407T191147Z
LAST-MODIFIED:20260407T191147Z
UID:374181-1775901600-1775926800@kwhi.com
SUMMARY:Historic Downtown Navasota Wine Walk
DESCRIPTION:
URL:https://kwhi.com/event/historic-downtown-navasota-wine-walk/
LOCATION:Downtown Navasota\, Navasota\, 77868\, United States
CATEGORIES:Bulletin Board
ATTACH;FMTTYPE=image/jpeg:https://kwhi.com/wp-content/uploads/2026/04/wine-walk-apr-11.jpg
END:VEVENT
BEGIN:VEVENT
DTSTART;TZID=America/Chicago:20260411T110000
DTEND;TZID=America/Chicago:20260411T140000
DTSTAMP:20260423T094237
CREATED:20260406T135758Z
LAST-MODIFIED:20260406T135758Z
UID:373959-1775905200-1775916000@kwhi.com
SUMMARY:SPJST District 6 Rally (Schulenburg)
DESCRIPTION:
URL:https://kwhi.com/event/spjst-district-6-rally-schulenburg/
LOCATION:Moravia Parish Hall\, 11134 FM 957\, Schulenburg\, TX\, 78956\, United States
CATEGORIES:Bulletin Board
ATTACH;FMTTYPE=image/png:https://kwhi.com/wp-content/uploads/2026/04/spjst-district-rally-apr-11.png
END:VEVENT
BEGIN:VEVENT
DTSTART;TZID=America/Chicago:20260411T110000
DTEND;TZID=America/Chicago:20260411T223000
DTSTAMP:20260423T094237
CREATED:20260327T145319Z
LAST-MODIFIED:20260327T145319Z
UID:373207-1775905200-1775946600@kwhi.com
SUMMARY:Schulenburg Sausagefest
DESCRIPTION:SCHEDULE\n9:00:  5K Fun Run \n11:15:  "Walking" Parade and Opening Ceremonies\, Shorthorn High School Band \n12:00:  Food\, Drinks\, Arts & Crafts Booths Open; Street Dancing All Day & Night     \n12:00-3:00:  Czechaholics \n12:00:  Grand March in the Streets \n2:00:  Winners announced for Pickles\, Wine and Sauerkraut \n2:00-4:00  Tokens on sale for People's Choice \n3:00:  Hog Calling Contest \n3:30-6:30:  Mark Halata & Texavia \n5:30:  Sausage Toss \n7:00:  Winners announced for Sausage Entries\, People's Choice\, Showmanship \n7:30-10:30:  Matt Bonner Band \n​CHILDREN AND FAMILY ACTIVITIES ALL DAY
URL:https://kwhi.com/event/schulenburg-sausagefest-4/
LOCATION:Downtown Schulenburg\, Schulenburg\, TX\, 78956\, United States
CATEGORIES:Bulletin Board
ATTACH;FMTTYPE=image/png:https://kwhi.com/wp-content/uploads/2026/03/schulenburg-sausagefest-2026.png
END:VEVENT
BEGIN:VEVENT
DTSTART;TZID=America/Chicago:20260411T120000
DTEND;TZID=America/Chicago:20260411T170000
DTSTAMP:20260423T094237
CREATED:20260109T152757Z
LAST-MODIFIED:20260109T152757Z
UID:366465-1775908800-1775926800@kwhi.com
SUMMARY:Victory Outreach Church presents Community Block Party (Brenham)
DESCRIPTION:
URL:https://kwhi.com/event/victory-outreach-church-presents-community-block-party-brenham/
LOCATION:City of Brenham Henderson Park\, 804 Old N. Market Street\, Brenham\, TX\, 77833\, United States
CATEGORIES:Bulletin Board
ATTACH;FMTTYPE=image/jpeg:https://kwhi.com/wp-content/uploads/2026/01/community-block-party-apr-11.jpg
END:VEVENT
BEGIN:VEVENT
DTSTART;TZID=America/Chicago:20260411T130000
DTEND;TZID=America/Chicago:20260411T180000
DTSTAMP:20260423T094237
CREATED:20260331T144527Z
LAST-MODIFIED:20260331T144527Z
UID:373563-1775912400-1775930400@kwhi.com
SUMMARY:BLINN BUCCANEER SOFTBALL
DESCRIPTION:The Blinn Buccaneer Softball Team will be travelling to the Alvin Dolphins on Saturday\, April 11\, for a doubleheader. First pitch is scheduled for 1pm.
URL:https://kwhi.com/event/blinn-buccaneer-softball-79/
LOCATION:Alvin Community College\, 3110 Mustang Rd.\, Alvin\, TX\, 77511\, United States
CATEGORIES:Sports Events
END:VEVENT
BEGIN:VEVENT
DTSTART;TZID=America/Chicago:20260411T130000
DTEND;TZID=America/Chicago:20260411T200000
DTSTAMP:20260423T094237
CREATED:20260209T205420Z
LAST-MODIFIED:20260209T205420Z
UID:369168-1775912400-1775937600@kwhi.com
SUMMARY:Lee County Arts Center Crawfish Cookoff (Giddings)
DESCRIPTION:
URL:https://kwhi.com/event/lee-county-arts-center-crawfish-cookoff-giddings/
LOCATION:Lee County Arts Center\, 115 W Austin Street\, Giddings\, TX\, 78942\, United States
CATEGORIES:Bulletin Board
ATTACH;FMTTYPE=image/jpeg:https://kwhi.com/wp-content/uploads/2026/02/lee-co-crawfish-cookoff-fundraiser-apr-11.jpg
END:VEVENT
BEGIN:VEVENT
DTSTART;TZID=America/Chicago:20260411T140000
DTEND;TZID=America/Chicago:20260411T190000
DTSTAMP:20260423T094237
CREATED:20260331T141452Z
LAST-MODIFIED:20260331T141452Z
UID:373553-1775916000-1775934000@kwhi.com
SUMMARY:BLINN BUCCANEER BASEBALL
DESCRIPTION:The Blinn Buccaneer Baseball Team will be hosting the San Jacinto Ravens in doubleheader at 2pm on Saturday\, April 11\, at Leroy Dreyer Field in Brenham. KWHI will have live coverage beginning with the pregame at 1:35pm on KWHI 1280AM\, 101.7FM\, and KWHI.com.
URL:https://kwhi.com/event/blinn-buccaneer-baseball-93/
LOCATION:Leroy Dreyer Field – Blinn College\, 1106 West 2nd Street\, Brenham\, TX\, 77833\, United States
END:VEVENT
END:VCALENDAR