BEGIN:VCALENDAR
VERSION:2.0
PRODID:-//KWHI.com - ECPv6.15.17.1//NONSGML v1.0//EN
CALSCALE:GREGORIAN
METHOD:PUBLISH
X-WR-CALNAME:KWHI.com
X-ORIGINAL-URL:https://kwhi.com
X-WR-CALDESC:Events for KWHI.com
REFRESH-INTERVAL;VALUE=DURATION:PT1H
X-Robots-Tag:noindex
X-PUBLISHED-TTL:PT1H
BEGIN:VTIMEZONE
TZID:America/Chicago
BEGIN:DAYLIGHT
TZOFFSETFROM:-0600
TZOFFSETTO:-0500
TZNAME:CDT
DTSTART:20250309T080000
END:DAYLIGHT
BEGIN:STANDARD
TZOFFSETFROM:-0500
TZOFFSETTO:-0600
TZNAME:CST
DTSTART:20251102T070000
END:STANDARD
BEGIN:DAYLIGHT
TZOFFSETFROM:-0600
TZOFFSETTO:-0500
TZNAME:CDT
DTSTART:20260308T080000
END:DAYLIGHT
BEGIN:STANDARD
TZOFFSETFROM:-0500
TZOFFSETTO:-0600
TZNAME:CST
DTSTART:20261101T070000
END:STANDARD
BEGIN:DAYLIGHT
TZOFFSETFROM:-0600
TZOFFSETTO:-0500
TZNAME:CDT
DTSTART:20270314T080000
END:DAYLIGHT
BEGIN:STANDARD
TZOFFSETFROM:-0500
TZOFFSETTO:-0600
TZNAME:CST
DTSTART:20271107T070000
END:STANDARD
END:VTIMEZONE
BEGIN:VEVENT
DTSTART;VALUE=DATE:20260407
DTEND;VALUE=DATE:20260413
DTSTAMP:20260423T094212
CREATED:20260407T185815Z
LAST-MODIFIED:20260407T185815Z
UID:374160-1775520000-1776038399@kwhi.com
SUMMARY:Washington County A&M Club Muster Reservations Closing Soon (Brenham)
DESCRIPTION:
URL:https://kwhi.com/event/washington-county-am-club-muster-reservations-closing-soon-brenham/
LOCATION:TX
CATEGORIES:Bulletin Board
ATTACH;FMTTYPE=image/png:https://kwhi.com/wp-content/uploads/2026/04/aggie-muster-apr-21.png
END:VEVENT
BEGIN:VEVENT
DTSTART;VALUE=DATE:20260407
DTEND;VALUE=DATE:20260503
DTSTAMP:20260423T094212
CREATED:20260407T190833Z
LAST-MODIFIED:20260407T190833Z
UID:374175-1775520000-1777766399@kwhi.com
SUMMARY:Downtown Brenham's Peanut Butter & Jam Drive
DESCRIPTION:
URL:https://kwhi.com/event/downtown-brenhams-peanut-butter-jam-drive-3/
LOCATION:Downtown Brenham\, Brenham\, TX\, 77833\, United States
CATEGORIES:Bulletin Board
ATTACH;FMTTYPE=image/jpeg:https://kwhi.com/wp-content/uploads/2026/04/pbj-end-may-2.jpg
END:VEVENT
BEGIN:VEVENT
DTSTART;VALUE=DATE:20260410
DTEND;VALUE=DATE:20260427
DTSTAMP:20260423T094212
CREATED:20260320T142022Z
LAST-MODIFIED:20260320T142022Z
UID:372678-1775779200-1777247999@kwhi.com
SUMMARY:Performances at Navasota Theatre Alliance
DESCRIPTION:
URL:https://kwhi.com/event/performances-at-navasota-theatre-alliance/
LOCATION:Navasota Theatre Alliance\, 104 West Washington St.\, Navasota\, TX\, 77868\, United States
CATEGORIES:Bulletin Board
ATTACH;FMTTYPE=image/jpeg:https://kwhi.com/wp-content/uploads/2026/03/count-will-rise-again-end-apr-26.jpg
END:VEVENT
BEGIN:VEVENT
DTSTART;VALUE=DATE:20260411
DTEND;VALUE=DATE:20260413
DTSTAMP:20260423T094212
CREATED:20251112T214732Z
LAST-MODIFIED:20251112T214732Z
UID:362713-1775865600-1776038399@kwhi.com
SUMMARY:Chappell Hill Historical Society Bluebonnet Festival
DESCRIPTION:SAVE THE DATE
URL:https://kwhi.com/event/chappell-hill-historical-society-bluebonnet-festival/
LOCATION:Downtown Chappell Hill\, Main Street\, Chappell Hill\, TX\, 77426\, United States
CATEGORIES:Bulletin Board
ATTACH;FMTTYPE=image/jpeg:https://kwhi.com/wp-content/uploads/2025/11/c-h-bluebonnet-fest-2026.jpg
END:VEVENT
BEGIN:VEVENT
DTSTART;VALUE=DATE:20260412
DTEND;VALUE=DATE:20260413
DTSTAMP:20260423T094212
CREATED:20251117T210544Z
LAST-MODIFIED:20251117T210544Z
UID:363117-1775952000-1776038399@kwhi.com
SUMMARY:PFLAG Brenham Meeting
DESCRIPTION:PFLAG Brenham meets on the second Sunday of each month at 5:30 pm.  We are a support group for families\, friends and allies of the LGBTQ+ community.  Let us walk with you on your journey.  For more information\, visit www.facebook.com/BrenhamPFLAG or send an email to pflagbrenham@gmail.com
URL:https://kwhi.com/event/pflag-brenham-meeting-7/
LOCATION:TX
CATEGORIES:Bulletin Board
ATTACH;FMTTYPE=image/jpeg:https://kwhi.com/wp-content/uploads/2025/11/PFLAG-Logo-brenham-2000x1500-002.jpg
END:VEVENT
BEGIN:VEVENT
DTSTART;VALUE=DATE:20260412
DTEND;VALUE=DATE:20260413
DTSTAMP:20260423T094212
CREATED:20260120T153249Z
LAST-MODIFIED:20260120T153249Z
UID:367227-1775952000-1776038399@kwhi.com
SUMMARY:Pickleball Clinics (Brenham)
DESCRIPTION:
URL:https://kwhi.com/event/pickleball-clinics-brenham-3/
LOCATION:Jackson Street Park\, 1300 South Jackson\, Brenham\, TX\, 77833\, United States
CATEGORIES:Bulletin Board
ATTACH;FMTTYPE=image/jpeg:https://kwhi.com/wp-content/uploads/2026/01/pickleball-clinics-end-apr-12.jpg
END:VEVENT
BEGIN:VEVENT
DTSTART;VALUE=DATE:20260412
DTEND;VALUE=DATE:20260413
DTSTAMP:20260423T094212
CREATED:20260407T131851Z
LAST-MODIFIED:20260407T131851Z
UID:374091-1775952000-1776038399@kwhi.com
SUMMARY:Senior Sunday Services First Baptist Church of Bellville
DESCRIPTION:
URL:https://kwhi.com/event/senior-sunday-services-first-baptist-church-of-bellville/
LOCATION:First Baptist Church Bellville\, 504 East Strauss Street\, Bellville\, TX\, 77418\, United States
CATEGORIES:Bulletin Board
ATTACH;FMTTYPE=image/jpeg:https://kwhi.com/wp-content/uploads/2026/04/senior-sunday-services-apr-12.jpg
END:VEVENT
BEGIN:VEVENT
DTSTART;VALUE=DATE:20260412
DTEND;VALUE=DATE:20260413
DTSTAMP:20260423T094212
CREATED:20260407T191020Z
LAST-MODIFIED:20260407T191020Z
UID:374178-1775952000-1776038399@kwhi.com
SUMMARY:New Hope MBC-Gay Hill Choir  Event
DESCRIPTION:
URL:https://kwhi.com/event/new-hope-mbc-gay-hill-choir-event/
LOCATION:New Hope Missionary Baptist Church (Gay Hill)\, 805 FM 390 West\, Brenham\, TX\, 77833\, United States
CATEGORIES:Bulletin Board
ATTACH;FMTTYPE=image/jpeg:https://kwhi.com/wp-content/uploads/2026/04/choir-annual-apr-12.jpg
END:VEVENT
BEGIN:VEVENT
DTSTART;VALUE=DATE:20260412
DTEND;VALUE=DATE:20260413
DTSTAMP:20260423T094212
CREATED:20260408T133501Z
LAST-MODIFIED:20260408T133501Z
UID:374235-1775952000-1776038399@kwhi.com
SUMMARY:Bluebonnets & Bumpers Car Show (Brenham)
DESCRIPTION:
URL:https://kwhi.com/event/bluebonnets-bumpers-car-show-brenham/
LOCATION:Brazos Valley Brewing Company\, 206 S. Jackson St.\, Brenham\, TX\, 77833\, United States
CATEGORIES:Bulletin Board
ATTACH;FMTTYPE=image/jpeg:https://kwhi.com/wp-content/uploads/2026/04/bluebonnets-car-show-apr-12.jpg
END:VEVENT
BEGIN:VEVENT
DTSTART;VALUE=DATE:20260412
DTEND;VALUE=DATE:20260414
DTSTAMP:20260423T094212
CREATED:20260408T195746Z
LAST-MODIFIED:20260408T195746Z
UID:374298-1775952000-1776124799@kwhi.com
SUMMARY:Austin County Fair Livestock Calendar (Bellville)
DESCRIPTION:
URL:https://kwhi.com/event/austin-county-fair-livestock-calendar-bellville/
LOCATION:TX
CATEGORIES:Bulletin Board
ATTACH;FMTTYPE=image/jpeg:https://kwhi.com/wp-content/uploads/2026/04/acf-livestock-calendar-apr.jpg
END:VEVENT
END:VCALENDAR