BEGIN:VCALENDAR
VERSION:2.0
PRODID:-//KWHI.com - ECPv6.15.17.1//NONSGML v1.0//EN
CALSCALE:GREGORIAN
METHOD:PUBLISH
X-WR-CALNAME:KWHI.com
X-ORIGINAL-URL:https://kwhi.com
X-WR-CALDESC:Events for KWHI.com
REFRESH-INTERVAL;VALUE=DURATION:PT1H
X-Robots-Tag:noindex
X-PUBLISHED-TTL:PT1H
BEGIN:VTIMEZONE
TZID:America/Chicago
BEGIN:DAYLIGHT
TZOFFSETFROM:-0600
TZOFFSETTO:-0500
TZNAME:CDT
DTSTART:20250309T080000
END:DAYLIGHT
BEGIN:STANDARD
TZOFFSETFROM:-0500
TZOFFSETTO:-0600
TZNAME:CST
DTSTART:20251102T070000
END:STANDARD
BEGIN:DAYLIGHT
TZOFFSETFROM:-0600
TZOFFSETTO:-0500
TZNAME:CDT
DTSTART:20260308T080000
END:DAYLIGHT
BEGIN:STANDARD
TZOFFSETFROM:-0500
TZOFFSETTO:-0600
TZNAME:CST
DTSTART:20261101T070000
END:STANDARD
BEGIN:DAYLIGHT
TZOFFSETFROM:-0600
TZOFFSETTO:-0500
TZNAME:CDT
DTSTART:20270314T080000
END:DAYLIGHT
BEGIN:STANDARD
TZOFFSETFROM:-0500
TZOFFSETTO:-0600
TZNAME:CST
DTSTART:20271107T070000
END:STANDARD
END:VTIMEZONE
BEGIN:VEVENT
DTSTART;VALUE=DATE:20260503
DTEND;VALUE=DATE:20260504
DTSTAMP:20260423T014500
CREATED:20260407T191817Z
LAST-MODIFIED:20260407T191817Z
UID:374190-1777766400-1777852799@kwhi.com
SUMMARY:Appreciation Service honoring Pastor John D. & Linda K. Moore (Brenham)
DESCRIPTION:
URL:https://kwhi.com/event/appreciation-service-honoring-pastor-john-d-linda-k-moore-brenham/
LOCATION:Blinn College Janis Sneed Banquet Room\, 902 College Avenue\, Brenham\, TX\, 77833\, United States
CATEGORIES:Bulletin Board
ATTACH;FMTTYPE=image/jpeg:https://kwhi.com/wp-content/uploads/2026/04/moore-appre-service-may-3.jpg
END:VEVENT
BEGIN:VEVENT
DTSTART;VALUE=DATE:20260503
DTEND;VALUE=DATE:20260504
DTSTAMP:20260423T014500
CREATED:20260408T214130Z
LAST-MODIFIED:20260408T214130Z
UID:374321-1777766400-1777852799@kwhi.com
SUMMARY:Celebration Honoring Pastor Roy Green\, Jr. (Brenham)
DESCRIPTION:PRE-MOTHER'S DAY CELEBRATION
URL:https://kwhi.com/event/celebration-honoring-pastor-roy-green-jr-brenham/
LOCATION:Goodwill Missionary Baptist Church (Brenham)\, 9180 Highway 105\, Brenham\, TX\, 77833\, United States
CATEGORIES:Bulletin Board
ATTACH;FMTTYPE=image/jpeg:https://kwhi.com/wp-content/uploads/2026/04/pre-mothers-day-celebration-may-3.jpg
END:VEVENT
BEGIN:VEVENT
DTSTART;VALUE=DATE:20260503
DTEND;VALUE=DATE:20260504
DTSTAMP:20260423T014500
CREATED:20260410T134248Z
LAST-MODIFIED:20260410T134248Z
UID:374420-1777766400-1777852799@kwhi.com
SUMMARY:Mayfest at Holy Rosary Church Hostyn
DESCRIPTION:
URL:https://kwhi.com/event/mayfest-at-holy-rosary-church-hostyn/
LOCATION:Queen of the Holy Rosary Catholic Church (Hostyn)\, 936 FM 2436\, La Grange\, TX\, 78945\, United States
ATTACH;FMTTYPE=image/png:https://kwhi.com/wp-content/uploads/2026/04/mayfest-may-3.png
END:VEVENT
BEGIN:VEVENT
DTSTART;VALUE=DATE:20260503
DTEND;VALUE=DATE:20260504
DTSTAMP:20260423T014500
CREATED:20260422T141005Z
LAST-MODIFIED:20260422T141005Z
UID:375211-1777766400-1777852799@kwhi.com
SUMMARY:Bethlehem Lutheran Church Annual Fundraiser (Round Top)
DESCRIPTION:DRAWINGS FOR OVER 35 PRIZES
URL:https://kwhi.com/event/bethlehem-lutheran-church-annual-fundraiser-round-top/
LOCATION:Round Top Rifle Association Hall\, 710 FM 1457\, Round Top\, TX\, 78954\, United States
CATEGORIES:Bulletin Board
ATTACH;FMTTYPE=image/jpeg:https://kwhi.com/wp-content/uploads/2026/04/bethlehem-luth-ch-fundraiser-may-3.jpg
END:VEVENT
BEGIN:VEVENT
DTSTART;TZID=America/Chicago:20260503T090000
DTEND;TZID=America/Chicago:20260503T150000
DTSTAMP:20260423T014500
CREATED:20260126T165422Z
LAST-MODIFIED:20260126T165422Z
UID:367638-1777798800-1777820400@kwhi.com
SUMMARY:Farmers' & Artisan Market (Somerville)
DESCRIPTION:
URL:https://kwhi.com/event/farmers-artisan-market-somerville-4/
LOCATION:Downtown Somerville\, TX\, 77879\, United States
CATEGORIES:Bulletin Board
ATTACH;FMTTYPE=image/jpeg:https://kwhi.com/wp-content/uploads/2026/01/somerville-farmers-artisan-market-2026.jpg
END:VEVENT
END:VCALENDAR