BEGIN:VCALENDAR
VERSION:2.0
PRODID:-//KWHI.com - ECPv6.15.17.1//NONSGML v1.0//EN
CALSCALE:GREGORIAN
METHOD:PUBLISH
X-WR-CALNAME:KWHI.com
X-ORIGINAL-URL:https://kwhi.com
X-WR-CALDESC:Events for KWHI.com
REFRESH-INTERVAL;VALUE=DURATION:PT1H
X-Robots-Tag:noindex
X-PUBLISHED-TTL:PT1H
BEGIN:VTIMEZONE
TZID:America/Chicago
BEGIN:DAYLIGHT
TZOFFSETFROM:-0600
TZOFFSETTO:-0500
TZNAME:CDT
DTSTART:20250309T080000
END:DAYLIGHT
BEGIN:STANDARD
TZOFFSETFROM:-0500
TZOFFSETTO:-0600
TZNAME:CST
DTSTART:20251102T070000
END:STANDARD
BEGIN:DAYLIGHT
TZOFFSETFROM:-0600
TZOFFSETTO:-0500
TZNAME:CDT
DTSTART:20260308T080000
END:DAYLIGHT
BEGIN:STANDARD
TZOFFSETFROM:-0500
TZOFFSETTO:-0600
TZNAME:CST
DTSTART:20261101T070000
END:STANDARD
BEGIN:DAYLIGHT
TZOFFSETFROM:-0600
TZOFFSETTO:-0500
TZNAME:CDT
DTSTART:20270314T080000
END:DAYLIGHT
BEGIN:STANDARD
TZOFFSETFROM:-0500
TZOFFSETTO:-0600
TZNAME:CST
DTSTART:20271107T070000
END:STANDARD
END:VTIMEZONE
BEGIN:VEVENT
DTSTART;VALUE=DATE:20260505
DTEND;VALUE=DATE:20260506
DTSTAMP:20260422T160450
CREATED:20260106T220138Z
LAST-MODIFIED:20260106T220138Z
UID:366219-1777939200-1778025599@kwhi.com
SUMMARY:Looking for Sponsors to host Lunch and Learns/Mixers (Bellville)
DESCRIPTION:
URL:https://kwhi.com/event/looking-for-sponsors-to-host-lunch-and-learns-mixers-bellville-2/
LOCATION:TX
CATEGORIES:Bulletin Board
ATTACH;FMTTYPE=image/png:https://kwhi.com/wp-content/uploads/2026/01/looking-for-sponsors.png
END:VEVENT
BEGIN:VEVENT
DTSTART;VALUE=DATE:20260505
DTEND;VALUE=DATE:20260506
DTSTAMP:20260422T160450
CREATED:20260420T200504Z
LAST-MODIFIED:20260420T200504Z
UID:375089-1777939200-1778025599@kwhi.com
SUMMARY:Sons of Confederate Veterans Meeting (Brenham)
DESCRIPTION:Sons of Confederate Veterans will meet Tuesday\, May 5\, at Texas Seafood and Steakhouse\, plan on arriving NLT 6 PM for meals and mingling; the program will begin around 7:00.  As always\, spouses and guests are welcome.  For more information call\, 979 836-0986. The program; the Texas Heritage of Old Washington.  Kathryn van der Pol will be the speaker.
URL:https://kwhi.com/event/sons-of-confederate-veterans-meeting-brenham-7/
LOCATION:Texas Seafood and Steakhouse\, 2209 South Market Street\, Brenham\, TX\, 77833\, United States
CATEGORIES:Bulletin Board
ATTACH;FMTTYPE=image/png:https://kwhi.com/wp-content/uploads/2026/04/PSA-red-color.png
END:VEVENT
BEGIN:VEVENT
DTSTART;TZID=America/Chicago:20260505T120000
DTEND;TZID=America/Chicago:20260505T130000
DTSTAMP:20260422T160450
CREATED:20260106T151006Z
LAST-MODIFIED:20260106T151006Z
UID:366144-1777982400-1777986000@kwhi.com
SUMMARY:Walk With A Doc (Brenham)
DESCRIPTION:Register online before your first walk.  Chapter number; 3612
URL:https://kwhi.com/event/walk-with-a-doc-brenham-6/
LOCATION:Blinn College Kruse Recreation Center\, 208 Blinn Blvd\, Brenham\, TX\, 77833\, United States
CATEGORIES:Bulletin Board
ATTACH;FMTTYPE=image/jpeg:https://kwhi.com/wp-content/uploads/2026/01/wwad-2026.jpg
END:VEVENT
BEGIN:VEVENT
DTSTART;TZID=America/Chicago:20260505T160000
DTEND;TZID=America/Chicago:20260505T180000
DTSTAMP:20260422T160450
CREATED:20260309T194231Z
LAST-MODIFIED:20260417T135949Z
UID:371800-1777996800-1778004000@kwhi.com
SUMMARY:Washington County Cattlewomen Fundraiser Drive-Thru (Brenham)
DESCRIPTION:
URL:https://kwhi.com/event/washington-county-cattlewomen-fundraiser-drive-thru-brenham/
LOCATION:Washington County Expo\, 1305 E. Blue Bell Rd.\, Brenham\, TX\, 77833\, United States
CATEGORIES:Bulletin Board
ATTACH;FMTTYPE=image/jpeg:https://kwhi.com/wp-content/uploads/2026/03/wc-cattlewomen-fundraiser-may-5-1.jpg
END:VEVENT
BEGIN:VEVENT
DTSTART;TZID=America/Chicago:20260505T160000
DTEND;TZID=America/Chicago:20260505T190000
DTSTAMP:20260422T160450
CREATED:20260407T132615Z
LAST-MODIFIED:20260407T132615Z
UID:374102-1777996800-1778007600@kwhi.com
SUMMARY:CINCO DE MAYO Client Fiesta (Bellville)
DESCRIPTION:
URL:https://kwhi.com/event/cinco-de-mayo-client-fiesta-bellville/
LOCATION:Bluebonnet Abstract & Title (Bellville)\, 17 East Main Street\, Bellville\, TX\, 77418\, United States
CATEGORIES:Bulletin Board
ATTACH;FMTTYPE=image/jpeg:https://kwhi.com/wp-content/uploads/2026/04/cinco-de-mayo-bellville-may-5.jpg
END:VEVENT
END:VCALENDAR