BEGIN:VCALENDAR
VERSION:2.0
PRODID:-//KWHI.com - ECPv6.15.17.1//NONSGML v1.0//EN
CALSCALE:GREGORIAN
METHOD:PUBLISH
X-WR-CALNAME:KWHI.com
X-ORIGINAL-URL:https://kwhi.com
X-WR-CALDESC:Events for KWHI.com
REFRESH-INTERVAL;VALUE=DURATION:PT1H
X-Robots-Tag:noindex
X-PUBLISHED-TTL:PT1H
BEGIN:VTIMEZONE
TZID:America/Chicago
BEGIN:DAYLIGHT
TZOFFSETFROM:-0600
TZOFFSETTO:-0500
TZNAME:CDT
DTSTART:20250309T080000
END:DAYLIGHT
BEGIN:STANDARD
TZOFFSETFROM:-0500
TZOFFSETTO:-0600
TZNAME:CST
DTSTART:20251102T070000
END:STANDARD
BEGIN:DAYLIGHT
TZOFFSETFROM:-0600
TZOFFSETTO:-0500
TZNAME:CDT
DTSTART:20260308T080000
END:DAYLIGHT
BEGIN:STANDARD
TZOFFSETFROM:-0500
TZOFFSETTO:-0600
TZNAME:CST
DTSTART:20261101T070000
END:STANDARD
BEGIN:DAYLIGHT
TZOFFSETFROM:-0600
TZOFFSETTO:-0500
TZNAME:CDT
DTSTART:20270314T080000
END:DAYLIGHT
BEGIN:STANDARD
TZOFFSETFROM:-0500
TZOFFSETTO:-0600
TZNAME:CST
DTSTART:20271107T070000
END:STANDARD
END:VTIMEZONE
BEGIN:VEVENT
DTSTART;VALUE=DATE:20260601
DTEND;VALUE=DATE:20260711
DTSTAMP:20260425T052244
CREATED:20260423T201115Z
LAST-MODIFIED:20260423T201115Z
UID:375354-1780272000-1783727999@kwhi.com
SUMMARY:JAM Meal Train (Brenham)
DESCRIPTION:Throughout JAM\, our Missionary Counselors are faithfully serving kids and families in our community each weekday. \nFrom June 1st–July 10th\, we are asking for help to provide lunches to support them as they pour into our kids! \nThank you for helping fuel the college students who have committed their summer to serving through JAM! \nVisit here to donate or volunteer: \nhttps://www.mealtrain.com/trains/ee30yo
URL:https://kwhi.com/event/jam-meal-train-brenham/
LOCATION:TX
CATEGORIES:Bulletin Board
ATTACH;FMTTYPE=image/jpeg:https://kwhi.com/wp-content/uploads/2026/04/jam-meal-train-end-july-10.jpg
END:VEVENT
BEGIN:VEVENT
DTSTART;VALUE=DATE:20260613
DTEND;VALUE=DATE:20260614
DTSTAMP:20260425T052244
CREATED:20260422T145352Z
LAST-MODIFIED:20260422T145352Z
UID:375221-1781308800-1781395199@kwhi.com
SUMMARY:WCJA Juneteenth Royalty Coronation (Brenham)
DESCRIPTION:
URL:https://kwhi.com/event/wcja-juneteenth-royalty-coronation-brenham/
LOCATION:New Life Church of God Brenham (Activity Center)\, 1990 FM 389\, Brenham\, TX\, 77833\, United States
CATEGORIES:Bulletin Board
ATTACH;FMTTYPE=image/jpeg:https://kwhi.com/wp-content/uploads/2026/04/juneteenth-brenham.jpg
END:VEVENT
BEGIN:VEVENT
DTSTART;TZID=America/Chicago:20260613T180000
DTEND;TZID=America/Chicago:20260613T220000
DTSTAMP:20260425T052244
CREATED:20260423T133810Z
LAST-MODIFIED:20260423T133810Z
UID:375310-1781373600-1781388000@kwhi.com
SUMMARY:BVAAHCS Juneteenth Blues Festival Kick-Off (Bryan)
DESCRIPTION:
URL:https://kwhi.com/event/bvaahcs-juneteenth-blues-festival-kick-off-bryan/
LOCATION:Downtown Bryan Palace Theater\, 105 S. Main Street\, Bryan\, TX\, 77803\, United States
CATEGORIES:Bulletin Board
ATTACH;FMTTYPE=image/jpeg:https://kwhi.com/wp-content/uploads/2026/04/juneteenth-bv.jpg
END:VEVENT
END:VCALENDAR