BEGIN:VCALENDAR
VERSION:2.0
PRODID:-//KWHI.com - ECPv6.15.17.1//NONSGML v1.0//EN
CALSCALE:GREGORIAN
METHOD:PUBLISH
X-ORIGINAL-URL:https://kwhi.com
X-WR-CALDESC:Events for KWHI.com
REFRESH-INTERVAL;VALUE=DURATION:PT1H
X-Robots-Tag:noindex
X-PUBLISHED-TTL:PT1H
BEGIN:VTIMEZONE
TZID:America/Chicago
BEGIN:DAYLIGHT
TZOFFSETFROM:-0600
TZOFFSETTO:-0500
TZNAME:CDT
DTSTART:20250309T080000
END:DAYLIGHT
BEGIN:STANDARD
TZOFFSETFROM:-0500
TZOFFSETTO:-0600
TZNAME:CST
DTSTART:20251102T070000
END:STANDARD
BEGIN:DAYLIGHT
TZOFFSETFROM:-0600
TZOFFSETTO:-0500
TZNAME:CDT
DTSTART:20260308T080000
END:DAYLIGHT
BEGIN:STANDARD
TZOFFSETFROM:-0500
TZOFFSETTO:-0600
TZNAME:CST
DTSTART:20261101T070000
END:STANDARD
BEGIN:DAYLIGHT
TZOFFSETFROM:-0600
TZOFFSETTO:-0500
TZNAME:CDT
DTSTART:20270314T080000
END:DAYLIGHT
BEGIN:STANDARD
TZOFFSETFROM:-0500
TZOFFSETTO:-0600
TZNAME:CST
DTSTART:20271107T070000
END:STANDARD
END:VTIMEZONE
BEGIN:VEVENT
DTSTART;VALUE=DATE:20260711
DTEND;VALUE=DATE:20260712
DTSTAMP:20260423T223533
CREATED:20260408T185812Z
LAST-MODIFIED:20260408T185812Z
UID:374287-1783728000-1783814399@kwhi.com
SUMMARY:Not Nights Cool Tunes Concert Series Brenham
DESCRIPTION:July 11th - 90 PROOF Country\, a ‘90s country group out of Dallas-Fort Worth that will deliver the era’s biggest hits with authentic flair.\nJuly 18th - FlashPoint Band out of Houston\, who will bring a mix of classic rock\, Motown and contemporary hits with a high-energy horn section and versatile vocals. \nJuly 25th - A Sure Thing\, a Houston-based group that offers high-octane performances covering everything from Top 40 favorites to timeless party anthems. \nAll concerts are free and open to the public\, beginning at 7 p.m. each night.  Guests are encouraged to bring lawn chairs.  Snacks and drinks will be offered by local businesses and food trucks. \nTo learn more\, visit https://downtownbrenham.com/hotnights or the\nHot Nights\, Cool Tunes Downtown Brenham Facebook page
URL:https://kwhi.com/event/not-nights-cool-tunes-concert-series-brenham/
LOCATION:Downtown Brenham\, Brenham\, TX\, 77833\, United States
CATEGORIES:Bulletin Board
ATTACH;FMTTYPE=image/jpeg:https://kwhi.com/wp-content/uploads/2026/04/hot-nights-cool-tunes-2026.jpg
END:VEVENT
END:VCALENDAR