BEGIN:VCALENDAR
VERSION:2.0
PRODID:-//KWHI.com - ECPv6.15.17.1//NONSGML v1.0//EN
CALSCALE:GREGORIAN
METHOD:PUBLISH
X-WR-CALNAME:KWHI.com
X-ORIGINAL-URL:https://kwhi.com
X-WR-CALDESC:Events for KWHI.com
REFRESH-INTERVAL;VALUE=DURATION:PT1H
X-Robots-Tag:noindex
X-PUBLISHED-TTL:PT1H
BEGIN:VTIMEZONE
TZID:America/Chicago
BEGIN:DAYLIGHT
TZOFFSETFROM:-0600
TZOFFSETTO:-0500
TZNAME:CDT
DTSTART:20250309T080000
END:DAYLIGHT
BEGIN:STANDARD
TZOFFSETFROM:-0500
TZOFFSETTO:-0600
TZNAME:CST
DTSTART:20251102T070000
END:STANDARD
BEGIN:DAYLIGHT
TZOFFSETFROM:-0600
TZOFFSETTO:-0500
TZNAME:CDT
DTSTART:20260308T080000
END:DAYLIGHT
BEGIN:STANDARD
TZOFFSETFROM:-0500
TZOFFSETTO:-0600
TZNAME:CST
DTSTART:20261101T070000
END:STANDARD
BEGIN:DAYLIGHT
TZOFFSETFROM:-0600
TZOFFSETTO:-0500
TZNAME:CDT
DTSTART:20270314T080000
END:DAYLIGHT
BEGIN:STANDARD
TZOFFSETFROM:-0500
TZOFFSETTO:-0600
TZNAME:CST
DTSTART:20271107T070000
END:STANDARD
END:VTIMEZONE
BEGIN:VEVENT
DTSTART;VALUE=DATE:20260904
DTEND;VALUE=DATE:20260907
DTSTAMP:20260425T181041
CREATED:20260417T135402Z
LAST-MODIFIED:20260417T135402Z
UID:374888-1788480000-1788739199@kwhi.com
SUMMARY:Fayette County Fair Entertainment (LaGrange)
DESCRIPTION:
URL:https://kwhi.com/event/fayette-county-fair-entertainment-lagrange/
LOCATION:Fayette County Fairgrounds\, 400 Fair Grounds\, La Grange\, TX\, 78945\, United States
CATEGORIES:Bulletin Board
ATTACH;FMTTYPE=image/jpeg:https://kwhi.com/wp-content/uploads/2026/04/fayette-co-fair-sept-4-5-6.jpg
END:VEVENT
BEGIN:VEVENT
DTSTART;VALUE=DATE:20260905
DTEND;VALUE=DATE:20260906
DTSTAMP:20260425T181041
CREATED:20260106T220334Z
LAST-MODIFIED:20260106T220334Z
UID:366223-1788566400-1788652799@kwhi.com
SUMMARY:Looking for Sponsors to host Lunch and Learns/Mixers (Bellville)
DESCRIPTION:
URL:https://kwhi.com/event/looking-for-sponsors-to-host-lunch-and-learns-mixers-bellville-4/
LOCATION:TX
CATEGORIES:Bulletin Board
ATTACH;FMTTYPE=image/png:https://kwhi.com/wp-content/uploads/2026/01/looking-for-sponsors.png
END:VEVENT
END:VCALENDAR