BEGIN:VCALENDAR
VERSION:2.0
PRODID:-//KWHI.com - ECPv6.15.17.1//NONSGML v1.0//EN
CALSCALE:GREGORIAN
METHOD:PUBLISH
X-ORIGINAL-URL:https://kwhi.com
X-WR-CALDESC:Events for KWHI.com
REFRESH-INTERVAL;VALUE=DURATION:PT1H
X-Robots-Tag:noindex
X-PUBLISHED-TTL:PT1H
BEGIN:VTIMEZONE
TZID:America/Chicago
BEGIN:DAYLIGHT
TZOFFSETFROM:-0600
TZOFFSETTO:-0500
TZNAME:CDT
DTSTART:20210314T080000
END:DAYLIGHT
BEGIN:STANDARD
TZOFFSETFROM:-0500
TZOFFSETTO:-0600
TZNAME:CST
DTSTART:20211107T070000
END:STANDARD
BEGIN:DAYLIGHT
TZOFFSETFROM:-0600
TZOFFSETTO:-0500
TZNAME:CDT
DTSTART:20220313T080000
END:DAYLIGHT
BEGIN:STANDARD
TZOFFSETFROM:-0500
TZOFFSETTO:-0600
TZNAME:CST
DTSTART:20221106T070000
END:STANDARD
BEGIN:DAYLIGHT
TZOFFSETFROM:-0600
TZOFFSETTO:-0500
TZNAME:CDT
DTSTART:20230312T080000
END:DAYLIGHT
BEGIN:STANDARD
TZOFFSETFROM:-0500
TZOFFSETTO:-0600
TZNAME:CST
DTSTART:20231105T070000
END:STANDARD
END:VTIMEZONE
BEGIN:VEVENT
DTSTART;VALUE=DATE:20220110
DTEND;VALUE=DATE:20220111
DTSTAMP:20260423T053326
CREATED:20211230T183716Z
LAST-MODIFIED:20220106T161438Z
UID:224485-1641772800-1641859199@kwhi.com
SUMMARY:Modern Western Square Dance
DESCRIPTION:
URL:https://kwhi.com/event/join-the-fun-the-rockn-t-squares/
LOCATION:Cowboy Church of Brenham\, 4400 Hwy. 105\, Brenham\, TX\, 77833\, United States
CATEGORIES:Bulletin Board
ATTACH;FMTTYPE=image/jpeg:https://kwhi.com/wp-content/uploads/2021/12/modern-square-dance.jpg
END:VEVENT
BEGIN:VEVENT
DTSTART;VALUE=DATE:20220117
DTEND;VALUE=DATE:20220118
DTSTAMP:20260423T053327
CREATED:20220107T171923Z
LAST-MODIFIED:20220107T171923Z
UID:225034-1642377600-1642463999@kwhi.com
SUMMARY:City Wide Martin Luther King Day Celebration
DESCRIPTION:
URL:https://kwhi.com/event/city-wide-martin-luther-king-day-celebration/
LOCATION:Downtown Big Spring\, TX\, 79720\, United States
CATEGORIES:Bulletin Board
ATTACH;FMTTYPE=image/png:https://kwhi.com/wp-content/uploads/2022/01/mlk-day-big-spring.png
END:VEVENT
BEGIN:VEVENT
DTSTART;VALUE=DATE:20220117
DTEND;VALUE=DATE:20220118
DTSTAMP:20260423T053327
CREATED:20220114T210914Z
LAST-MODIFIED:20220114T210914Z
UID:225551-1642377600-1642463999@kwhi.com
SUMMARY:Bread Partners to observe Martin Luther King\, Jr. Day
DESCRIPTION:Bread Partners of Washington County WILL NOT have a food pantry on Monday\, January 17\, 2022 in observance of Martin Luther King\, Jr. Day – individuals are encouraged to participate in the Tuesday  Pantry at the Washington County Expo
URL:https://kwhi.com/event/bread-partners-to-observe-martin-luther-king-jr-day/
LOCATION:TX\, United States
CATEGORIES:Bulletin Board
ATTACH;FMTTYPE=image/jpeg:https://kwhi.com/wp-content/uploads/2022/01/bread-partners-of-wc.jpg
END:VEVENT
BEGIN:VEVENT
DTSTART;VALUE=DATE:20220117
DTEND;VALUE=DATE:20220118
DTSTAMP:20260423T053327
CREATED:20220117T153200Z
LAST-MODIFIED:20220117T153200Z
UID:225740-1642377600-1642463999@kwhi.com
SUMMARY:Navasota HS Junior-Senior Prom Tickets on Sale
DESCRIPTION:The NHS Junior-Senior Prom is April 2\, 2022 at The Brazos Center in Bryan\, with an After Prom Party following at NHS. Tickets are on sale in Michele Harrington's office through February 28th for $50\, which includes a t-shirt. The theme is "A Picture Perfect Night in Paris". For more information about free\, donated prom dresses or any other questions\, contact Nancy Bouliane at 936-825-4231 or by email at boulian@navasotaisd.org.
URL:https://kwhi.com/event/navasota-hs-junior-senior-prom-tickets-on-sale/
LOCATION:TX\, United States
CATEGORIES:Bulletin Board
ATTACH;FMTTYPE=image/jpeg:https://kwhi.com/wp-content/uploads/2022/01/navasota-ISD-1.jpg
END:VEVENT
BEGIN:VEVENT
DTSTART;VALUE=DATE:20220117
DTEND;VALUE=DATE:20220201
DTSTAMP:20260423T053327
CREATED:20220117T225340Z
LAST-MODIFIED:20220117T225340Z
UID:225798-1642377600-1643673599@kwhi.com
SUMMARY:Lauren Quinn Family Benefit Account
DESCRIPTION:https://www.facebook.com/100041612881100/posts/796700628393693/?d=n \nOn January 1\, 2022\, Lauren Quinns mother was involved in a car accident. Her injuries resulted in a T12 vertebrae fracture\, requiring a hospital stay. \nFor the first few days it was uncertain it she would ever be able to walk again. However\, by Monday January 4th\, she was able to stand up and sit in a chair with the assistance of three people and an assistive device\, she did it! \nOnly moments after\, being placed back in the bed from standing\, she had trouble breathing and said it was hard to keep her eyes open and in an instant\, she turned her head\, closed her eyes and took her last breath…Lauren’s mother passed from a pulmonary embolism. \nBack in May 2021\, Lauren and her mom and took in four children. These children ages 17\, 16\, 13\, and 11 are the biological children of Lauren’s older brother’s ex-wife; she lost custody of them a little over 10 years ago. \nNot only did their mother give up the kids on but also they suffered unmentionable abuse from the man who adopted them. This summer\, all the kids ended up in Texas and went to live with their bio mom\, however that turned into a hostile/abusive situation. At the time of all of these events\, Lauren’s brother was working out of state and unaware of the situation. The oldest two girls decided that is was not a safe environment and called police. Police removed the kids from the house and released them to Lauren and her mom. Lauren’s brother and his wife also had two children together\, CPS got involved and they also got the babies\, ages 4 and 2. \nNow\, Lauren who has legal custody of all the children is taking care of the kids. They were working as a team to raise the kids and now that her mom is suddenly gone\, Lauren could use some help. There is a benefit account set up to go directly to Lauren and the kids. What a tragedy to Lauren\, the kids and all who knew her…to lose her support system\, her mom and the kids who have already been through so much\, now their grandmother. Thank you for any and all help you can provide. \nThis is such an amazing community of loving people who always pull together when there is a need!#WashingtoncountyTXhasheart \nIf you would like to make a   monetary donation\, contact\nBrazos Valley Schools Credit Union\n2455 Stringer Street\nBrenham\, TX. 77833\n1 (979) 353-7079\nLauren Quinn Family Benefit Account
URL:https://kwhi.com/event/lauren-quinn-family-benefit-account/
LOCATION:TX\, United States
CATEGORIES:Bulletin Board
ATTACH;FMTTYPE=image/jpeg:https://kwhi.com/wp-content/uploads/2022/01/please-donate.jpg
END:VEVENT
BEGIN:VEVENT
DTSTART;TZID=America/Chicago:20220117T183000
DTEND;TZID=America/Chicago:20220117T193000
DTSTAMP:20260423T053327
CREATED:20220104T212634Z
LAST-MODIFIED:20220104T212634Z
UID:224751-1642444200-1642447800@kwhi.com
SUMMARY:BAA sponsored Dr. Martin Luther King\, Jr. Vigil
DESCRIPTION:Annual Dr. Martin Luther King Candlelight Vigil will be held on Monday\, January 17\, at 6:30 p.m.\, in downtown Brenham at the gazebo on the courthouse square\, Sponsored by the Brenham Activist Association\, the Guest speaker: Rev. Dock Williams of the Mount Seriah Baptist Church\, Brenham\, everyone is invited
URL:https://kwhi.com/event/baa-sponsored-dr-martin-luther-king-jr-vigil/
LOCATION:Downtown Brenham\, Brenham\, TX\, 77833\, United States
CATEGORIES:Bulletin Board
ATTACH;FMTTYPE=image/jpeg:https://kwhi.com/wp-content/uploads/2022/01/mlk-day.jpg
END:VEVENT
END:VCALENDAR