BEGIN:VCALENDAR
VERSION:2.0
PRODID:-//KWHI.com - ECPv6.15.17.1//NONSGML v1.0//EN
CALSCALE:GREGORIAN
METHOD:PUBLISH
X-WR-CALNAME:KWHI.com
X-ORIGINAL-URL:https://kwhi.com
X-WR-CALDESC:Events for KWHI.com
REFRESH-INTERVAL;VALUE=DURATION:PT1H
X-Robots-Tag:noindex
X-PUBLISHED-TTL:PT1H
BEGIN:VTIMEZONE
TZID:America/Chicago
BEGIN:DAYLIGHT
TZOFFSETFROM:-0600
TZOFFSETTO:-0500
TZNAME:CDT
DTSTART:20210314T080000
END:DAYLIGHT
BEGIN:STANDARD
TZOFFSETFROM:-0500
TZOFFSETTO:-0600
TZNAME:CST
DTSTART:20211107T070000
END:STANDARD
BEGIN:DAYLIGHT
TZOFFSETFROM:-0600
TZOFFSETTO:-0500
TZNAME:CDT
DTSTART:20220313T080000
END:DAYLIGHT
BEGIN:STANDARD
TZOFFSETFROM:-0500
TZOFFSETTO:-0600
TZNAME:CST
DTSTART:20221106T070000
END:STANDARD
BEGIN:DAYLIGHT
TZOFFSETFROM:-0600
TZOFFSETTO:-0500
TZNAME:CDT
DTSTART:20230312T080000
END:DAYLIGHT
BEGIN:STANDARD
TZOFFSETFROM:-0500
TZOFFSETTO:-0600
TZNAME:CST
DTSTART:20231105T070000
END:STANDARD
END:VTIMEZONE
BEGIN:VEVENT
DTSTART;VALUE=DATE:20220119
DTEND;VALUE=DATE:20220228
DTSTAMP:20260423T173344
CREATED:20220117T193941Z
LAST-MODIFIED:20220120T203902Z
UID:225781-1642550400-1646006399@kwhi.com
SUMMARY:Girl Scouts of Central Texas Cookie Sale
DESCRIPTION:The 2022 Girl Scout Cookie Program dates!\nGo Day is January 19 and the sale ends on February 27.
URL:https://kwhi.com/event/girl-scouts-of-central-texas-cookie-program/
LOCATION:TX\, United States
CATEGORIES:Bulletin Board
ATTACH;FMTTYPE=image/png:https://kwhi.com/wp-content/uploads/2022/01/g-s-cookies.png
END:VEVENT
BEGIN:VEVENT
DTSTART;VALUE=DATE:20220202
DTEND;VALUE=DATE:20220203
DTSTAMP:20260423T173344
CREATED:20220202T153320Z
LAST-MODIFIED:20220202T153320Z
UID:226855-1643760000-1643846399@kwhi.com
SUMMARY:Winter Safety Tips for Property\, Home\, and Driving
DESCRIPTION:Texas Department of Insurance \nDate: 2/1/2022 \nWinter safety tips for property\, home\, and driving\nCheck out our tips to help prepare property and keep safe in your home and on the road during a winter storm. \n\nTips for preparing your house and pipes:\nwww.tdi.texas.gov/tips/winter-safety.html\n\n\nSpace heater safety: tips to prevent fires:\nwww.tdi.texas.gov/tips/space-heater.html\n\n\nHow to avoid carbon monoxide poisoning at home:\nwww.tdi.texas.gov/tips/how-to-avoid-carbon-monoxide-poisoning-at-home.html\n\n\nUsing a generator? Stay safe from carbon monoxide:\nwww.tdi.texas.gov/tips/how-to-use-a-generator-safely.html\n\n\nFive winter driving safety tips to keep your family safe:\nwww.tdi.texas.gov/tips/five-tips-for-winter-driving.html
URL:https://kwhi.com/event/winter-safety-tips-for-property-home-and-driving/
LOCATION:TX\, United States
CATEGORIES:Bulletin Board
ATTACH;FMTTYPE=image/png:https://kwhi.com/wp-content/uploads/2022/02/psa.png
END:VEVENT
BEGIN:VEVENT
DTSTART;TZID=America/Chicago:20220202T100000
DTEND;TZID=America/Chicago:20220202T143000
DTSTAMP:20260423T173344
CREATED:20220126T143855Z
LAST-MODIFIED:20220126T143855Z
UID:226379-1643796000-1643812200@kwhi.com
SUMMARY:Blood Drive at Brenham Veterinary Hospital
DESCRIPTION:The donor coach will be Brenham Veterinary Hospital\nWednesday\, February 2\, 10:00 a.m. - 2:30 p.m.\nContact Kathy Drake 979 836-2472\nlimerick1414@yahoo.com  \nFREE t-shirt for all who donate\nEAT.DRINK.BRING I.D.
URL:https://kwhi.com/event/blood-drive-at-brenham-veterinary-hospital/
LOCATION:Brenham Veterinary Hospital\, 2455 US-290\, Brenham\, TX\, 77833\, United States
CATEGORIES:Bulletin Board
END:VEVENT
BEGIN:VEVENT
DTSTART;TZID=America/Chicago:20220202T163000
DTEND;TZID=America/Chicago:20220202T180000
DTSTAMP:20260423T173344
CREATED:20220117T202319Z
LAST-MODIFIED:20220117T203713Z
UID:225786-1643819400-1643824800@kwhi.com
SUMMARY:Burton Panther Baseball Drive-Thru BBQ Chicken Meal Fundraiser
DESCRIPTION:Deadline to purchase tickets is Monday January 24th\, call Jane Hinze 979-451-9138 to reserve your tickets.
URL:https://kwhi.com/event/burton-panther-baseball-drive-thru-bbq-chicken-meal-fundraiser/
LOCATION:TX\, United States
CATEGORIES:Bulletin Board
ATTACH;FMTTYPE=image/jpeg:https://kwhi.com/wp-content/uploads/2022/01/burton-baseball-fundraiser.jpeg
END:VEVENT
END:VCALENDAR