BEGIN:VCALENDAR
VERSION:2.0
PRODID:-//KWHI.com - ECPv6.15.17.1//NONSGML v1.0//EN
CALSCALE:GREGORIAN
METHOD:PUBLISH
X-ORIGINAL-URL:https://kwhi.com
X-WR-CALDESC:Events for KWHI.com
REFRESH-INTERVAL;VALUE=DURATION:PT1H
X-Robots-Tag:noindex
X-PUBLISHED-TTL:PT1H
BEGIN:VTIMEZONE
TZID:America/Chicago
BEGIN:DAYLIGHT
TZOFFSETFROM:-0600
TZOFFSETTO:-0500
TZNAME:CDT
DTSTART:20210314T080000
END:DAYLIGHT
BEGIN:STANDARD
TZOFFSETFROM:-0500
TZOFFSETTO:-0600
TZNAME:CST
DTSTART:20211107T070000
END:STANDARD
BEGIN:DAYLIGHT
TZOFFSETFROM:-0600
TZOFFSETTO:-0500
TZNAME:CDT
DTSTART:20220313T080000
END:DAYLIGHT
BEGIN:STANDARD
TZOFFSETFROM:-0500
TZOFFSETTO:-0600
TZNAME:CST
DTSTART:20221106T070000
END:STANDARD
BEGIN:DAYLIGHT
TZOFFSETFROM:-0600
TZOFFSETTO:-0500
TZNAME:CDT
DTSTART:20230312T080000
END:DAYLIGHT
BEGIN:STANDARD
TZOFFSETFROM:-0500
TZOFFSETTO:-0600
TZNAME:CST
DTSTART:20231105T070000
END:STANDARD
END:VTIMEZONE
BEGIN:VEVENT
DTSTART;VALUE=DATE:20220303
DTEND;VALUE=DATE:20220306
DTSTAMP:20260423T045546
CREATED:20220214T224022Z
LAST-MODIFIED:20220214T224619Z
UID:227823-1646265600-1646524799@kwhi.com
SUMMARY:Annual Spring Open Collection Days for CITY OF BRENHAM RESIDENTS ONLY
DESCRIPTION:March 3\, 4 & 5 for CITY RESIDENTS ONLY
URL:https://kwhi.com/event/annual-spring-open-collection-days-for-city-of-brenham-residents-only/
LOCATION:Citizens Collection Station\, 2009 Old Chappell Hill Road\, Brenham\, TX\, 77833\, United States
CATEGORIES:Bulletin Board
ATTACH;FMTTYPE=image/png:https://kwhi.com/wp-content/uploads/2022/02/spring-clean-up-2022.png
END:VEVENT
BEGIN:VEVENT
DTSTART;VALUE=DATE:20220105
DTEND;VALUE=DATE:20220106
DTSTAMP:20260423T045546
CREATED:20220105T152012Z
LAST-MODIFIED:20220105T152012Z
UID:224827-1641340800-1641427199@kwhi.com
SUMMARY:Day-Tripping in Chappell Hill Texas
DESCRIPTION:
URL:https://kwhi.com/event/day-tripping-in-chappell-hill-texas/
LOCATION:Downtown Chappell Hill\, Main Street\, Chappell Hill\, TX\, 77426\, United States
CATEGORIES:Bulletin Board
ATTACH;FMTTYPE=image/png:https://kwhi.com/wp-content/uploads/2022/01/chappell-hill.png
END:VEVENT
BEGIN:VEVENT
DTSTART;VALUE=DATE:20220205
DTEND;VALUE=DATE:20220206
DTSTAMP:20260423T045546
CREATED:20220119T202616Z
LAST-MODIFIED:20220202T160100Z
UID:225968-1644019200-1644105599@kwhi.com
SUMMARY:Bellville Market Day & Farmers Market
DESCRIPTION:
URL:https://kwhi.com/event/bellville-farmers-market-3/
LOCATION:TX
CATEGORIES:Bulletin Board
ATTACH;FMTTYPE=image/jpeg:https://kwhi.com/wp-content/uploads/2022/01/bellville-market-day-farmers-market22.jpg
END:VEVENT
BEGIN:VEVENT
DTSTART;VALUE=DATE:20220305
DTEND;VALUE=DATE:20220306
DTSTAMP:20260423T045546
CREATED:20220128T152558Z
LAST-MODIFIED:20220128T152558Z
UID:226543-1646438400-1646524799@kwhi.com
SUMMARY:Bellville Lions Dinner Entertainment Night
DESCRIPTION:
URL:https://kwhi.com/event/bellville-lions-dinner-entertainment-night-3/
LOCATION:Austin County Expo Center\, 1076 TX-159\, Bellville\, TX\, 77418\, United States
CATEGORIES:Bulletin Board
ATTACH;FMTTYPE=image/jpeg:https://kwhi.com/wp-content/uploads/2022/01/bellville-lions-2.jpg
END:VEVENT
BEGIN:VEVENT
DTSTART;VALUE=DATE:20220305
DTEND;VALUE=DATE:20220306
DTSTAMP:20260423T045546
CREATED:20220223T185605Z
LAST-MODIFIED:20220223T185605Z
UID:228583-1646438400-1646524799@kwhi.com
SUMMARY:U.F.O. Skywatch
DESCRIPTION:
URL:https://kwhi.com/event/u-f-o-skywatch/
LOCATION:Lake Somerville\, Somerville\, TX\, 77879\, United States
CATEGORIES:Bulletin Board
ATTACH;FMTTYPE=image/jpeg:https://kwhi.com/wp-content/uploads/2022/02/UFO-WATCH.jpg
END:VEVENT
BEGIN:VEVENT
DTSTART;TZID=America/Chicago:20220212T100000
DTEND;TZID=America/Chicago:20220212T160000
DTSTAMP:20260423T045546
CREATED:20220210T151137Z
LAST-MODIFIED:20220210T151137Z
UID:227469-1644660000-1644681600@kwhi.com
SUMMARY:Freedom Colonies Exhibit at Brenham Heritage Museum
DESCRIPTION:The Brenham Heritage Museum invites the public to attend their new Freedom Colonies exhibit at the Bus Depot Gallery.  The exhibit entitled “Freedom Colonies: Tracing Historic Black Settlements of Washington County” explores the stories of former slaves and descendants who established entire local communities following their Emancipation.  Little is known about much of the African-American experience in those post-Civil War years\, and museum officials say that they look forward to introducing that history to a new audience.  The Gallery is open every Saturday from 10am-4pm. Other visitation times are available by appointment.  The Freedom Colonies Exhibit runs through March 26. \nIn conjunction with the exhibit will be the first installment of the Seth McMeans Lecture Series on Monday\, February 28\, at noon in the Bus Depot Gallery.  The guest speaker is Dr. Andrea Roberts of Texas A&M University. She will explore a half dozen of the largest Freedom Colonies in Washington County.  Dr. Roberts will provide both overall background and specifics about the local communities.  The Seth McMeans Lecture Series is free to all Brenham Heritage Museum members and only $5 for non-members.  For more information\, visit their website at www.brenhamheritagemuseum.org.
URL:https://kwhi.com/event/freedom-colonies-exhibit-at-brenham-heritage-museum/
LOCATION:Brenham Bus Depot Gallery\, 313 East Alamo Street\, Brenham\, TX\, 77833\, United States
CATEGORIES:Bulletin Board
ATTACH;FMTTYPE=image/jpeg:https://kwhi.com/wp-content/uploads/2022/02/Bus_Depot_Sideview.jpg
END:VEVENT
END:VCALENDAR