BEGIN:VCALENDAR
VERSION:2.0
PRODID:-//KWHI.com - ECPv6.15.17.1//NONSGML v1.0//EN
CALSCALE:GREGORIAN
METHOD:PUBLISH
X-ORIGINAL-URL:https://kwhi.com
X-WR-CALDESC:Events for KWHI.com
REFRESH-INTERVAL;VALUE=DURATION:PT1H
X-Robots-Tag:noindex
X-PUBLISHED-TTL:PT1H
BEGIN:VTIMEZONE
TZID:America/Chicago
BEGIN:DAYLIGHT
TZOFFSETFROM:-0600
TZOFFSETTO:-0500
TZNAME:CDT
DTSTART:20210314T080000
END:DAYLIGHT
BEGIN:STANDARD
TZOFFSETFROM:-0500
TZOFFSETTO:-0600
TZNAME:CST
DTSTART:20211107T070000
END:STANDARD
BEGIN:DAYLIGHT
TZOFFSETFROM:-0600
TZOFFSETTO:-0500
TZNAME:CDT
DTSTART:20220313T080000
END:DAYLIGHT
BEGIN:STANDARD
TZOFFSETFROM:-0500
TZOFFSETTO:-0600
TZNAME:CST
DTSTART:20221106T070000
END:STANDARD
BEGIN:DAYLIGHT
TZOFFSETFROM:-0600
TZOFFSETTO:-0500
TZNAME:CDT
DTSTART:20230312T080000
END:DAYLIGHT
BEGIN:STANDARD
TZOFFSETFROM:-0500
TZOFFSETTO:-0600
TZNAME:CST
DTSTART:20231105T070000
END:STANDARD
END:VTIMEZONE
BEGIN:VEVENT
DTSTART;VALUE=DATE:20220331
DTEND;VALUE=DATE:20220411
DTSTAMP:20260419T202542
CREATED:20220316T205140Z
LAST-MODIFIED:20220316T205140Z
UID:230398-1648684800-1649635199@kwhi.com
SUMMARY:Unity Theatre presents a comedy "Mrs. Mannerly"
DESCRIPTION:Preview night – all seats $17\nThursday\, March 31\, 2022 \nCHAT WITH THE CAST\nPreview\, Thursday\, March 31st – immediately following our preview performance\, stay in your seat for a brief talk-back with the cast and director of the show.  \nMEET THE DIRECTOR\nSaturday\, April 9th – arrive thirty minutes early for the show and come face-to-face with the director!  A great opportunity to hear what goes on behind the scenes of the production\, the director’s concept\, and how they put it all together. \nBox office phone:  979-830-8353\nMon-Fri – 10:00am-2:00pm\nBox office email:  Tickets@unitybrenham.org
URL:https://kwhi.com/event/unity-theatre-presents-a-comedy-mrs-mannerly/
LOCATION:Unity Theatre\, 300 Church Street\, Brenham\, TX\, 77833\, United States
CATEGORIES:Bulletin Board
ATTACH;FMTTYPE=image/jpeg:https://kwhi.com/wp-content/uploads/2022/03/mrs-mannerly.jpg
END:VEVENT
BEGIN:VEVENT
DTSTART;VALUE=DATE:20220205
DTEND;VALUE=DATE:20220206
DTSTAMP:20260419T202542
CREATED:20220119T202616Z
LAST-MODIFIED:20220202T160100Z
UID:225968-1644019200-1644105599@kwhi.com
SUMMARY:Bellville Market Day & Farmers Market
DESCRIPTION:
URL:https://kwhi.com/event/bellville-farmers-market-3/
LOCATION:TX
CATEGORIES:Bulletin Board
ATTACH;FMTTYPE=image/jpeg:https://kwhi.com/wp-content/uploads/2022/01/bellville-market-day-farmers-market22.jpg
END:VEVENT
BEGIN:VEVENT
DTSTART;VALUE=DATE:20220402
DTEND;VALUE=DATE:20220403
DTSTAMP:20260419T202542
CREATED:20220303T210331Z
LAST-MODIFIED:20220303T210331Z
UID:229191-1648857600-1648943999@kwhi.com
SUMMARY:Hood's Texas Brigade Association Historical & Genealogical Meeting
DESCRIPTION:
URL:https://kwhi.com/event/hoods-texas-brigade-association-historical-genealogical-meeting/
LOCATION:Chappell Hill Museum\, 9220 Poplar Street\, Chappell Hill\, TX\, 77426\, United States
CATEGORIES:Bulletin Board
ATTACH;FMTTYPE=image/png:https://kwhi.com/wp-content/uploads/2022/03/historical-gene.png
END:VEVENT
BEGIN:VEVENT
DTSTART;VALUE=DATE:20220312
DTEND;VALUE=DATE:20220313
DTSTAMP:20260419T202542
CREATED:20220309T154948Z
LAST-MODIFIED:20220309T154948Z
UID:229724-1647043200-1647129599@kwhi.com
SUMMARY:Brenham's Flying Horse Carousel Open to the Public
DESCRIPTION:Open to the public\nWeekends from March 1 - October 31 ($1.00 per rider):\nSaturdays - 11 am - 4 pm\nSundays - 1 pm - 4 pm \nReservation only\nFirst weekend of March - Last weekend in October\nMonday - Friday 10 am - 4 pm\, last scheduled reservation at 3 pm for a minimum of $40.00/hour to reserve carousel\, or $1 per person exceeding 40 people for the hour \nChildren under 12 may ride hobby horses. Riders 12 and older may stand by the horses or ride on the gondolas. \nFor rentals and additional information please contact PARK Central at 979-337-7250
URL:https://kwhi.com/event/brenhams-flying-horse-carousel-open-to-the-public/
LOCATION:City of Brenham Fireman’s Park\, 901 N. Park Street\, Brenham\, TX\, 77833\, United States
CATEGORIES:Bulletin Board
ATTACH;FMTTYPE=image/jpeg:https://kwhi.com/wp-content/uploads/2022/03/flying-horse.jpg
END:VEVENT
BEGIN:VEVENT
DTSTART;VALUE=DATE:20220402
DTEND;VALUE=DATE:20220403
DTSTAMP:20260419T202542
CREATED:20220328T204223Z
LAST-MODIFIED:20220328T204223Z
UID:231215-1648857600-1648943999@kwhi.com
SUMMARY:Meet & Take Pics with The Easter Bunny
DESCRIPTION:
URL:https://kwhi.com/event/meet-take-pics-with-the-easter-bunny/
LOCATION:Bellville Square\, TX\, 77418\, United States
CATEGORIES:Bulletin Board
ATTACH;FMTTYPE=image/png:https://kwhi.com/wp-content/uploads/2022/03/bellville-pics-w-bunny.png
END:VEVENT
BEGIN:VEVENT
DTSTART;VALUE=DATE:20220402
DTEND;VALUE=DATE:20220403
DTSTAMP:20260419T202542
CREATED:20220328T204438Z
LAST-MODIFIED:20220328T204438Z
UID:231218-1648857600-1648943999@kwhi.com
SUMMARY:Saturday of the Bellville Square
DESCRIPTION:
URL:https://kwhi.com/event/saturday-of-the-bellville-square/
LOCATION:Bellville Square\, TX\, 77418\, United States
CATEGORIES:Bulletin Board
ATTACH;FMTTYPE=image/png:https://kwhi.com/wp-content/uploads/2022/03/bellville-market-day-APRIL.png
END:VEVENT
BEGIN:VEVENT
DTSTART;TZID=America/Chicago:20220402T083000
DTEND;TZID=America/Chicago:20220402T150000
DTSTAMP:20260419T202542
CREATED:20220316T133403Z
LAST-MODIFIED:20220316T133403Z
UID:230359-1648888200-1648911600@kwhi.com
SUMMARY:Spring Fling Plant Sale
DESCRIPTION:
URL:https://kwhi.com/event/spring-fling-plant-sale-2/
LOCATION:American Legion Hall Somerville\, 517 8th Street\, Somerville\, 77879\, United States
CATEGORIES:Bulletin Board
ATTACH;FMTTYPE=image/jpeg:https://kwhi.com/wp-content/uploads/2022/03/spring-fling-plant-sale.jpg
END:VEVENT
BEGIN:VEVENT
DTSTART;TZID=America/Chicago:20220319T100000
DTEND;TZID=America/Chicago:20220319T160000
DTSTAMP:20260419T202542
CREATED:20220310T151602Z
LAST-MODIFIED:20220310T151602Z
UID:229861-1647684000-1647705600@kwhi.com
SUMMARY:Independence Historical Society Historic Homes Tours
DESCRIPTION:The Independence Historical Society will be conducting FREE tours of the historic homes between 10:00–4:00 on Saturday\, March 19 and 26 and Saturday\, April 2 and 9.  IHS docents will lead tours through the John P. Coles House built in 1820.  Coles was one of Stephen F. Austin’s “Old 300” settlers and the house is furnished from that period.  Children can play school in the Old Gay Hill school house and visitors to the dog trop Log Cabin will see a loom and other implements from the period.  There will be a black smith in action\, stitchers on the porch\, and live dulcimer music.  Step back in time to the early days of Texas and see what life was like for these early Texans.  Young and old will enjoy these tours in a beautiful spot near Old Baylor in Independence.  For information\, email ihsindependencetexas1836@gmail.com or look for us on Facebook.
URL:https://kwhi.com/event/independence-historical-society-historic-homes-tours/
LOCATION:TX\, United States
CATEGORIES:Bulletin Board
ATTACH;FMTTYPE=image/jpeg:https://kwhi.com/wp-content/uploads/2022/03/Coles-House.jpg
END:VEVENT
END:VCALENDAR