BEGIN:VCALENDAR
VERSION:2.0
PRODID:-//KWHI.com - ECPv6.15.17.1//NONSGML v1.0//EN
CALSCALE:GREGORIAN
METHOD:PUBLISH
X-WR-CALNAME:KWHI.com
X-ORIGINAL-URL:https://kwhi.com
X-WR-CALDESC:Events for KWHI.com
REFRESH-INTERVAL;VALUE=DURATION:PT1H
X-Robots-Tag:noindex
X-PUBLISHED-TTL:PT1H
BEGIN:VTIMEZONE
TZID:America/Chicago
BEGIN:DAYLIGHT
TZOFFSETFROM:-0600
TZOFFSETTO:-0500
TZNAME:CDT
DTSTART:20210314T080000
END:DAYLIGHT
BEGIN:STANDARD
TZOFFSETFROM:-0500
TZOFFSETTO:-0600
TZNAME:CST
DTSTART:20211107T070000
END:STANDARD
BEGIN:DAYLIGHT
TZOFFSETFROM:-0600
TZOFFSETTO:-0500
TZNAME:CDT
DTSTART:20220313T080000
END:DAYLIGHT
BEGIN:STANDARD
TZOFFSETFROM:-0500
TZOFFSETTO:-0600
TZNAME:CST
DTSTART:20221106T070000
END:STANDARD
BEGIN:DAYLIGHT
TZOFFSETFROM:-0600
TZOFFSETTO:-0500
TZNAME:CDT
DTSTART:20230312T080000
END:DAYLIGHT
BEGIN:STANDARD
TZOFFSETFROM:-0500
TZOFFSETTO:-0600
TZNAME:CST
DTSTART:20231105T070000
END:STANDARD
END:VTIMEZONE
BEGIN:VEVENT
DTSTART;VALUE=DATE:20220607
DTEND;VALUE=DATE:20220617
DTSTAMP:20260423T065400
CREATED:20220607T195404Z
LAST-MODIFIED:20220607T195404Z
UID:236821-1654560000-1655423999@kwhi.com
SUMMARY:Register Now for Burton Bridge Ministry Summer Day Camp
DESCRIPTION:Burton Bridge Ministry Summer Day Camp is coming up Mon-Fri June 20 to the 24th. Deadline to register is Thursday June 16th.  \nLet’s go SWIMMING! This year’s Bridge Summer Day Camp includes a field trip to Lutherhill LaGrange Facilities\, with a ginormous 10\,000-gallon pool. The diving board is a fun way to make a big splash!  \nChart your course for adventure the week of June 20-24\, with science experiments\, games\, hot breakfast\, lunch\, tons of drinks & snacks\, singing\, nature walks\, Bible stories\, service opportunities and arts & crafts.  \nCamp is open to Burton & surrounding area children who just completed kindergarten through grade 6; the deadline to sign up is June 16. $50 for the week & lots of scholarships are available! \nFind Burton Bridge Ministry online\, on Facebook\, Email burtonbridgeministry@gmail.com or call 979-337-3370 for information
URL:https://kwhi.com/event/register-now-for-burton-bridge-ministry-summer-day-camp/
LOCATION:TX
CATEGORIES:Bulletin Board
ATTACH;FMTTYPE=image/jpeg:https://kwhi.com/wp-content/uploads/2022/06/burton-bridge-ministry-summer-camp.jpg
END:VEVENT
BEGIN:VEVENT
DTSTART;VALUE=DATE:20220608
DTEND;VALUE=DATE:20220801
DTSTAMP:20260423T065400
CREATED:20220608T190002Z
LAST-MODIFIED:20220608T190038Z
UID:236899-1654646400-1659311999@kwhi.com
SUMMARY:Juneteenth Exhibit at Brenham Heritage Museum Bus Depot Gallery
DESCRIPTION:A new exhibit focused on the history of Juneteenth in Washington County opens on Saturday at the Brenham Heritage Museum’s Bus Depot Gallery.  Celebrate! A View of Juneteenth Traditions and Customs shows the wide variety of ways that Juneteenth has been observed in Washington County since the emancipation of enslaved African Americans in Texas in June 1865.  Specific topics include parades\, coronations\, rodeos\, concerts and entertainment\, picnics\, sporting events and reunions.  The exhibit will run through at least the end of July.\n\nTo learn more\, or to donate to the museum\, visit www.brenhamheritagemuseum.org.
URL:https://kwhi.com/event/juneteenth-exhibit-at-brenham-heritage-museum-bus-depot-gallery/
LOCATION:Brenham Bus Depot Gallery\, 313 East Alamo Street\, Brenham\, TX\, 77833\, United States
CATEGORIES:Bulletin Board
ATTACH;FMTTYPE=image/jpeg:https://kwhi.com/wp-content/uploads/2022/06/Bus_Depot_Sideview.jpg
END:VEVENT
BEGIN:VEVENT
DTSTART;VALUE=DATE:20220311
DTEND;VALUE=DATE:20220312
DTSTAMP:20260423T065400
CREATED:20220228T223702Z
LAST-MODIFIED:20220228T223702Z
UID:228888-1646956800-1647043199@kwhi.com
SUMMARY:Buddy Check Day
DESCRIPTION:Veterans connect on Buddy Check Day \nAUSTIN\, TX – The 11th day of each month is Buddy Check Day to remind Texas veterans to check in with other veterans. By getting in touch with others\, veterans may enjoy comradery\, check on each other’s well-being and connect another veteran with a service they can use. \nBuddy Check can be as simple as picking up the phone\, just talk\, text\, or visit. Share this video as a reminder https://www.youtube.com/watch?v=Ft0pWRO3I98 . \n“Of course\, it’s a good idea to check on each other more often; but sometimes we forget. So set your alarm and program a reminder for the 11th day of every month as Buddy Check Day\,” said Laura Koerner\, Texas Veterans Commission Chairwoman and U.S. Navy Veteran. \nVeterans wanting to expand their circle or curious about services may be interested in the following: \n\nVeterans looking for a peer to talk with can find them through the Military Veteran Peer Network (MVPN). Talking with a Peers is beneficial\, plus they know the resources & services in their area. Find the MVPN near your area at https://www.milvetpeer.net/page/custompage_map . Interested in volunteering as a Peer\, visit www.milvetpeer.net\nThe Texas Veterans Network is a statewide collaborative of hundreds of community-based organizations and government agencies that holistically serve the veteran and military community. Connect with the Texas Veterans Network through Combined Arms https://www.combinedarms.us/tvn or with Unite Texas https://texas.uniteus.com/veterans-network/\nVeterans can connect with other veterans and receive assistance with VA disability Claims and health care from the Texas Veterans Commission (TVC) at www.tvc.texas.gov . Additionally\, TVC offers programs and services for employment\, education\, and entrepreneurs around the state\, as well as a Women Veterans Network.\n\nHelping veterans starts here. The Texas Veterans Commission advocates for and provides superior service to veterans that will significantly improve the quality of life for all Texas veterans\, their families\, and survivors. The TVC assists veterans with receiving their benefits\, provides funding to agencies which provide direct services to veterans and administers the Hazlewood Act education benefits. Learn more at www.tvc.texas.gov .
URL:https://kwhi.com/event/buddy-check-day/
LOCATION:TX\, United States
CATEGORIES:Bulletin Board
ATTACH;FMTTYPE=image/png:https://kwhi.com/wp-content/uploads/2022/02/buddy-check-day.png
END:VEVENT
BEGIN:VEVENT
DTSTART;VALUE=DATE:20220312
DTEND;VALUE=DATE:20220313
DTSTAMP:20260423T065400
CREATED:20220309T154948Z
LAST-MODIFIED:20220309T154948Z
UID:229724-1647043200-1647129599@kwhi.com
SUMMARY:Brenham's Flying Horse Carousel Open to the Public
DESCRIPTION:Open to the public\nWeekends from March 1 - October 31 ($1.00 per rider):\nSaturdays - 11 am - 4 pm\nSundays - 1 pm - 4 pm \nReservation only\nFirst weekend of March - Last weekend in October\nMonday - Friday 10 am - 4 pm\, last scheduled reservation at 3 pm for a minimum of $40.00/hour to reserve carousel\, or $1 per person exceeding 40 people for the hour \nChildren under 12 may ride hobby horses. Riders 12 and older may stand by the horses or ride on the gondolas. \nFor rentals and additional information please contact PARK Central at 979-337-7250
URL:https://kwhi.com/event/brenhams-flying-horse-carousel-open-to-the-public/
LOCATION:City of Brenham Fireman’s Park\, 901 N. Park Street\, Brenham\, TX\, 77833\, United States
CATEGORIES:Bulletin Board
ATTACH;FMTTYPE=image/jpeg:https://kwhi.com/wp-content/uploads/2022/03/flying-horse.jpg
END:VEVENT
BEGIN:VEVENT
DTSTART;VALUE=DATE:20220611
DTEND;VALUE=DATE:20220612
DTSTAMP:20260423T065400
CREATED:20220314T140055Z
LAST-MODIFIED:20220314T140055Z
UID:230138-1654905600-1654991999@kwhi.com
SUMMARY:Brenham HS Class of 1965 Reunion
DESCRIPTION:Brenham High School Class of 1965 Reunion; Saturday\, June 11\, at The Kenny Store\, RSVP by June 1st to Gladys Avis 979-830-7887 or Ben Seeker 979-277-5061
URL:https://kwhi.com/event/brenham-hs-class-of-1965-reunion/
LOCATION:Kenney Store\, 811 South Loop 497\, Kenney\, TX\, 77452\, United States
CATEGORIES:Bulletin Board
ATTACH;FMTTYPE=image/jpeg:https://kwhi.com/wp-content/uploads/2022/03/1965.jpg
END:VEVENT
BEGIN:VEVENT
DTSTART;VALUE=DATE:20220611
DTEND;VALUE=DATE:20220612
DTSTAMP:20260423T065400
CREATED:20220329T200153Z
LAST-MODIFIED:20220329T200153Z
UID:231307-1654905600-1654991999@kwhi.com
SUMMARY:Cotton Gin Classic Car & Truck Show
DESCRIPTION:
URL:https://kwhi.com/event/cotton-gin-classic-car-truck-show/
LOCATION:TX\, United States
CATEGORIES:Bulletin Board
ATTACH;FMTTYPE=image/jpeg:https://kwhi.com/wp-content/uploads/2022/03/cotton-gin-classic-JUNE.jpg
END:VEVENT
BEGIN:VEVENT
DTSTART;VALUE=DATE:20220611
DTEND;VALUE=DATE:20220612
DTSTAMP:20260423T065400
CREATED:20220601T181803Z
LAST-MODIFIED:20220601T181803Z
UID:236311-1654905600-1654991999@kwhi.com
SUMMARY:Flag Retirement Ceremony and Breakfast
DESCRIPTION:
URL:https://kwhi.com/event/flag-retirement-ceremony-and-breakfast/
LOCATION:American Legion Post 602 (Shelby)\, 4019 FM 1457\, Fayetteville\, TX\, 78940\, United States
CATEGORIES:Bulletin Board
ATTACH;FMTTYPE=image/png:https://kwhi.com/wp-content/uploads/2022/06/flag-retirement.png
END:VEVENT
BEGIN:VEVENT
DTSTART;VALUE=DATE:20220611
DTEND;VALUE=DATE:20220619
DTSTAMP:20260423T065400
CREATED:20220526T213952Z
LAST-MODIFIED:20220526T214150Z
UID:236031-1654905600-1655596799@kwhi.com
SUMMARY:Juneteenth Celebrated in Washington County
DESCRIPTION:
URL:https://kwhi.com/event/juneteenth-celebrated-in-washington-county/
LOCATION:TX\, United States
CATEGORIES:Bulletin Board
ATTACH;FMTTYPE=image/jpeg:https://kwhi.com/wp-content/uploads/2022/05/juneteenth-2022.jpg
END:VEVENT
BEGIN:VEVENT
DTSTART;TZID=America/Chicago:20220611T090000
DTEND;TZID=America/Chicago:20220611T120000
DTSTAMP:20260423T065400
CREATED:20220603T210424Z
LAST-MODIFIED:20220603T212105Z
UID:236506-1654938000-1654948800@kwhi.com
SUMMARY:Brazos Valley Veterans Benefits Fair
DESCRIPTION:Light Brunch/Free Drawing Door Prizes
URL:https://kwhi.com/event/brazos-valley-veterans-benefits-fair/
LOCATION:American Legion Post 159 – Bryan\, 101 Waco Street\, Bryan\, TX\, 77803\, United States
CATEGORIES:Bulletin Board
ATTACH;FMTTYPE=image/jpeg:https://kwhi.com/wp-content/uploads/2022/06/bv-veterans-benefit-fair.jpg
END:VEVENT
BEGIN:VEVENT
DTSTART;TZID=America/Chicago:20220611T090000
DTEND;TZID=America/Chicago:20220611T130000
DTSTAMP:20260423T065400
CREATED:20220607T194917Z
LAST-MODIFIED:20220607T194917Z
UID:236818-1654938000-1654952400@kwhi.com
SUMMARY:Navasota Farmers Market
DESCRIPTION:
URL:https://kwhi.com/event/navasota-farmers-market-14/
LOCATION:Navasota Public Library parking lot\, 1411 E Washington Ave\, Navasota\, 77868
CATEGORIES:Bulletin Board
ATTACH;FMTTYPE=image/jpeg:https://kwhi.com/wp-content/uploads/2022/06/navasota-Farmers-Market-JUNE-18.jpg
END:VEVENT
BEGIN:VEVENT
DTSTART;TZID=America/Chicago:20220212T110000
DTEND;TZID=America/Chicago:20220212T150000
DTSTAMP:20260423T065400
CREATED:20220119T204030Z
LAST-MODIFIED:20220119T204030Z
UID:225981-1644663600-1644678000@kwhi.com
SUMMARY:Austin County Jail Museum Tours
DESCRIPTION:
URL:https://kwhi.com/event/austin-county-jail-museum-tours-2/
LOCATION:TX\, United States
CATEGORIES:Bulletin Board
ATTACH;FMTTYPE=image/jpeg:https://kwhi.com/wp-content/uploads/2022/01/austin-county-jailmuseum-banner-new_orig.jpg
END:VEVENT
BEGIN:VEVENT
DTSTART;TZID=America/Chicago:20220611T140000
DTEND;TZID=America/Chicago:20220611T180000
DTSTAMP:20260423T065400
CREATED:20220517T192739Z
LAST-MODIFIED:20220517T192739Z
UID:235227-1654956000-1654970400@kwhi.com
SUMMARY:Crawfish Boil-Nicholson Lake Road RV Park
DESCRIPTION:
URL:https://kwhi.com/event/crawfish-boil-nicholson-lake-road-rv-park/
LOCATION:Nicholson Lake Road RV Park (Chappell Hill)\, 4200 Nicholson Lake Road\, Chappell Hill\, TX\, 77426\, United States
CATEGORIES:Bulletin Board
ATTACH;FMTTYPE=image/jpeg:https://kwhi.com/wp-content/uploads/2022/05/RV-crawfish-boil-JUNE.jpg
END:VEVENT
END:VCALENDAR