BEGIN:VCALENDAR
VERSION:2.0
PRODID:-//KWHI.com - ECPv6.15.17.1//NONSGML v1.0//EN
CALSCALE:GREGORIAN
METHOD:PUBLISH
X-WR-CALNAME:KWHI.com
X-ORIGINAL-URL:https://kwhi.com
X-WR-CALDESC:Events for KWHI.com
REFRESH-INTERVAL;VALUE=DURATION:PT1H
X-Robots-Tag:noindex
X-PUBLISHED-TTL:PT1H
BEGIN:VTIMEZONE
TZID:America/Chicago
BEGIN:DAYLIGHT
TZOFFSETFROM:-0600
TZOFFSETTO:-0500
TZNAME:CDT
DTSTART:20210314T080000
END:DAYLIGHT
BEGIN:STANDARD
TZOFFSETFROM:-0500
TZOFFSETTO:-0600
TZNAME:CST
DTSTART:20211107T070000
END:STANDARD
BEGIN:DAYLIGHT
TZOFFSETFROM:-0600
TZOFFSETTO:-0500
TZNAME:CDT
DTSTART:20220313T080000
END:DAYLIGHT
BEGIN:STANDARD
TZOFFSETFROM:-0500
TZOFFSETTO:-0600
TZNAME:CST
DTSTART:20221106T070000
END:STANDARD
BEGIN:DAYLIGHT
TZOFFSETFROM:-0600
TZOFFSETTO:-0500
TZNAME:CDT
DTSTART:20230312T080000
END:DAYLIGHT
BEGIN:STANDARD
TZOFFSETFROM:-0500
TZOFFSETTO:-0600
TZNAME:CST
DTSTART:20231105T070000
END:STANDARD
END:VTIMEZONE
BEGIN:VEVENT
DTSTART;VALUE=DATE:20220715
DTEND;VALUE=DATE:20220816
DTSTAMP:20260423T185041
CREATED:20220715T140309Z
LAST-MODIFIED:20220715T140309Z
UID:239434-1657843200-1660607999@kwhi.com
SUMMARY:Summer Senior Fan Drive
DESCRIPTION:
URL:https://kwhi.com/event/summer-senior-fan-drive/
LOCATION:Brenham Nursing and Rehabilitation Center\, 400 E. Sayles St.\, Brenham\, TX\, 77833\, United States
CATEGORIES:Bulletin Board
ATTACH;FMTTYPE=image/jpeg:https://kwhi.com/wp-content/uploads/2022/07/BNRC-Summer-Fan-Drive-2022-Flyer-1.jpg
END:VEVENT
BEGIN:VEVENT
DTSTART;VALUE=DATE:20220801
DTEND;VALUE=DATE:20220806
DTSTAMP:20260423T185041
CREATED:20220728T200923Z
LAST-MODIFIED:20220728T200923Z
UID:240529-1659312000-1659743999@kwhi.com
SUMMARY:Summer Feeding Program
DESCRIPTION:
URL:https://kwhi.com/event/summer-feeding-program/
LOCATION:City of Brenham Henderson Park\, 804 Old N. Market Street\, Brenham\, TX\, 77833\, United States
CATEGORIES:Bulletin Board
ATTACH;FMTTYPE=image/jpeg:https://kwhi.com/wp-content/uploads/2022/07/Summer-Feeding-flyer-2022.jpg
END:VEVENT
BEGIN:VEVENT
DTSTART;VALUE=DATE:20220801
DTEND;VALUE=DATE:20220901
DTSTAMP:20260423T185041
CREATED:20220621T210539Z
LAST-MODIFIED:20220621T210539Z
UID:237762-1659312000-1661990399@kwhi.com
SUMMARY:Austin County Hay Show & Fall Forage Seminar
DESCRIPTION:
URL:https://kwhi.com/event/austin-county-hay-show-fall-forage-seminar-3/
LOCATION:TX
CATEGORIES:Bulletin Board
ATTACH;FMTTYPE=image/jpeg:https://kwhi.com/wp-content/uploads/2022/06/Hay-show-Fall-Forage-Seminar.jpg
END:VEVENT
BEGIN:VEVENT
DTSTART;VALUE=DATE:20220802
DTEND;VALUE=DATE:20220803
DTSTAMP:20260423T185041
CREATED:20220728T201315Z
LAST-MODIFIED:20220728T201315Z
UID:240533-1659398400-1659484799@kwhi.com
SUMMARY:Euphoria is Turning One
DESCRIPTION:
URL:https://kwhi.com/event/euphoria-is-turning-one/
LOCATION:Skincare by Shari at Euphoria\, 2325 S. Market St.\, Brenham\, TX\, 77833\, United States
CATEGORIES:Bulletin Board
ATTACH;FMTTYPE=image/jpeg:https://kwhi.com/wp-content/uploads/2022/07/euphoria.jpg
END:VEVENT
BEGIN:VEVENT
DTSTART;TZID=America/Chicago:20220315T074500
DTEND;TZID=America/Chicago:20220315T083000
DTSTAMP:20260423T185041
CREATED:20220314T183939Z
LAST-MODIFIED:20220314T183939Z
UID:230179-1647330300-1647333000@kwhi.com
SUMMARY:Food Distribution
DESCRIPTION:Bread Partners of Washington County's weekly food distribution takes place every Tuesday from 7:45-8:30 a.m. at the Washington County Expo.  The food drive is open to the public.
URL:https://kwhi.com/event/food-distribution/
LOCATION:TX
CATEGORIES:Bulletin Board
ATTACH;FMTTYPE=image/jpeg:https://kwhi.com/wp-content/uploads/2022/03/bread-partners-of-wc.jpg
END:VEVENT
BEGIN:VEVENT
DTSTART;TZID=America/Chicago:20220503T120000
DTEND;TZID=America/Chicago:20220503T130000
DTSTAMP:20260423T185041
CREATED:20220331T175604Z
LAST-MODIFIED:20220331T175604Z
UID:231462-1651579200-1651582800@kwhi.com
SUMMARY:Walk with a Doc
DESCRIPTION:Take a step towards better health  “Walk with a Doc” on the first Tuesday of each month from 12:00 Noon to 1:00 P.M. at the Kruse Center on the Blinn College-Brenham campus\, sponsored by Baylor Scott and White Health…each walk begins with a brief discussion on a health topic
URL:https://kwhi.com/event/walk-with-a-doc-20/
LOCATION:Kruse Center – Blinn College\, 208 Blinn Boulevard\, Brenham\, TX\, 77833\, United States
CATEGORIES:Bulletin Board
ATTACH;FMTTYPE=image/jpeg:https://kwhi.com/wp-content/uploads/2022/03/Walk-with-a-Doc-logo-with-white.jpg
END:VEVENT
BEGIN:VEVENT
DTSTART;TZID=America/Chicago:20220802T180000
DTEND;TZID=America/Chicago:20220802T190000
DTSTAMP:20260423T185041
CREATED:20220715T195835Z
LAST-MODIFIED:20220715T195835Z
UID:239473-1659463200-1659466800@kwhi.com
SUMMARY:Parliamentary Procedure Training
DESCRIPTION:
URL:https://kwhi.com/event/parliamentary-procedure-training/
LOCATION:Washington County Expo Event Center\, 1305 E. Blue Bell Rd.\, Brenham\, TX\, 77833\, United States
CATEGORIES:Bulletin Board
ATTACH;FMTTYPE=image/jpeg:https://kwhi.com/wp-content/uploads/2022/07/parliamentary-procedutre-training-1.jpg
END:VEVENT
END:VCALENDAR