BEGIN:VCALENDAR
VERSION:2.0
PRODID:-//KWHI.com - ECPv6.15.17.1//NONSGML v1.0//EN
CALSCALE:GREGORIAN
METHOD:PUBLISH
X-ORIGINAL-URL:https://kwhi.com
X-WR-CALDESC:Events for KWHI.com
REFRESH-INTERVAL;VALUE=DURATION:PT1H
X-Robots-Tag:noindex
X-PUBLISHED-TTL:PT1H
BEGIN:VTIMEZONE
TZID:America/Chicago
BEGIN:DAYLIGHT
TZOFFSETFROM:-0600
TZOFFSETTO:-0500
TZNAME:CDT
DTSTART:20210314T080000
END:DAYLIGHT
BEGIN:STANDARD
TZOFFSETFROM:-0500
TZOFFSETTO:-0600
TZNAME:CST
DTSTART:20211107T070000
END:STANDARD
BEGIN:DAYLIGHT
TZOFFSETFROM:-0600
TZOFFSETTO:-0500
TZNAME:CDT
DTSTART:20220313T080000
END:DAYLIGHT
BEGIN:STANDARD
TZOFFSETFROM:-0500
TZOFFSETTO:-0600
TZNAME:CST
DTSTART:20221106T070000
END:STANDARD
BEGIN:DAYLIGHT
TZOFFSETFROM:-0600
TZOFFSETTO:-0500
TZNAME:CDT
DTSTART:20230312T080000
END:DAYLIGHT
BEGIN:STANDARD
TZOFFSETFROM:-0500
TZOFFSETTO:-0600
TZNAME:CST
DTSTART:20231105T070000
END:STANDARD
END:VTIMEZONE
BEGIN:VEVENT
DTSTART;VALUE=DATE:20220822
DTEND;VALUE=DATE:20220917
DTSTAMP:20260420T120907
CREATED:20220822T141138Z
LAST-MODIFIED:20220822T141138Z
UID:242145-1661126400-1663372799@kwhi.com
SUMMARY:2022 Scarecrow Extravaganza Registration Open
DESCRIPTION:Registration is now open for Main Street Brenham’s 19th Annual Scarecrow Extravaganza.  Participants will create a variety of colorful scarecrows and place them throughout downtown to be voted on by the public for cash prizes.\nRegistration is open online at https://visitbrenhamtexas.com through September 16th.  Scarecrows must be set up in downtown by September 23rd.
URL:https://kwhi.com/event/2022-scarecrow-extravaganza-registration-open/
LOCATION:TX\, United States
CATEGORIES:Bulletin Board
ATTACH;FMTTYPE=image/jpeg:https://kwhi.com/wp-content/uploads/2022/08/ScarecrowExtravaganza22Flyer.jpg
END:VEVENT
BEGIN:VEVENT
DTSTART;VALUE=DATE:20220901
DTEND;VALUE=DATE:20220913
DTSTAMP:20260420T120907
CREATED:20220816T194700Z
LAST-MODIFIED:20220816T194700Z
UID:241786-1661990400-1663027199@kwhi.com
SUMMARY:Washington County Fair Country Creation News
DESCRIPTION:Washington County Fair Country Creation News \nCountry Creation Exhibits will be in the EXPO EVENT CENTER for the 2022 Washington County Fair.  All residents of the county are invited and encouraged to participate. \nArt\, Alternative Foods\, Canned Products\, Creative Arts and Crafts\, Designer Craftsman\, Machine Sewn\, Needlework\, Photography and Quilt exhibits are to be entered Thursday September 8th from 3 until 7 pm.  School Art check-in is September 8th from 4 to 5 pm.  \nCheck-in time for Baked Goods\, Flowers and Vegetables is Monday September 12th from 7:30 to 9:00 am. \nBoth Adult and Youth Division Catalogues can be found on-line at:   washingtoncofair.com/p/thefair/country-creations \nYouth exhibitors must be registered online in the ShoWorks system by midnight September 5th.  \nAdult exhibitors can obtain an exhibitor number for $2.00 when they check-in.
URL:https://kwhi.com/event/washington-county-fair-country-creation-news/
LOCATION:TX
CATEGORIES:Bulletin Board
ATTACH;FMTTYPE=image/jpeg:https://kwhi.com/wp-content/uploads/2022/08/wcf-country-creations.jpg
END:VEVENT
BEGIN:VEVENT
DTSTART;VALUE=DATE:20220901
DTEND;VALUE=DATE:20220916
DTSTAMP:20260420T120907
CREATED:20220825T210154Z
LAST-MODIFIED:20220825T210154Z
UID:242473-1661990400-1663286399@kwhi.com
SUMMARY:Benefit Drive for Burton Resident
DESCRIPTION:Bridge Ministry of Burton Texas\, P O Box 68\, Burton\, TX  77835 \nwww.burtonbridgeministry.org   \nburtonbridgeministry@gmail.com  \n979 337-3370
URL:https://kwhi.com/event/benefit-drive-for-burton-resident/
LOCATION:TX\, United States
CATEGORIES:Bulletin Board
ATTACH;FMTTYPE=image/png:https://kwhi.com/wp-content/uploads/2022/08/burton-bridge-benefit.png
END:VEVENT
BEGIN:VEVENT
DTSTART;VALUE=DATE:20220909
DTEND;VALUE=DATE:20220911
DTSTAMP:20260420T120907
CREATED:20220908T150424Z
LAST-MODIFIED:20220908T150424Z
UID:243460-1662681600-1662854399@kwhi.com
SUMMARY:Benefit Rummage Sale
DESCRIPTION:
URL:https://kwhi.com/event/benefit-rummage-sale-2/
LOCATION:One Way Bible Church\, 1100 FM 390 West\, Brenham\, TX\, 77833\, United States
CATEGORIES:Bulletin Board
ATTACH;FMTTYPE=image/jpeg:https://kwhi.com/wp-content/uploads/2022/09/benefit-rummage-sale-1.jpg
END:VEVENT
BEGIN:VEVENT
DTSTART;VALUE=DATE:20220909
DTEND;VALUE=DATE:20220918
DTSTAMP:20260420T120907
CREATED:20220809T213617Z
LAST-MODIFIED:20220809T213617Z
UID:241325-1662681600-1663459199@kwhi.com
SUMMARY:Washington County Fair Schedule
DESCRIPTION:2022 Washington County Fair Association – Daily Schedule \nFriday\, September 9th\n6 PM               BBQ Cookoff Begins\n7 PM               Pitch Tournament \nSaturday\, September 10th\n8 AM               Trail Ride\n9 AM               BBQ Cook-Off\nProspect Steer & Heifer Show\n10:30 AM        Fair Parade Downtown\n11 AM             Washer Tournament\n1 PM               Bean Bag Tournament\n2 PM               Craft Beer Roundup\n2 PM               Pet Show\nStray Katz Car Show\n6 PM               Fair Opening\, Fair Queen Announcement\n6:30PM           BBQ Cookoff Awards\n7:30 PM          Ranch Rodeo\n8 PM               Trae Pierce and the T Stones \nSunday\, September 11th\n9 AM               Cowboy Church\n10 AM             Bucket Calf Show\n2 PM               Ag Mech Show  \nTuesday\, September 13th - Tejano Day\n6-11 PM          Heart of America Carnival – Arm Band Night\n7 PM               Open Team Roping  \nWednesday\, September 14th\n7:30 AM          Blessing of the Animals\n8 AM               Rabbit Show\n8 AM               Barrow Show\n9 AM               Commercial Steer Grading\n11 AM             Carcass Hog Awards\n12 PM             Steer Show\n3 PM               Lamb Show\n4:30 PM          Goat Show\n6 PM               Little Mr. & Miss Contest\n7 PM               Junior Mr. & Miss\n6:30 PM          Mutton Bustin’\n7:30 PM          Bull Buck Out\n8:00 PM          Jacob Boyd \nThursday\, September 15th – Senior Citizen’s Day\n7 AM               Poultry Show\n8 AM               Commercial Heifer Pen Show\n10:30 AM        Champion Drive Show\n11 AM             Senior Day Luncheon\n3 PM               Scramble Heifer Show\n4 PM               Colt Show\n6:30 PM          Mutton Bustin’\n7:30 PM          Rodeo Performance\nWild Steer Saddling\n9 PM               Michael Salgado – Tejano Night \nFriday\, September 16th – Children’s Day\n8 AM               Commercial Heifer Halter Show\n8 AM               Commercial Steer Awards\n1 PM               JLA Sale\n6:30 PM          Mutton Bustin’\n7:30 PM          Rodeo Performance\nWild Steer Saddling\n8 PM               Read Southall Band\n10 PM             Flatland Cavalry  \nSaturday\, September 17th\n8 AM               Livestock Judging Contest\n9 AM               Little Wrangler Hay Hauling\n10 AM             Youth Country Creations Auction\n1 PM               Livestock Judging Awards\n1 PM               Commercial Steer Sale\n2 PM               Colt & Commercial Heifer Sale\n5-9 PM            Gary Durrenberger\n6 PM               Greased Pig and Youth Hay Hauling Contest\n6:30 PM          Mutton Bustin’\n7:30 PM          Rodeo Performance with Calf Scramble\nWild Steer Saddling\n9 PM               Drew Parker\n11 PM             Root & Boots:  Sammy Kershaw\, Aaron Tippin & Collin Raye \nDaily Events: Wednesday\, 9/14 thru Saturday\, 9/17\nAntique Tractor Exhibit\nChildren’s Petting Zoo\nChuck Wagon Demonstrations\nCommercial Exhibits\nCountry Creations Exhibits\nCountry Store\nHeart of America Carnival\nKids Pedal Tractor Races\nMechanical Bull\nRorring Entertainment Races
URL:https://kwhi.com/event/washington-county-fair-schedule/
LOCATION:Washington County Expo\, 1305 E. Blue Bell Rd.\, Brenham\, TX\, 77833\, United States
CATEGORIES:Bulletin Board
ATTACH;FMTTYPE=image/png:https://kwhi.com/wp-content/uploads/2022/08/wcf-logo-1.png
END:VEVENT
BEGIN:VEVENT
DTSTART;TZID=America/Chicago:20220909T090000
DTEND;TZID=America/Chicago:20220909T170000
DTSTAMP:20260420T120907
CREATED:20220907T200327Z
LAST-MODIFIED:20220907T205952Z
UID:243391-1662714000-1662742800@kwhi.com
SUMMARY:Tailgate at Brenham National Bank
DESCRIPTION:
URL:https://kwhi.com/event/tailgate-at-brenham-national-bank/
LOCATION:TX
CATEGORIES:Bulletin Board
ATTACH;FMTTYPE=image/jpeg:https://kwhi.com/wp-content/uploads/2022/09/BNB-Tailgate-1.jpg
END:VEVENT
BEGIN:VEVENT
DTSTART;TZID=America/Chicago:20220909T100000
DTEND;TZID=America/Chicago:20220909T110000
DTSTAMP:20260420T120907
CREATED:20220823T202533Z
LAST-MODIFIED:20220823T202533Z
UID:242292-1662717600-1662721200@kwhi.com
SUMMARY:Women in Business Book Club Discussion
DESCRIPTION:
URL:https://kwhi.com/event/women-in-business-book-club-discussion/
LOCATION:The Gathery\, 103 E. Main St.\, Bellville\, TX\, 77418\, United States
CATEGORIES:Bulletin Board
ATTACH;FMTTYPE=image/jpeg:https://kwhi.com/wp-content/uploads/2022/08/women-in-business-sept-2.jpg
END:VEVENT
BEGIN:VEVENT
DTSTART;TZID=America/Chicago:20220909T110000
DTEND;TZID=America/Chicago:20220909T130000
DTSTAMP:20260420T120907
CREATED:20220822T203118Z
LAST-MODIFIED:20220822T203118Z
UID:242190-1662721200-1662728400@kwhi.com
SUMMARY:First Responders Appreciation Lunch
DESCRIPTION:
URL:https://kwhi.com/event/first-responders-appreciation-lunch/
LOCATION:Memorial Oaks Chapel\, 1306 W. Main Street\, Brenham\, TX\, 77833\, United States
CATEGORIES:Bulletin Board
ATTACH;FMTTYPE=image/jpeg:https://kwhi.com/wp-content/uploads/2022/08/first-responders-appre-day.jpg
END:VEVENT
END:VCALENDAR