BEGIN:VCALENDAR
VERSION:2.0
PRODID:-//KWHI.com - ECPv6.15.17.1//NONSGML v1.0//EN
CALSCALE:GREGORIAN
METHOD:PUBLISH
X-WR-CALNAME:KWHI.com
X-ORIGINAL-URL:https://kwhi.com
X-WR-CALDESC:Events for KWHI.com
REFRESH-INTERVAL;VALUE=DURATION:PT1H
X-Robots-Tag:noindex
X-PUBLISHED-TTL:PT1H
BEGIN:VTIMEZONE
TZID:America/Chicago
BEGIN:DAYLIGHT
TZOFFSETFROM:-0600
TZOFFSETTO:-0500
TZNAME:CDT
DTSTART:20210314T080000
END:DAYLIGHT
BEGIN:STANDARD
TZOFFSETFROM:-0500
TZOFFSETTO:-0600
TZNAME:CST
DTSTART:20211107T070000
END:STANDARD
BEGIN:DAYLIGHT
TZOFFSETFROM:-0600
TZOFFSETTO:-0500
TZNAME:CDT
DTSTART:20220313T080000
END:DAYLIGHT
BEGIN:STANDARD
TZOFFSETFROM:-0500
TZOFFSETTO:-0600
TZNAME:CST
DTSTART:20221106T070000
END:STANDARD
BEGIN:DAYLIGHT
TZOFFSETFROM:-0600
TZOFFSETTO:-0500
TZNAME:CDT
DTSTART:20230312T080000
END:DAYLIGHT
BEGIN:STANDARD
TZOFFSETFROM:-0500
TZOFFSETTO:-0600
TZNAME:CST
DTSTART:20231105T070000
END:STANDARD
END:VTIMEZONE
BEGIN:VEVENT
DTSTART;VALUE=DATE:20220921
DTEND;VALUE=DATE:20221006
DTSTAMP:20260419T234648
CREATED:20220921T195633Z
LAST-MODIFIED:20220921T195633Z
UID:244601-1663718400-1665014399@kwhi.com
SUMMARY:Blinn College District STUDY ABROAD (Inquiries)
DESCRIPTION:
URL:https://kwhi.com/event/blinn-college-district-study-abroad-inquiries/
LOCATION:TX\, United States
CATEGORIES:Bulletin Board
ATTACH;FMTTYPE=image/jpeg:https://kwhi.com/wp-content/uploads/2022/09/Study-abroad-Spain_SQ-002-1.jpg
END:VEVENT
BEGIN:VEVENT
DTSTART;VALUE=DATE:20220922
DTEND;VALUE=DATE:20221010
DTSTAMP:20260419T234648
CREATED:20220830T210749Z
LAST-MODIFIED:20220830T210749Z
UID:242836-1663804800-1665359999@kwhi.com
SUMMARY:Unity Theatre presents Crimes of the Heart-Comedy Drama
DESCRIPTION:
URL:https://kwhi.com/event/unity-theatre-presents-crimes-of-the-heart-comedy-drama/
LOCATION:Unity Theatre\, 300 Church Street\, Brenham\, TX\, 77833\, United States
CATEGORIES:Bulletin Board
ATTACH;FMTTYPE=image/jpeg:https://kwhi.com/wp-content/uploads/2022/08/crimes-of-the-heart.jpg
END:VEVENT
BEGIN:VEVENT
DTSTART;VALUE=DATE:20221001
DTEND;VALUE=DATE:20221101
DTSTAMP:20260419T234648
CREATED:20220926T185744Z
LAST-MODIFIED:20220926T185744Z
UID:245011-1664582400-1667260799@kwhi.com
SUMMARY:October Bible Drive
DESCRIPTION:October Bible Drive  \n If it’s Bible and not “gooey\,” it’s ok to give\, even parts of old Bibles \n Annual October Bible Drives since 1992; over 80 countries served \n English and native language Bibles are in great demand around the world \n Mail LIBRARY RATE to BF or take to a year round collection center \n Master collection centers ship Bibles around the world or to ministries that do and it is simple to collect Bibles and be a collection center. \n A WANTED POSTER with a mug shot of the Bible and info sheet are available: www.bf.org/wantedposter.htm \nYEAR ROUND BIBLE NETWORKING\nwww.bf.org connects \n\nCollection centers ●Shippers ●Gatherers ●Publicity ●Transporters\n\nEveryone can help make connections and save Bibles from destruction and get them moving to hungry hearts around the world. Bibles freely go to many places including hospitals\, nursing homes\, rescue missions\, homeless shelters\, street ministries\, remote villages around the world\, homes\, churches\, schools\, bus stations\, railway stations\, prisons & jails\, and refugee camps. \nBible Foundation PO Box 908 Newberg\, OR 97132 (503) 538-4897 bf@bf.org \nFor more information visit www.bf.org
URL:https://kwhi.com/event/october-bible-drive-5/
LOCATION:TX\, United States
CATEGORIES:Bulletin Board
ATTACH;FMTTYPE=image/png:https://kwhi.com/wp-content/uploads/2022/09/october-bible-drive-1.png
END:VEVENT
BEGIN:VEVENT
DTSTART;VALUE=DATE:20221002
DTEND;VALUE=DATE:20221006
DTSTAMP:20260419T234648
CREATED:20220913T140030Z
LAST-MODIFIED:20220913T140030Z
UID:243817-1664668800-1665014399@kwhi.com
SUMMARY:All Around Cowboy Church 2022 Conference
DESCRIPTION:
URL:https://kwhi.com/event/all-around-cowboy-church-2022-conference/
LOCATION:All Around Cowboy Church (Sealy)\, 5812 Crosstree Lane\, Sealy\, TX\, 77474\, United States
CATEGORIES:Bulletin Board
ATTACH;FMTTYPE=image/png:https://kwhi.com/wp-content/uploads/2022/09/all-around-cowboy-ch-conference-1.png
END:VEVENT
BEGIN:VEVENT
DTSTART;TZID=America/Chicago:20221003T180000
DTEND;TZID=America/Chicago:20221003T200000
DTSTAMP:20260419T234648
CREATED:20220830T201232Z
LAST-MODIFIED:20220914T141121Z
UID:242816-1664820000-1664827200@kwhi.com
SUMMARY:Navasota Family Night
DESCRIPTION:
URL:https://kwhi.com/event/navasota-family-night/
LOCATION:Navasota Junior High\, 9038 TX-90\, Navasota\, TX\, 77868\, United States
CATEGORIES:Bulletin Board
ATTACH;FMTTYPE=image/png:https://kwhi.com/wp-content/uploads/2022/08/navasota-family-night.png
END:VEVENT
BEGIN:VEVENT
DTSTART;TZID=America/Chicago:20221003T180000
DTEND;TZID=America/Chicago:20221003T200000
DTSTAMP:20260419T234648
CREATED:20220923T205057Z
LAST-MODIFIED:20220923T205057Z
UID:244828-1664820000-1664827200@kwhi.com
SUMMARY:Hispanic Heritage Celebration
DESCRIPTION:
URL:https://kwhi.com/event/hispanic-heritage-celebration/
LOCATION:Navasota Junior High\, 9038 TX-90\, Navasota\, TX\, 77868\, United States
CATEGORIES:Bulletin Board
ATTACH;FMTTYPE=image/jpeg:https://kwhi.com/wp-content/uploads/2022/09/hispanic-heritage-navasota-1.jpg
END:VEVENT
END:VCALENDAR