BEGIN:VCALENDAR
VERSION:2.0
PRODID:-//KWHI.com - ECPv6.15.17.1//NONSGML v1.0//EN
CALSCALE:GREGORIAN
METHOD:PUBLISH
X-ORIGINAL-URL:https://kwhi.com
X-WR-CALDESC:Events for KWHI.com
REFRESH-INTERVAL;VALUE=DURATION:PT1H
X-Robots-Tag:noindex
X-PUBLISHED-TTL:PT1H
BEGIN:VTIMEZONE
TZID:America/Chicago
BEGIN:DAYLIGHT
TZOFFSETFROM:-0600
TZOFFSETTO:-0500
TZNAME:CDT
DTSTART:20210314T080000
END:DAYLIGHT
BEGIN:STANDARD
TZOFFSETFROM:-0500
TZOFFSETTO:-0600
TZNAME:CST
DTSTART:20211107T070000
END:STANDARD
BEGIN:DAYLIGHT
TZOFFSETFROM:-0600
TZOFFSETTO:-0500
TZNAME:CDT
DTSTART:20220313T080000
END:DAYLIGHT
BEGIN:STANDARD
TZOFFSETFROM:-0500
TZOFFSETTO:-0600
TZNAME:CST
DTSTART:20221106T070000
END:STANDARD
BEGIN:DAYLIGHT
TZOFFSETFROM:-0600
TZOFFSETTO:-0500
TZNAME:CDT
DTSTART:20230312T080000
END:DAYLIGHT
BEGIN:STANDARD
TZOFFSETFROM:-0500
TZOFFSETTO:-0600
TZNAME:CST
DTSTART:20231105T070000
END:STANDARD
END:VTIMEZONE
BEGIN:VEVENT
DTSTART;VALUE=DATE:20221118
DTEND;VALUE=DATE:20221216
DTSTAMP:20260421T142642
CREATED:20221118T214111Z
LAST-MODIFIED:20221118T214111Z
UID:249854-1668729600-1671148799@kwhi.com
SUMMARY:Bank of Brenham Annual Blanket Drive
DESCRIPTION:
URL:https://kwhi.com/event/bank-of-brenham-annual-blanket-drive/
LOCATION:Bank of Brenham (CADENCE Bank)\, 501 South Austin\, Brenham\, TX\, 77833\, United States
CATEGORIES:Bulletin Board
ATTACH;FMTTYPE=image/jpeg:https://kwhi.com/wp-content/uploads/2022/11/BoB-Blanket-Drive-002-2.jpg
END:VEVENT
BEGIN:VEVENT
DTSTART;VALUE=DATE:20221201
DTEND;VALUE=DATE:20221219
DTSTAMP:20260421T142642
CREATED:20221104T150841Z
LAST-MODIFIED:20221104T150841Z
UID:248592-1669852800-1671407999@kwhi.com
SUMMARY:Unity Theatre presents Coney Island Christmas
DESCRIPTION:
URL:https://kwhi.com/event/unity-theatre-presents-coney-island-christmas/
LOCATION:Unity Theatre\, 300 Church Street\, Brenham\, TX\, 77833\, United States
CATEGORIES:Bulletin Board
ATTACH;FMTTYPE=image/jpeg:https://kwhi.com/wp-content/uploads/2022/11/coney-island-christmas.jpg
END:VEVENT
BEGIN:VEVENT
DTSTART;VALUE=DATE:20221206
DTEND;VALUE=DATE:20221215
DTSTAMP:20260421T142642
CREATED:20221206T151607Z
LAST-MODIFIED:20221206T151607Z
UID:262027-1670284800-1671062399@kwhi.com
SUMMARY:Community Food Drive (Bellville)
DESCRIPTION:
URL:https://kwhi.com/event/community-food-drive-bellville/
LOCATION:Faith Academy of Bellville\, 12177 Highway 36\, Bellville\, TX\, 77418\, United States
CATEGORIES:Bulletin Board
ATTACH;FMTTYPE=image/png:https://kwhi.com/wp-content/uploads/2022/12/food-drive-bellville.png
END:VEVENT
BEGIN:VEVENT
DTSTART;VALUE=DATE:20221212
DTEND;VALUE=DATE:20221216
DTSTAMP:20260421T142642
CREATED:20221104T145955Z
LAST-MODIFIED:20221104T145955Z
UID:248587-1670803200-1671148799@kwhi.com
SUMMARY:Sexual Assault Advocate Training
DESCRIPTION:
URL:https://kwhi.com/event/sexual-assault-advocate-training-3/
LOCATION:TX\, United States
CATEGORIES:Bulletin Board
ATTACH;FMTTYPE=image/jpeg:https://kwhi.com/wp-content/uploads/2022/11/be-the-change-2.jpg
END:VEVENT
BEGIN:VEVENT
DTSTART;VALUE=DATE:20221212
DTEND;VALUE=DATE:20221219
DTSTAMP:20260421T142642
CREATED:20221212T223552Z
LAST-MODIFIED:20221212T223552Z
UID:262462-1670803200-1671407999@kwhi.com
SUMMARY:CASA Gnome for the Holiday Playhouse Drawing
DESCRIPTION:
URL:https://kwhi.com/event/casa-gnome-for-the-holiday-playhouse-drawing/
CATEGORIES:Bulletin Board
ATTACH;FMTTYPE=image/jpeg:https://kwhi.com/wp-content/uploads/2022/12/casa-gnome-for-the-holidays-flier-002.jpg
END:VEVENT
END:VCALENDAR