BEGIN:VCALENDAR
VERSION:2.0
PRODID:-//KWHI.com - ECPv6.15.17.1//NONSGML v1.0//EN
CALSCALE:GREGORIAN
METHOD:PUBLISH
X-ORIGINAL-URL:https://kwhi.com
X-WR-CALDESC:Events for KWHI.com
REFRESH-INTERVAL;VALUE=DURATION:PT1H
X-Robots-Tag:noindex
X-PUBLISHED-TTL:PT1H
BEGIN:VTIMEZONE
TZID:America/Chicago
BEGIN:DAYLIGHT
TZOFFSETFROM:-0600
TZOFFSETTO:-0500
TZNAME:CDT
DTSTART:20220313T080000
END:DAYLIGHT
BEGIN:STANDARD
TZOFFSETFROM:-0500
TZOFFSETTO:-0600
TZNAME:CST
DTSTART:20221106T070000
END:STANDARD
BEGIN:DAYLIGHT
TZOFFSETFROM:-0600
TZOFFSETTO:-0500
TZNAME:CDT
DTSTART:20230312T080000
END:DAYLIGHT
BEGIN:STANDARD
TZOFFSETFROM:-0500
TZOFFSETTO:-0600
TZNAME:CST
DTSTART:20231105T070000
END:STANDARD
BEGIN:DAYLIGHT
TZOFFSETFROM:-0600
TZOFFSETTO:-0500
TZNAME:CDT
DTSTART:20240310T080000
END:DAYLIGHT
BEGIN:STANDARD
TZOFFSETFROM:-0500
TZOFFSETTO:-0600
TZNAME:CST
DTSTART:20241103T070000
END:STANDARD
END:VTIMEZONE
BEGIN:VEVENT
DTSTART;VALUE=DATE:20230105
DTEND;VALUE=DATE:20230302
DTSTAMP:20260423T094947
CREATED:20230105T204228Z
LAST-MODIFIED:20230105T204228Z
UID:283645-1672876800-1677715199@kwhi.com
SUMMARY:Tomato and Pepper Plant Sale
DESCRIPTION:
URL:https://kwhi.com/event/tomato-and-pepper-plant-sale/
LOCATION:Texas A&M AgriLife Extension (Washington County)\, 1305 East Blue Bell Road\, Brenham\, TX\, 77833\, United States
CATEGORIES:Bulletin Board
ATTACH;FMTTYPE=image/jpeg:https://kwhi.com/wp-content/uploads/2023/01/plant-sale-Picture1-5.jpg
END:VEVENT
BEGIN:VEVENT
DTSTART;VALUE=DATE:20230210
DTEND;VALUE=DATE:20230301
DTSTAMP:20260423T094947
CREATED:20230210T161912Z
LAST-MODIFIED:20230210T161912Z
UID:286903-1675987200-1677628799@kwhi.com
SUMMARY:Spring\, Lawn\, Landscape\, and Garden Soil Testing Campaign
DESCRIPTION:
URL:https://kwhi.com/event/spring-lawn-landscape-and-garden-soil-testing-campaign/
LOCATION:TX\, United States
CATEGORIES:Bulletin Board
ATTACH;FMTTYPE=image/png:https://kwhi.com/wp-content/uploads/2023/02/soil-testing-campaign.png
END:VEVENT
BEGIN:VEVENT
DTSTART;VALUE=DATE:20230214
DTEND;VALUE=DATE:20230215
DTSTAMP:20260423T094947
CREATED:20221111T212522Z
LAST-MODIFIED:20221111T212522Z
UID:249406-1676332800-1676419199@kwhi.com
SUMMARY:Bunco Night
DESCRIPTION:Whether it be girls’ night out\, mom’s night out or just date night come out and join us for a night of fun\, laughter and good friendships. \n@ Brenham Elks Lodge  \nSecond Tuesday of each month @ 6:30pm. Bring a gift and a finger food of your choice if you would like. $5.00 a person to play. If the men would like to join\, that’s fine too.
URL:https://kwhi.com/event/bunco-night-3/
LOCATION:Brenham Elks Lodge\, 400 E. Germania\, Brenham\, TX\, 77833\, United States
CATEGORIES:Bulletin Board
ATTACH;FMTTYPE=image/png:https://kwhi.com/wp-content/uploads/2022/11/bunco-night-Picture1.png
END:VEVENT
BEGIN:VEVENT
DTSTART;VALUE=DATE:20230214
DTEND;VALUE=DATE:20230215
DTSTAMP:20260423T094947
CREATED:20230209T213220Z
LAST-MODIFIED:20230209T213913Z
UID:286849-1676332800-1676419199@kwhi.com
SUMMARY:Republican Club of Washington County Meeting
DESCRIPTION:The Republican Club of Washington County monthly general meeting is Tuesday\, February 14th at the Cannery Kitchen\, registration begins at 5:30 / dinner at 6:00 followed by the meeting at 6:45\, to reserve a meal ($15) call 979 251-2794.  The speaker will be Tom Maynard\, member of Texas State Board of Education speaking on Texas Education
URL:https://kwhi.com/event/republican-club-of-washington-county-meeting-2/
LOCATION:Cannery Kitchen\, 314 East Alamo\, Brenham\, TX\, 77833\, United States
CATEGORIES:Bulletin Board
ATTACH;FMTTYPE=image/jpeg:https://kwhi.com/wp-content/uploads/2023/02/wc-republican-club-Picture1.jpg
END:VEVENT
BEGIN:VEVENT
DTSTART;TZID=America/Chicago:20230214T110000
DTEND;TZID=America/Chicago:20230214T151500
DTSTAMP:20260423T094947
CREATED:20230126T211344Z
LAST-MODIFIED:20230126T211344Z
UID:285717-1676372400-1676387700@kwhi.com
SUMMARY:Washington County Extension Office Blood Drive
DESCRIPTION:
URL:https://kwhi.com/event/washington-county-extension-office-blood-drive/
LOCATION:TX
CATEGORIES:Bulletin Board
ATTACH;FMTTYPE=image/png:https://kwhi.com/wp-content/uploads/2023/01/blood-drive-feb-14.png
END:VEVENT
BEGIN:VEVENT
DTSTART;TZID=America/Chicago:20230214T130000
DTEND;TZID=America/Chicago:20230214T190000
DTSTAMP:20260423T094947
CREATED:20230213T210020Z
LAST-MODIFIED:20230213T210020Z
UID:287128-1676379600-1676401200@kwhi.com
SUMMARY:Lions Club-Bellville hosting a Blood Drive
DESCRIPTION:
URL:https://kwhi.com/event/lions-club-bellville-hosting-a-blood-drive/
LOCATION:Concordia Hall\, 925 South Tesch Street\, Bellville\, TX\, 77418\, United States
CATEGORIES:Bulletin Board
ATTACH;FMTTYPE=image/jpeg:https://kwhi.com/wp-content/uploads/2023/02/give-blood-feb-14.jpg
END:VEVENT
END:VCALENDAR